BEGIN:VCALENDAR
VERSION:2.0
PRODID:-//First Rochester - ECPv6.15.20//NONSGML v1.0//EN
CALSCALE:GREGORIAN
METHOD:PUBLISH
X-WR-CALNAME:First Rochester
X-ORIGINAL-URL:https://rochesterfbc.org
X-WR-CALDESC:Events for First Rochester
REFRESH-INTERVAL;VALUE=DURATION:PT1H
X-Robots-Tag:noindex
X-PUBLISHED-TTL:PT1H
BEGIN:VTIMEZONE
TZID:America/New_York
BEGIN:DAYLIGHT
TZOFFSETFROM:-0500
TZOFFSETTO:-0400
TZNAME:EDT
DTSTART:20260308T070000
END:DAYLIGHT
BEGIN:STANDARD
TZOFFSETFROM:-0400
TZOFFSETTO:-0500
TZNAME:EST
DTSTART:20261101T060000
END:STANDARD
BEGIN:DAYLIGHT
TZOFFSETFROM:-0500
TZOFFSETTO:-0400
TZNAME:EDT
DTSTART:20270314T070000
END:DAYLIGHT
BEGIN:STANDARD
TZOFFSETFROM:-0400
TZOFFSETTO:-0500
TZNAME:EST
DTSTART:20271107T060000
END:STANDARD
BEGIN:DAYLIGHT
TZOFFSETFROM:-0500
TZOFFSETTO:-0400
TZNAME:EDT
DTSTART:20280312T070000
END:DAYLIGHT
BEGIN:STANDARD
TZOFFSETFROM:-0400
TZOFFSETTO:-0500
TZNAME:EST
DTSTART:20281105T060000
END:STANDARD
END:VTIMEZONE
BEGIN:VEVENT
DTSTART;TZID=America/New_York:20271014T113000
DTEND;TZID=America/New_York:20271014T133000
DTSTAMP:20260419T160802
CREATED:20260418T145256Z
LAST-MODIFIED:20260418T145321Z
UID:10004216-1823513400-1823520600@rochesterfbc.org
SUMMARY:OWLS - Older Wiser Learning Seniors
DESCRIPTION:Programs details to come \n  \n 
URL:https://rochesterfbc.org/event/owls-older-wiser-learning-seniors-may-2-2/2027-10-14/
END:VEVENT
BEGIN:VEVENT
DTSTART;TZID=America/New_York:20271017T094000
DTEND;TZID=America/New_York:20271017T120000
DTSTAMP:20260419T160802
CREATED:20260408T215334Z
LAST-MODIFIED:20260408T215336Z
UID:10003910-1823766000-1823774400@rochesterfbc.org
SUMMARY:Nursery Open
DESCRIPTION:Each week between 9:40 AM and ~12:00 PM\, our nursery will be open for children birth to Pre-K.
URL:https://rochesterfbc.org/event/nursery-opens-2/2027-10-17/
END:VEVENT
BEGIN:VEVENT
DTSTART;TZID=America/New_York:20271017T100000
DTEND;TZID=America/New_York:20271017T110000
DTSTAMP:20260419T160802
CREATED:20240830T202337Z
LAST-MODIFIED:20240830T202337Z
UID:10001792-1823767200-1823770800@rochesterfbc.org
SUMMARY:Worship
DESCRIPTION:
URL:https://rochesterfbc.org/event/worship/2027-10-17/
END:VEVENT
BEGIN:VEVENT
DTSTART;TZID=America/New_York:20271017T113000
DTEND;TZID=America/New_York:20271017T121000
DTSTAMP:20260419T160802
CREATED:20260418T150335Z
LAST-MODIFIED:20260418T150516Z
UID:10004423-1823772600-1823775000@rochesterfbc.org
SUMMARY:Mission Meeting
DESCRIPTION:Join our Mission Team in the library after a brief time of Fellowship in the Garden Room.  They will discuss and plan various local mission intiatives for First Rochester to engage with the community.  They also determine support for strategic Associations as well as our International Ministries focus\, Lance and Christiana Muteyo.
URL:https://rochesterfbc.org/event/mission-meeting-3/2027-10-17/
END:VEVENT
BEGIN:VEVENT
DTSTART;TZID=America/New_York:20271018T180000
DTEND;TZID=America/New_York:20271018T190000
DTSTAMP:20260419T160802
CREATED:20230825T233604Z
LAST-MODIFIED:20240106T135849Z
UID:10000684-1823882400-1823886000@rochesterfbc.org
SUMMARY:Trustees Mtg.
DESCRIPTION:The Board of Trustee which oversee the campus and financies of the church meet monthly on the Third Monday.
URL:https://rochesterfbc.org/event/trustees-mtg/2027-10-18/
ATTACH;FMTTYPE=image/jpeg:https://rochesterfbc.org/wp-content/uploads/2023/08/calculator.jpg
END:VEVENT
BEGIN:VEVENT
DTSTART;TZID=America/New_York:20271019T180000
DTEND;TZID=America/New_York:20271019T193000
DTSTAMP:20260419T160802
CREATED:20250622T172005Z
LAST-MODIFIED:20250622T172120Z
UID:10000889-1823968800-1823974200@rochesterfbc.org
SUMMARY:Church Council
DESCRIPTION:The leadership of the church meet on the third Tuesday of the month to share the work of their groups\, special iniatives\, and to vote on various happenings of the church. The council meetings are open to all. If you have a topic you would like to discuss\, please reach out to the church office so that you can be placed on the agenda.
URL:https://rochesterfbc.org/event/church-council-2-3-2/2027-10-19/
ATTACH;FMTTYPE=image/jpeg:https://rochesterfbc.org/wp-content/uploads/2023/08/Church-Council.jpg
END:VEVENT
BEGIN:VEVENT
DTSTART;TZID=America/New_York:20271021T113000
DTEND;TZID=America/New_York:20271021T133000
DTSTAMP:20260419T160802
CREATED:20260418T145256Z
LAST-MODIFIED:20260418T145321Z
UID:10004217-1824118200-1824125400@rochesterfbc.org
SUMMARY:OWLS - Older Wiser Learning Seniors
DESCRIPTION:Programs details to come \n  \n 
URL:https://rochesterfbc.org/event/owls-older-wiser-learning-seniors-may-2-2/2027-10-21/
END:VEVENT
BEGIN:VEVENT
DTSTART;TZID=America/New_York:20271024T094000
DTEND;TZID=America/New_York:20271024T120000
DTSTAMP:20260419T160802
CREATED:20260408T215334Z
LAST-MODIFIED:20260408T215336Z
UID:10003911-1824370800-1824379200@rochesterfbc.org
SUMMARY:Nursery Open
DESCRIPTION:Each week between 9:40 AM and ~12:00 PM\, our nursery will be open for children birth to Pre-K.
URL:https://rochesterfbc.org/event/nursery-opens-2/2027-10-24/
END:VEVENT
BEGIN:VEVENT
DTSTART;TZID=America/New_York:20271024T100000
DTEND;TZID=America/New_York:20271024T110000
DTSTAMP:20260419T160802
CREATED:20240830T202337Z
LAST-MODIFIED:20240830T202337Z
UID:10001793-1824372000-1824375600@rochesterfbc.org
SUMMARY:Worship
DESCRIPTION:
URL:https://rochesterfbc.org/event/worship/2027-10-24/
END:VEVENT
BEGIN:VEVENT
DTSTART;TZID=America/New_York:20271026T113000
DTEND;TZID=America/New_York:20271026T133000
DTSTAMP:20260419T160802
CREATED:20260110T160103Z
LAST-MODIFIED:20260110T160103Z
UID:10003725-1824550200-1824557400@rochesterfbc.org
SUMMARY:FBCR Book Club
DESCRIPTION:The Book Club meets\, generally on the 4th Tuesday of the month\, at 11:30 AM for a BYOB lunch (beverages provided) and fellowship with a discussion of each month’s book at noon.  It concludes at 1:30 PM. \nThe book of the month is choosen at that meeting for the next month\, or shortly thereafter if availablility at local librarys need to take place. \nOccasional date changes do happen by concensus of participants.
URL:https://rochesterfbc.org/event/fbcr-book-club-6/2027-10-26/
END:VEVENT
BEGIN:VEVENT
DTSTART;TZID=America/New_York:20271028T113000
DTEND;TZID=America/New_York:20271028T133000
DTSTAMP:20260419T160802
CREATED:20260418T145256Z
LAST-MODIFIED:20260418T145321Z
UID:10004218-1824723000-1824730200@rochesterfbc.org
SUMMARY:OWLS - Older Wiser Learning Seniors
DESCRIPTION:Programs details to come \n  \n 
URL:https://rochesterfbc.org/event/owls-older-wiser-learning-seniors-may-2-2/2027-10-28/
END:VEVENT
BEGIN:VEVENT
DTSTART;TZID=America/New_York:20271031T094000
DTEND;TZID=America/New_York:20271031T120000
DTSTAMP:20260419T160802
CREATED:20260408T215334Z
LAST-MODIFIED:20260408T215336Z
UID:10003912-1824975600-1824984000@rochesterfbc.org
SUMMARY:Nursery Open
DESCRIPTION:Each week between 9:40 AM and ~12:00 PM\, our nursery will be open for children birth to Pre-K.
URL:https://rochesterfbc.org/event/nursery-opens-2/2027-10-31/
END:VEVENT
BEGIN:VEVENT
DTSTART;TZID=America/New_York:20271031T100000
DTEND;TZID=America/New_York:20271031T110000
DTSTAMP:20260419T160802
CREATED:20240830T202337Z
LAST-MODIFIED:20240830T202337Z
UID:10001794-1824976800-1824980400@rochesterfbc.org
SUMMARY:Worship
DESCRIPTION:
URL:https://rochesterfbc.org/event/worship/2027-10-31/
END:VEVENT
BEGIN:VEVENT
DTSTART;TZID=America/New_York:20271031T103500
DTEND;TZID=America/New_York:20271031T113000
DTSTAMP:20260419T160802
CREATED:20260418T151533Z
LAST-MODIFIED:20260418T151644Z
UID:10004529-1824978900-1824982200@rochesterfbc.org
SUMMARY:Fifth Sunday Mission Project
DESCRIPTION:On Fifth Sundays\, First Rochester works together at the end of a shortened worship service in some way to benefit a local non-profit organization.  I the past we have packed kits for Church World Service\, assembled both snack kits and hygiene kits for Cameron Community Ministries and we have packed Street Ministry hygiene kits for House of Mercy.
URL:https://rochesterfbc.org/event/fifth-sunday-mission-project/2027-10-31/
END:VEVENT
BEGIN:VEVENT
DTSTART;TZID=America/New_York:20271104T113000
DTEND;TZID=America/New_York:20271104T133000
DTSTAMP:20260419T160802
CREATED:20260418T145256Z
LAST-MODIFIED:20260418T145321Z
UID:10004219-1825327800-1825335000@rochesterfbc.org
SUMMARY:OWLS - Older Wiser Learning Seniors
DESCRIPTION:Programs details to come \n  \n 
URL:https://rochesterfbc.org/event/owls-older-wiser-learning-seniors-may-2-2/2027-11-04/
END:VEVENT
BEGIN:VEVENT
DTSTART;VALUE=DATE:20271107
DTEND;VALUE=DATE:20271109
DTSTAMP:20260419T160803
CREATED:20260418T152350Z
LAST-MODIFIED:20260418T152544Z
UID:10004563-1825549200-1825635599@rochesterfbc.org
SUMMARY:Communion Sunday
DESCRIPTION:
URL:https://rochesterfbc.org/event/communion-sunday/2027-11-07/
END:VEVENT
BEGIN:VEVENT
DTSTART;TZID=America/New_York:20271107T094000
DTEND;TZID=America/New_York:20271107T120000
DTSTAMP:20260419T160803
CREATED:20260408T215334Z
LAST-MODIFIED:20260408T215336Z
UID:10003913-1825580400-1825588800@rochesterfbc.org
SUMMARY:Nursery Open
DESCRIPTION:Each week between 9:40 AM and ~12:00 PM\, our nursery will be open for children birth to Pre-K.
URL:https://rochesterfbc.org/event/nursery-opens-2/2027-11-07/
END:VEVENT
BEGIN:VEVENT
DTSTART;TZID=America/New_York:20271107T100000
DTEND;TZID=America/New_York:20271107T110000
DTSTAMP:20260419T160803
CREATED:20240830T202337Z
LAST-MODIFIED:20240830T202337Z
UID:10001795-1825581600-1825585200@rochesterfbc.org
SUMMARY:Worship
DESCRIPTION:
URL:https://rochesterfbc.org/event/worship/2027-11-07/
END:VEVENT
BEGIN:VEVENT
DTSTART;TZID=America/New_York:20271111T113000
DTEND;TZID=America/New_York:20271111T133000
DTSTAMP:20260419T160803
CREATED:20260418T145256Z
LAST-MODIFIED:20260418T145321Z
UID:10004220-1825932600-1825939800@rochesterfbc.org
SUMMARY:OWLS - Older Wiser Learning Seniors
DESCRIPTION:Programs details to come \n  \n 
URL:https://rochesterfbc.org/event/owls-older-wiser-learning-seniors-may-2-2/2027-11-11/
END:VEVENT
BEGIN:VEVENT
DTSTART;TZID=America/New_York:20271114T094000
DTEND;TZID=America/New_York:20271114T120000
DTSTAMP:20260419T160803
CREATED:20260408T215334Z
LAST-MODIFIED:20260408T215336Z
UID:10003914-1826185200-1826193600@rochesterfbc.org
SUMMARY:Nursery Open
DESCRIPTION:Each week between 9:40 AM and ~12:00 PM\, our nursery will be open for children birth to Pre-K.
URL:https://rochesterfbc.org/event/nursery-opens-2/2027-11-14/
END:VEVENT
BEGIN:VEVENT
DTSTART;TZID=America/New_York:20271114T100000
DTEND;TZID=America/New_York:20271114T110000
DTSTAMP:20260419T160803
CREATED:20240830T202337Z
LAST-MODIFIED:20240830T202337Z
UID:10001796-1826186400-1826190000@rochesterfbc.org
SUMMARY:Worship
DESCRIPTION:
URL:https://rochesterfbc.org/event/worship/2027-11-14/
END:VEVENT
BEGIN:VEVENT
DTSTART;TZID=America/New_York:20271115T180000
DTEND;TZID=America/New_York:20271115T190000
DTSTAMP:20260419T160803
CREATED:20230825T233604Z
LAST-MODIFIED:20240106T135849Z
UID:10000685-1826301600-1826305200@rochesterfbc.org
SUMMARY:Trustees Mtg.
DESCRIPTION:The Board of Trustee which oversee the campus and financies of the church meet monthly on the Third Monday.
URL:https://rochesterfbc.org/event/trustees-mtg/2027-11-15/
ATTACH;FMTTYPE=image/jpeg:https://rochesterfbc.org/wp-content/uploads/2023/08/calculator.jpg
END:VEVENT
BEGIN:VEVENT
DTSTART;TZID=America/New_York:20271116T180000
DTEND;TZID=America/New_York:20271116T193000
DTSTAMP:20260419T160803
CREATED:20250622T172005Z
LAST-MODIFIED:20250622T172120Z
UID:10000890-1826388000-1826393400@rochesterfbc.org
SUMMARY:Church Council
DESCRIPTION:The leadership of the church meet on the third Tuesday of the month to share the work of their groups\, special iniatives\, and to vote on various happenings of the church. The council meetings are open to all. If you have a topic you would like to discuss\, please reach out to the church office so that you can be placed on the agenda.
URL:https://rochesterfbc.org/event/church-council-2-3-2/2027-11-16/
ATTACH;FMTTYPE=image/jpeg:https://rochesterfbc.org/wp-content/uploads/2023/08/Church-Council.jpg
END:VEVENT
BEGIN:VEVENT
DTSTART;TZID=America/New_York:20271118T113000
DTEND;TZID=America/New_York:20271118T133000
DTSTAMP:20260419T160803
CREATED:20260418T145256Z
LAST-MODIFIED:20260418T145321Z
UID:10004221-1826537400-1826544600@rochesterfbc.org
SUMMARY:OWLS - Older Wiser Learning Seniors
DESCRIPTION:Programs details to come \n  \n 
URL:https://rochesterfbc.org/event/owls-older-wiser-learning-seniors-may-2-2/2027-11-18/
END:VEVENT
BEGIN:VEVENT
DTSTART;TZID=America/New_York:20271121T094000
DTEND;TZID=America/New_York:20271121T120000
DTSTAMP:20260419T160803
CREATED:20260408T215334Z
LAST-MODIFIED:20260408T215336Z
UID:10003915-1826790000-1826798400@rochesterfbc.org
SUMMARY:Nursery Open
DESCRIPTION:Each week between 9:40 AM and ~12:00 PM\, our nursery will be open for children birth to Pre-K.
URL:https://rochesterfbc.org/event/nursery-opens-2/2027-11-21/
END:VEVENT
BEGIN:VEVENT
DTSTART;TZID=America/New_York:20271121T100000
DTEND;TZID=America/New_York:20271121T110000
DTSTAMP:20260419T160803
CREATED:20240830T202337Z
LAST-MODIFIED:20240830T202337Z
UID:10001797-1826791200-1826794800@rochesterfbc.org
SUMMARY:Worship
DESCRIPTION:
URL:https://rochesterfbc.org/event/worship/2027-11-21/
END:VEVENT
BEGIN:VEVENT
DTSTART;TZID=America/New_York:20271121T113000
DTEND;TZID=America/New_York:20271121T121000
DTSTAMP:20260419T160803
CREATED:20260418T150335Z
LAST-MODIFIED:20260418T150516Z
UID:10004424-1826796600-1826799000@rochesterfbc.org
SUMMARY:Mission Meeting
DESCRIPTION:Join our Mission Team in the library after a brief time of Fellowship in the Garden Room.  They will discuss and plan various local mission intiatives for First Rochester to engage with the community.  They also determine support for strategic Associations as well as our International Ministries focus\, Lance and Christiana Muteyo.
URL:https://rochesterfbc.org/event/mission-meeting-3/2027-11-21/
END:VEVENT
BEGIN:VEVENT
DTSTART;TZID=America/New_York:20271123T113000
DTEND;TZID=America/New_York:20271123T133000
DTSTAMP:20260419T160803
CREATED:20260110T160103Z
LAST-MODIFIED:20260110T160103Z
UID:10003726-1826969400-1826976600@rochesterfbc.org
SUMMARY:FBCR Book Club
DESCRIPTION:The Book Club meets\, generally on the 4th Tuesday of the month\, at 11:30 AM for a BYOB lunch (beverages provided) and fellowship with a discussion of each month’s book at noon.  It concludes at 1:30 PM. \nThe book of the month is choosen at that meeting for the next month\, or shortly thereafter if availablility at local librarys need to take place. \nOccasional date changes do happen by concensus of participants.
URL:https://rochesterfbc.org/event/fbcr-book-club-6/2027-11-23/
END:VEVENT
BEGIN:VEVENT
DTSTART;TZID=America/New_York:20271125T113000
DTEND;TZID=America/New_York:20271125T133000
DTSTAMP:20260419T160803
CREATED:20260418T145256Z
LAST-MODIFIED:20260418T145321Z
UID:10004222-1827142200-1827149400@rochesterfbc.org
SUMMARY:OWLS - Older Wiser Learning Seniors
DESCRIPTION:Programs details to come \n  \n 
URL:https://rochesterfbc.org/event/owls-older-wiser-learning-seniors-may-2-2/2027-11-25/
END:VEVENT
BEGIN:VEVENT
DTSTART;TZID=America/New_York:20271128T094000
DTEND;TZID=America/New_York:20271128T120000
DTSTAMP:20260419T160803
CREATED:20260408T215334Z
LAST-MODIFIED:20260408T215336Z
UID:10003916-1827394800-1827403200@rochesterfbc.org
SUMMARY:Nursery Open
DESCRIPTION:Each week between 9:40 AM and ~12:00 PM\, our nursery will be open for children birth to Pre-K.
URL:https://rochesterfbc.org/event/nursery-opens-2/2027-11-28/
END:VEVENT
END:VCALENDAR