BEGIN:VCALENDAR
VERSION:2.0
PRODID:-//First Rochester - ECPv6.15.20//NONSGML v1.0//EN
CALSCALE:GREGORIAN
METHOD:PUBLISH
X-WR-CALNAME:First Rochester
X-ORIGINAL-URL:https://rochesterfbc.org
X-WR-CALDESC:Events for First Rochester
REFRESH-INTERVAL;VALUE=DURATION:PT1H
X-Robots-Tag:noindex
X-PUBLISHED-TTL:PT1H
BEGIN:VTIMEZONE
TZID:America/New_York
BEGIN:DAYLIGHT
TZOFFSETFROM:-0500
TZOFFSETTO:-0400
TZNAME:EDT
DTSTART:20220313T070000
END:DAYLIGHT
BEGIN:STANDARD
TZOFFSETFROM:-0400
TZOFFSETTO:-0500
TZNAME:EST
DTSTART:20221106T060000
END:STANDARD
BEGIN:DAYLIGHT
TZOFFSETFROM:-0500
TZOFFSETTO:-0400
TZNAME:EDT
DTSTART:20230312T070000
END:DAYLIGHT
BEGIN:STANDARD
TZOFFSETFROM:-0400
TZOFFSETTO:-0500
TZNAME:EST
DTSTART:20231105T060000
END:STANDARD
BEGIN:DAYLIGHT
TZOFFSETFROM:-0500
TZOFFSETTO:-0400
TZNAME:EDT
DTSTART:20240310T070000
END:DAYLIGHT
BEGIN:STANDARD
TZOFFSETFROM:-0400
TZOFFSETTO:-0500
TZNAME:EST
DTSTART:20241103T060000
END:STANDARD
END:VTIMEZONE
BEGIN:VEVENT
DTSTART;TZID=America/New_York:20231112T100000
DTEND;TZID=America/New_York:20231112T110000
DTSTAMP:20260419T203733
CREATED:20230825T214056Z
LAST-MODIFIED:20230825T224139Z
UID:10000022-1699783200-1699786800@rochesterfbc.org
SUMMARY:Sunday Worship
DESCRIPTION:Join us at 10 AM for worship.  Children’s Programs including instruction and music following the Children’s Time in worship.
URL:https://rochesterfbc.org/event/sunday-worship-3-2/2023-11-12/
ATTACH;FMTTYPE=image/jpeg:https://rochesterfbc.org/wp-content/uploads/2023/08/Cropped-Cross-wide-750x450-1.jpg
END:VEVENT
BEGIN:VEVENT
DTSTART;TZID=America/New_York:20231112T091500
DTEND;TZID=America/New_York:20231112T094500
DTSTAMP:20260419T203733
CREATED:20230825T230531Z
LAST-MODIFIED:20230825T230817Z
UID:10000150-1699780500-1699782300@rochesterfbc.org
SUMMARY:Volunteer Choir Rehearsal
DESCRIPTION:If you would like to join our Volunteer Choir that will sing in worship two Sundays a month\, please contact Henry Griffin\, our music director.  Rehearsal begins on September 10 and will be from 9:15 AM to 9:45 AM on Sunday before worship. Our Section Leaders will assist with the volunteers in their parts.
URL:https://rochesterfbc.org/event/volunteer-choir-rehearsal/2023-11-12/
END:VEVENT
BEGIN:VEVENT
DTSTART;VALUE=DATE:20231112
DTEND;VALUE=DATE:20231114
DTSTAMP:20260419T203733
CREATED:20231018T133817Z
LAST-MODIFIED:20231018T133902Z
UID:10000591-1699750800-1699837199@rochesterfbc.org
SUMMARY:Commitment Sunday
DESCRIPTION:
URL:https://rochesterfbc.org/event/commitment-sunday/
END:VEVENT
BEGIN:VEVENT
DTSTART;VALUE=DATE:20231112
DTEND;VALUE=DATE:20231114
DTSTAMP:20260419T203733
CREATED:20231018T133448Z
LAST-MODIFIED:20231018T133701Z
UID:10000590-1699750800-1699837199@rochesterfbc.org
SUMMARY:Jazz 'N Jeans
DESCRIPTION:A special music centered around jazz music worship serice.  This year featuring
URL:https://rochesterfbc.org/event/jazz-n-jeans/
END:VEVENT
BEGIN:VEVENT
DTSTART;TZID=America/New_York:20231108T191500
DTEND;TZID=America/New_York:20231108T194500
DTSTAMP:20260419T203733
CREATED:20231018T132132Z
LAST-MODIFIED:20231018T132132Z
UID:10000584-1699470900-1699472700@rochesterfbc.org
SUMMARY:Handbell Choir Rehearsal
DESCRIPTION:
URL:https://rochesterfbc.org/event/handbell-choir-rehearsal/2023-11-08/
ATTACH;FMTTYPE=image/jpeg:https://rochesterfbc.org/wp-content/uploads/2023/10/Hanbell-sq.jpg
END:VEVENT
BEGIN:VEVENT
DTSTART;TZID=America/New_York:20231108T180000
DTEND;TZID=America/New_York:20231108T190000
DTSTAMP:20260419T203733
CREATED:20230826T002643Z
LAST-MODIFIED:20230826T002745Z
UID:10000369-1699466400-1699470000@rochesterfbc.org
SUMMARY:Wednesday Study
DESCRIPTION:Gathering for study each Wednesday during the program year\, September through mid-June\, we will delve into a variety of topics including scrpture\, a variety of books on various faith or justice topics\, and  other creative study topics.
URL:https://rochesterfbc.org/event/wednesday-study/2023-11-08/
END:VEVENT
BEGIN:VEVENT
DTSTART;TZID=America/New_York:20231108T173000
DTEND;TZID=America/New_York:20231108T180000
DTSTAMP:20260419T203733
CREATED:20230825T222256Z
LAST-MODIFIED:20240921T150436Z
UID:10000534-1699464600-1699466400@rochesterfbc.org
SUMMARY:Wednesday Check-in
DESCRIPTION:Anyone who wishes may join us for a time together as we check-in with others on zoom throughout the year.
URL:https://rochesterfbc.org/event/wednesday-zoom-check-in/2023-11-08/
ATTACH;FMTTYPE=image/jpeg:https://rochesterfbc.org/wp-content/uploads/2023/08/Zoom-Connect.jpg
END:VEVENT
BEGIN:VEVENT
DTSTART;TZID=America/New_York:20231105T110000
DTEND;TZID=America/New_York:20231105T232000
DTSTAMP:20260419T203733
CREATED:20230825T232322Z
LAST-MODIFIED:20230825T232322Z
UID:10000288-1699182000-1699226400@rochesterfbc.org
SUMMARY:Community Time
DESCRIPTION:Following worship we gather in the Garden Room\, adjacent to the sanctuary for a time of coffee\, tea\, lemondae or other beverage and usually a treat. It is a time to get to know one another better\, catch up\, and share our lives with one another.
URL:https://rochesterfbc.org/event/community-time/2023-11-05/
END:VEVENT
BEGIN:VEVENT
DTSTART;TZID=America/New_York:20231105T103000
DTEND;TZID=America/New_York:20231105T120000
DTSTAMP:20260419T203733
CREATED:20230825T231327Z
LAST-MODIFIED:20240406T175239Z
UID:10000235-1699180200-1699185600@rochesterfbc.org
SUMMARY:Children's Programs
DESCRIPTION:Our children will begin in worship and depart after Children’s Time for Sunday School from around 10:30 am to 11:15 am. The will then sing and play instruments during Children’s Choir from 11:15 am to 12:00 pm most Sundays. (Exceptions may be made for various children’s or all church events.)
URL:https://rochesterfbc.org/event/childrens-programs/2023-11-05/
END:VEVENT
BEGIN:VEVENT
DTSTART;TZID=America/New_York:20231105T100000
DTEND;TZID=America/New_York:20231105T110000
DTSTAMP:20260419T203733
CREATED:20230825T214056Z
LAST-MODIFIED:20230825T224139Z
UID:10000021-1699178400-1699182000@rochesterfbc.org
SUMMARY:Sunday Worship
DESCRIPTION:Join us at 10 AM for worship.  Children’s Programs including instruction and music following the Children’s Time in worship.
URL:https://rochesterfbc.org/event/sunday-worship-3-2/2023-11-05/
ATTACH;FMTTYPE=image/jpeg:https://rochesterfbc.org/wp-content/uploads/2023/08/Cropped-Cross-wide-750x450-1.jpg
END:VEVENT
BEGIN:VEVENT
DTSTART;TZID=America/New_York:20231105T091500
DTEND;TZID=America/New_York:20231105T094500
DTSTAMP:20260419T203733
CREATED:20230825T230531Z
LAST-MODIFIED:20230825T230817Z
UID:10000149-1699175700-1699177500@rochesterfbc.org
SUMMARY:Volunteer Choir Rehearsal
DESCRIPTION:If you would like to join our Volunteer Choir that will sing in worship two Sundays a month\, please contact Henry Griffin\, our music director.  Rehearsal begins on September 10 and will be from 9:15 AM to 9:45 AM on Sunday before worship. Our Section Leaders will assist with the volunteers in their parts.
URL:https://rochesterfbc.org/event/volunteer-choir-rehearsal/2023-11-05/
END:VEVENT
BEGIN:VEVENT
DTSTART;TZID=America/New_York:20231101T191500
DTEND;TZID=America/New_York:20231101T194500
DTSTAMP:20260419T203733
CREATED:20231018T132132Z
LAST-MODIFIED:20231018T132132Z
UID:10000583-1698866100-1698867900@rochesterfbc.org
SUMMARY:Handbell Choir Rehearsal
DESCRIPTION:
URL:https://rochesterfbc.org/event/handbell-choir-rehearsal/2023-11-01/
ATTACH;FMTTYPE=image/jpeg:https://rochesterfbc.org/wp-content/uploads/2023/10/Hanbell-sq.jpg
END:VEVENT
BEGIN:VEVENT
DTSTART;TZID=America/New_York:20231101T180000
DTEND;TZID=America/New_York:20231101T190000
DTSTAMP:20260419T203733
CREATED:20230826T002643Z
LAST-MODIFIED:20230826T002745Z
UID:10000368-1698861600-1698865200@rochesterfbc.org
SUMMARY:Wednesday Study
DESCRIPTION:Gathering for study each Wednesday during the program year\, September through mid-June\, we will delve into a variety of topics including scrpture\, a variety of books on various faith or justice topics\, and  other creative study topics.
URL:https://rochesterfbc.org/event/wednesday-study/2023-11-01/
END:VEVENT
BEGIN:VEVENT
DTSTART;TZID=America/New_York:20231101T173000
DTEND;TZID=America/New_York:20231101T180000
DTSTAMP:20260419T203733
CREATED:20230825T222256Z
LAST-MODIFIED:20240921T150436Z
UID:10000533-1698859800-1698861600@rochesterfbc.org
SUMMARY:Wednesday Check-in
DESCRIPTION:Anyone who wishes may join us for a time together as we check-in with others on zoom throughout the year.
URL:https://rochesterfbc.org/event/wednesday-zoom-check-in/2023-11-01/
ATTACH;FMTTYPE=image/jpeg:https://rochesterfbc.org/wp-content/uploads/2023/08/Zoom-Connect.jpg
END:VEVENT
BEGIN:VEVENT
DTSTART;TZID=America/New_York:20231029T113000
DTEND;TZID=America/New_York:20231029T123000
DTSTAMP:20260419T203733
CREATED:20231014T171115Z
LAST-MODIFIED:20231014T171115Z
UID:10000581-1698579000-1698582600@rochesterfbc.org
SUMMARY:Trunk or Treat
DESCRIPTION:
URL:https://rochesterfbc.org/event/trunk-or-treat/
ATTACH;FMTTYPE=image/jpeg:https://rochesterfbc.org/wp-content/uploads/2023/10/trunk_3195c-e1696690311787.jpg
END:VEVENT
BEGIN:VEVENT
DTSTART;TZID=America/New_York:20231029T110000
DTEND;TZID=America/New_York:20231029T232000
DTSTAMP:20260419T203733
CREATED:20230825T232322Z
LAST-MODIFIED:20230825T232322Z
UID:10000287-1698577200-1698621600@rochesterfbc.org
SUMMARY:Community Time
DESCRIPTION:Following worship we gather in the Garden Room\, adjacent to the sanctuary for a time of coffee\, tea\, lemondae or other beverage and usually a treat. It is a time to get to know one another better\, catch up\, and share our lives with one another.
URL:https://rochesterfbc.org/event/community-time/2023-10-29/
END:VEVENT
BEGIN:VEVENT
DTSTART;TZID=America/New_York:20231029T103000
DTEND;TZID=America/New_York:20231029T120000
DTSTAMP:20260419T203733
CREATED:20230825T231327Z
LAST-MODIFIED:20240406T175239Z
UID:10000234-1698575400-1698580800@rochesterfbc.org
SUMMARY:Children's Programs
DESCRIPTION:Our children will begin in worship and depart after Children’s Time for Sunday School from around 10:30 am to 11:15 am. The will then sing and play instruments during Children’s Choir from 11:15 am to 12:00 pm most Sundays. (Exceptions may be made for various children’s or all church events.)
URL:https://rochesterfbc.org/event/childrens-programs/2023-10-29/
END:VEVENT
BEGIN:VEVENT
DTSTART;TZID=America/New_York:20231029T100000
DTEND;TZID=America/New_York:20231029T110000
DTSTAMP:20260419T203733
CREATED:20230825T214056Z
LAST-MODIFIED:20230825T224139Z
UID:10000020-1698573600-1698577200@rochesterfbc.org
SUMMARY:Sunday Worship
DESCRIPTION:Join us at 10 AM for worship.  Children’s Programs including instruction and music following the Children’s Time in worship.
URL:https://rochesterfbc.org/event/sunday-worship-3-2/2023-10-29/
ATTACH;FMTTYPE=image/jpeg:https://rochesterfbc.org/wp-content/uploads/2023/08/Cropped-Cross-wide-750x450-1.jpg
END:VEVENT
BEGIN:VEVENT
DTSTART;TZID=America/New_York:20231029T091500
DTEND;TZID=America/New_York:20231029T094500
DTSTAMP:20260419T203733
CREATED:20230825T230531Z
LAST-MODIFIED:20230825T230817Z
UID:10000148-1698570900-1698572700@rochesterfbc.org
SUMMARY:Volunteer Choir Rehearsal
DESCRIPTION:If you would like to join our Volunteer Choir that will sing in worship two Sundays a month\, please contact Henry Griffin\, our music director.  Rehearsal begins on September 10 and will be from 9:15 AM to 9:45 AM on Sunday before worship. Our Section Leaders will assist with the volunteers in their parts.
URL:https://rochesterfbc.org/event/volunteer-choir-rehearsal/2023-10-29/
END:VEVENT
BEGIN:VEVENT
DTSTART;VALUE=DATE:20231029
DTEND;VALUE=DATE:20231031
DTSTAMP:20260419T203733
CREATED:20231014T170345Z
LAST-MODIFIED:20231014T170502Z
UID:10000578-1698541200-1698627599@rochesterfbc.org
SUMMARY:Super Choral Sunday
DESCRIPTION:We will hear both our volunteer and children’s choirs!
URL:https://rochesterfbc.org/event/super-choral-sunday/
END:VEVENT
BEGIN:VEVENT
DTSTART;TZID=America/New_York:20231025T191500
DTEND;TZID=America/New_York:20231025T194500
DTSTAMP:20260419T203733
CREATED:20231018T132132Z
LAST-MODIFIED:20231018T132132Z
UID:10000582-1698261300-1698263100@rochesterfbc.org
SUMMARY:Handbell Choir Rehearsal
DESCRIPTION:
URL:https://rochesterfbc.org/event/handbell-choir-rehearsal/2023-10-25/
ATTACH;FMTTYPE=image/jpeg:https://rochesterfbc.org/wp-content/uploads/2023/10/Hanbell-sq.jpg
END:VEVENT
BEGIN:VEVENT
DTSTART;TZID=America/New_York:20231025T180000
DTEND;TZID=America/New_York:20231025T190000
DTSTAMP:20260419T203733
CREATED:20230826T002643Z
LAST-MODIFIED:20230826T002745Z
UID:10000367-1698256800-1698260400@rochesterfbc.org
SUMMARY:Wednesday Study
DESCRIPTION:Gathering for study each Wednesday during the program year\, September through mid-June\, we will delve into a variety of topics including scrpture\, a variety of books on various faith or justice topics\, and  other creative study topics.
URL:https://rochesterfbc.org/event/wednesday-study/2023-10-25/
END:VEVENT
BEGIN:VEVENT
DTSTART;TZID=America/New_York:20231025T173000
DTEND;TZID=America/New_York:20231025T180000
DTSTAMP:20260419T203733
CREATED:20230825T222256Z
LAST-MODIFIED:20240921T150436Z
UID:10000532-1698255000-1698256800@rochesterfbc.org
SUMMARY:Wednesday Check-in
DESCRIPTION:Anyone who wishes may join us for a time together as we check-in with others on zoom throughout the year.
URL:https://rochesterfbc.org/event/wednesday-zoom-check-in/2023-10-25/
ATTACH;FMTTYPE=image/jpeg:https://rochesterfbc.org/wp-content/uploads/2023/08/Zoom-Connect.jpg
END:VEVENT
BEGIN:VEVENT
DTSTART;TZID=America/New_York:20231022T110000
DTEND;TZID=America/New_York:20231022T232000
DTSTAMP:20260419T203733
CREATED:20230825T232322Z
LAST-MODIFIED:20230825T232322Z
UID:10000286-1697972400-1698016800@rochesterfbc.org
SUMMARY:Community Time
DESCRIPTION:Following worship we gather in the Garden Room\, adjacent to the sanctuary for a time of coffee\, tea\, lemondae or other beverage and usually a treat. It is a time to get to know one another better\, catch up\, and share our lives with one another.
URL:https://rochesterfbc.org/event/community-time/2023-10-22/
END:VEVENT
BEGIN:VEVENT
DTSTART;TZID=America/New_York:20231022T103000
DTEND;TZID=America/New_York:20231022T120000
DTSTAMP:20260419T203733
CREATED:20230825T231327Z
LAST-MODIFIED:20240406T175239Z
UID:10000233-1697970600-1697976000@rochesterfbc.org
SUMMARY:Children's Programs
DESCRIPTION:Our children will begin in worship and depart after Children’s Time for Sunday School from around 10:30 am to 11:15 am. The will then sing and play instruments during Children’s Choir from 11:15 am to 12:00 pm most Sundays. (Exceptions may be made for various children’s or all church events.)
URL:https://rochesterfbc.org/event/childrens-programs/2023-10-22/
END:VEVENT
BEGIN:VEVENT
DTSTART;TZID=America/New_York:20231022T100000
DTEND;TZID=America/New_York:20231022T110000
DTSTAMP:20260419T203733
CREATED:20230825T214056Z
LAST-MODIFIED:20230825T224139Z
UID:10000019-1697968800-1697972400@rochesterfbc.org
SUMMARY:Sunday Worship
DESCRIPTION:Join us at 10 AM for worship.  Children’s Programs including instruction and music following the Children’s Time in worship.
URL:https://rochesterfbc.org/event/sunday-worship-3-2/2023-10-22/
ATTACH;FMTTYPE=image/jpeg:https://rochesterfbc.org/wp-content/uploads/2023/08/Cropped-Cross-wide-750x450-1.jpg
END:VEVENT
BEGIN:VEVENT
DTSTART;TZID=America/New_York:20231022T091500
DTEND;TZID=America/New_York:20231022T094500
DTSTAMP:20260419T203733
CREATED:20230825T230531Z
LAST-MODIFIED:20230825T230817Z
UID:10000147-1697966100-1697967900@rochesterfbc.org
SUMMARY:Volunteer Choir Rehearsal
DESCRIPTION:If you would like to join our Volunteer Choir that will sing in worship two Sundays a month\, please contact Henry Griffin\, our music director.  Rehearsal begins on September 10 and will be from 9:15 AM to 9:45 AM on Sunday before worship. Our Section Leaders will assist with the volunteers in their parts.
URL:https://rochesterfbc.org/event/volunteer-choir-rehearsal/2023-10-22/
END:VEVENT
BEGIN:VEVENT
DTSTART;TZID=America/New_York:20231020T190000
DTEND;TZID=America/New_York:20231020T200000
DTSTAMP:20260419T203733
CREATED:20230826T004111Z
LAST-MODIFIED:20230826T004135Z
UID:10000451-1697828400-1697832000@rochesterfbc.org
SUMMARY:An Installation in a New Key: A Musical Welcome
DESCRIPTION:We plan to celebrate in a musical way Rev. Joanne Gilbert-Cannon as we officically install her as our senior pastor and welcome Henry Griffin our new music director to the Greater Rochester community. Beginning at 7:00pm and lasting an hour we will be celebrate them and our excitiment with prose\, scripture\, and music.
URL:https://rochesterfbc.org/event/an-installation-in-a-new-key-a-musical-welcome/
ATTACH;FMTTYPE=image/jpeg:https://rochesterfbc.org/wp-content/uploads/2023/08/An-Installation-in-a-New-Key.jpg
END:VEVENT
BEGIN:VEVENT
DTSTART;TZID=America/New_York:20231018T180000
DTEND;TZID=America/New_York:20231018T190000
DTSTAMP:20260419T203733
CREATED:20230923T131600Z
LAST-MODIFIED:20230923T131602Z
UID:10000366-1697652000-1697655600@rochesterfbc.org
SUMMARY:Wednesday Study - Tippett's Speaking of Faith continued
DESCRIPTION:Gathering for study each Wednesday during the program year\, September through mid-June\, we will delve into a variety of topics including scrpture\, a variety of books on various faith or justice topics\, and  other creative study topics. \nThis session we will continue discussing  Krista Tippett’s book: Speaking of Faith: Why Religion Matter’s and How To Talk About It.
URL:https://rochesterfbc.org/event/wednesday-study-6/
END:VEVENT
BEGIN:VEVENT
DTSTART;TZID=America/New_York:20231018T173000
DTEND;TZID=America/New_York:20231018T180000
DTSTAMP:20260419T203733
CREATED:20230825T222256Z
LAST-MODIFIED:20240921T150436Z
UID:10000531-1697650200-1697652000@rochesterfbc.org
SUMMARY:Wednesday Check-in
DESCRIPTION:Anyone who wishes may join us for a time together as we check-in with others on zoom throughout the year.
URL:https://rochesterfbc.org/event/wednesday-zoom-check-in/2023-10-18/
ATTACH;FMTTYPE=image/jpeg:https://rochesterfbc.org/wp-content/uploads/2023/08/Zoom-Connect.jpg
END:VEVENT
END:VCALENDAR