BEGIN:VCALENDAR
VERSION:2.0
PRODID:-//First Rochester - ECPv6.15.20//NONSGML v1.0//EN
CALSCALE:GREGORIAN
METHOD:PUBLISH
X-ORIGINAL-URL:https://rochesterfbc.org
X-WR-CALDESC:Events for First Rochester
REFRESH-INTERVAL;VALUE=DURATION:PT1H
X-Robots-Tag:noindex
X-PUBLISHED-TTL:PT1H
BEGIN:VTIMEZONE
TZID:America/New_York
BEGIN:DAYLIGHT
TZOFFSETFROM:-0500
TZOFFSETTO:-0400
TZNAME:EDT
DTSTART:20260308T070000
END:DAYLIGHT
BEGIN:STANDARD
TZOFFSETFROM:-0400
TZOFFSETTO:-0500
TZNAME:EST
DTSTART:20261101T060000
END:STANDARD
BEGIN:DAYLIGHT
TZOFFSETFROM:-0500
TZOFFSETTO:-0400
TZNAME:EDT
DTSTART:20270314T070000
END:DAYLIGHT
BEGIN:STANDARD
TZOFFSETFROM:-0400
TZOFFSETTO:-0500
TZNAME:EST
DTSTART:20271107T060000
END:STANDARD
BEGIN:DAYLIGHT
TZOFFSETFROM:-0500
TZOFFSETTO:-0400
TZNAME:EDT
DTSTART:20280312T070000
END:DAYLIGHT
BEGIN:STANDARD
TZOFFSETFROM:-0400
TZOFFSETTO:-0500
TZNAME:EST
DTSTART:20281105T060000
END:STANDARD
END:VTIMEZONE
BEGIN:VEVENT
DTSTART;TZID=America/New_York:20271114T094000
DTEND;TZID=America/New_York:20271114T120000
DTSTAMP:20260419T234532
CREATED:20260408T215334Z
LAST-MODIFIED:20260408T215336Z
UID:10003914-1826185200-1826193600@rochesterfbc.org
SUMMARY:Nursery Open
DESCRIPTION:Each week between 9:40 AM and ~12:00 PM\, our nursery will be open for children birth to Pre-K.
URL:https://rochesterfbc.org/event/nursery-opens-2/2027-11-14/
END:VEVENT
BEGIN:VEVENT
DTSTART;TZID=America/New_York:20271114T100000
DTEND;TZID=America/New_York:20271114T110000
DTSTAMP:20260419T234532
CREATED:20240830T202337Z
LAST-MODIFIED:20240830T202337Z
UID:10001796-1826186400-1826190000@rochesterfbc.org
SUMMARY:Worship
DESCRIPTION:
URL:https://rochesterfbc.org/event/worship/2027-11-14/
END:VEVENT
BEGIN:VEVENT
DTSTART;TZID=America/New_York:20271115T180000
DTEND;TZID=America/New_York:20271115T190000
DTSTAMP:20260419T234532
CREATED:20230825T233604Z
LAST-MODIFIED:20240106T135849Z
UID:10000685-1826301600-1826305200@rochesterfbc.org
SUMMARY:Trustees Mtg.
DESCRIPTION:The Board of Trustee which oversee the campus and financies of the church meet monthly on the Third Monday.
URL:https://rochesterfbc.org/event/trustees-mtg/2027-11-15/
ATTACH;FMTTYPE=image/jpeg:https://rochesterfbc.org/wp-content/uploads/2023/08/calculator.jpg
END:VEVENT
BEGIN:VEVENT
DTSTART;TZID=America/New_York:20271116T180000
DTEND;TZID=America/New_York:20271116T193000
DTSTAMP:20260419T234532
CREATED:20250622T172005Z
LAST-MODIFIED:20250622T172120Z
UID:10000890-1826388000-1826393400@rochesterfbc.org
SUMMARY:Church Council
DESCRIPTION:The leadership of the church meet on the third Tuesday of the month to share the work of their groups\, special iniatives\, and to vote on various happenings of the church. The council meetings are open to all. If you have a topic you would like to discuss\, please reach out to the church office so that you can be placed on the agenda.
URL:https://rochesterfbc.org/event/church-council-2-3-2/2027-11-16/
ATTACH;FMTTYPE=image/jpeg:https://rochesterfbc.org/wp-content/uploads/2023/08/Church-Council.jpg
END:VEVENT
BEGIN:VEVENT
DTSTART;TZID=America/New_York:20271118T113000
DTEND;TZID=America/New_York:20271118T133000
DTSTAMP:20260419T234532
CREATED:20260418T145256Z
LAST-MODIFIED:20260418T145321Z
UID:10004221-1826537400-1826544600@rochesterfbc.org
SUMMARY:OWLS - Older Wiser Learning Seniors
DESCRIPTION:Programs details to come \n  \n 
URL:https://rochesterfbc.org/event/owls-older-wiser-learning-seniors-may-2-2/2027-11-18/
END:VEVENT
BEGIN:VEVENT
DTSTART;TZID=America/New_York:20271121T094000
DTEND;TZID=America/New_York:20271121T120000
DTSTAMP:20260419T234532
CREATED:20260408T215334Z
LAST-MODIFIED:20260408T215336Z
UID:10003915-1826790000-1826798400@rochesterfbc.org
SUMMARY:Nursery Open
DESCRIPTION:Each week between 9:40 AM and ~12:00 PM\, our nursery will be open for children birth to Pre-K.
URL:https://rochesterfbc.org/event/nursery-opens-2/2027-11-21/
END:VEVENT
BEGIN:VEVENT
DTSTART;TZID=America/New_York:20271121T100000
DTEND;TZID=America/New_York:20271121T110000
DTSTAMP:20260419T234532
CREATED:20240830T202337Z
LAST-MODIFIED:20240830T202337Z
UID:10001797-1826791200-1826794800@rochesterfbc.org
SUMMARY:Worship
DESCRIPTION:
URL:https://rochesterfbc.org/event/worship/2027-11-21/
END:VEVENT
BEGIN:VEVENT
DTSTART;TZID=America/New_York:20271121T113000
DTEND;TZID=America/New_York:20271121T121000
DTSTAMP:20260419T234532
CREATED:20260418T150335Z
LAST-MODIFIED:20260418T150516Z
UID:10004424-1826796600-1826799000@rochesterfbc.org
SUMMARY:Mission Meeting
DESCRIPTION:Join our Mission Team in the library after a brief time of Fellowship in the Garden Room.  They will discuss and plan various local mission intiatives for First Rochester to engage with the community.  They also determine support for strategic Associations as well as our International Ministries focus\, Lance and Christiana Muteyo.
URL:https://rochesterfbc.org/event/mission-meeting-3/2027-11-21/
END:VEVENT
BEGIN:VEVENT
DTSTART;TZID=America/New_York:20271123T113000
DTEND;TZID=America/New_York:20271123T133000
DTSTAMP:20260419T234532
CREATED:20260110T160103Z
LAST-MODIFIED:20260110T160103Z
UID:10003726-1826969400-1826976600@rochesterfbc.org
SUMMARY:FBCR Book Club
DESCRIPTION:The Book Club meets\, generally on the 4th Tuesday of the month\, at 11:30 AM for a BYOB lunch (beverages provided) and fellowship with a discussion of each month’s book at noon.  It concludes at 1:30 PM. \nThe book of the month is choosen at that meeting for the next month\, or shortly thereafter if availablility at local librarys need to take place. \nOccasional date changes do happen by concensus of participants.
URL:https://rochesterfbc.org/event/fbcr-book-club-6/2027-11-23/
END:VEVENT
BEGIN:VEVENT
DTSTART;TZID=America/New_York:20271125T113000
DTEND;TZID=America/New_York:20271125T133000
DTSTAMP:20260419T234532
CREATED:20260418T145256Z
LAST-MODIFIED:20260418T145321Z
UID:10004222-1827142200-1827149400@rochesterfbc.org
SUMMARY:OWLS - Older Wiser Learning Seniors
DESCRIPTION:Programs details to come \n  \n 
URL:https://rochesterfbc.org/event/owls-older-wiser-learning-seniors-may-2-2/2027-11-25/
END:VEVENT
BEGIN:VEVENT
DTSTART;TZID=America/New_York:20271128T094000
DTEND;TZID=America/New_York:20271128T120000
DTSTAMP:20260419T234532
CREATED:20260408T215334Z
LAST-MODIFIED:20260408T215336Z
UID:10003916-1827394800-1827403200@rochesterfbc.org
SUMMARY:Nursery Open
DESCRIPTION:Each week between 9:40 AM and ~12:00 PM\, our nursery will be open for children birth to Pre-K.
URL:https://rochesterfbc.org/event/nursery-opens-2/2027-11-28/
END:VEVENT
BEGIN:VEVENT
DTSTART;TZID=America/New_York:20271128T100000
DTEND;TZID=America/New_York:20271128T110000
DTSTAMP:20260419T234532
CREATED:20240830T202337Z
LAST-MODIFIED:20240830T202337Z
UID:10001798-1827396000-1827399600@rochesterfbc.org
SUMMARY:Worship
DESCRIPTION:
URL:https://rochesterfbc.org/event/worship/2027-11-28/
END:VEVENT
BEGIN:VEVENT
DTSTART;TZID=America/New_York:20271202T113000
DTEND;TZID=America/New_York:20271202T133000
DTSTAMP:20260419T234532
CREATED:20260418T145256Z
LAST-MODIFIED:20260418T145321Z
UID:10004223-1827747000-1827754200@rochesterfbc.org
SUMMARY:OWLS - Older Wiser Learning Seniors
DESCRIPTION:Programs details to come \n  \n 
URL:https://rochesterfbc.org/event/owls-older-wiser-learning-seniors-may-2-2/2027-12-02/
END:VEVENT
BEGIN:VEVENT
DTSTART;VALUE=DATE:20271205
DTEND;VALUE=DATE:20271207
DTSTAMP:20260419T234532
CREATED:20260418T152350Z
LAST-MODIFIED:20260418T152544Z
UID:10004564-1827968400-1828054799@rochesterfbc.org
SUMMARY:Communion Sunday
DESCRIPTION:
URL:https://rochesterfbc.org/event/communion-sunday/2027-12-05/
END:VEVENT
BEGIN:VEVENT
DTSTART;TZID=America/New_York:20271205T094000
DTEND;TZID=America/New_York:20271205T120000
DTSTAMP:20260419T234532
CREATED:20260408T215334Z
LAST-MODIFIED:20260408T215336Z
UID:10003917-1827999600-1828008000@rochesterfbc.org
SUMMARY:Nursery Open
DESCRIPTION:Each week between 9:40 AM and ~12:00 PM\, our nursery will be open for children birth to Pre-K.
URL:https://rochesterfbc.org/event/nursery-opens-2/2027-12-05/
END:VEVENT
BEGIN:VEVENT
DTSTART;TZID=America/New_York:20271205T100000
DTEND;TZID=America/New_York:20271205T110000
DTSTAMP:20260419T234532
CREATED:20240830T202337Z
LAST-MODIFIED:20240830T202337Z
UID:10001799-1828000800-1828004400@rochesterfbc.org
SUMMARY:Worship
DESCRIPTION:
URL:https://rochesterfbc.org/event/worship/2027-12-05/
END:VEVENT
BEGIN:VEVENT
DTSTART;TZID=America/New_York:20271209T113000
DTEND;TZID=America/New_York:20271209T133000
DTSTAMP:20260419T234532
CREATED:20260418T145256Z
LAST-MODIFIED:20260418T145321Z
UID:10004224-1828351800-1828359000@rochesterfbc.org
SUMMARY:OWLS - Older Wiser Learning Seniors
DESCRIPTION:Programs details to come \n  \n 
URL:https://rochesterfbc.org/event/owls-older-wiser-learning-seniors-may-2-2/2027-12-09/
END:VEVENT
BEGIN:VEVENT
DTSTART;TZID=America/New_York:20271212T094000
DTEND;TZID=America/New_York:20271212T120000
DTSTAMP:20260419T234532
CREATED:20260408T215334Z
LAST-MODIFIED:20260408T215336Z
UID:10003918-1828604400-1828612800@rochesterfbc.org
SUMMARY:Nursery Open
DESCRIPTION:Each week between 9:40 AM and ~12:00 PM\, our nursery will be open for children birth to Pre-K.
URL:https://rochesterfbc.org/event/nursery-opens-2/2027-12-12/
END:VEVENT
BEGIN:VEVENT
DTSTART;TZID=America/New_York:20271212T100000
DTEND;TZID=America/New_York:20271212T110000
DTSTAMP:20260419T234532
CREATED:20240830T202337Z
LAST-MODIFIED:20240830T202337Z
UID:10001800-1828605600-1828609200@rochesterfbc.org
SUMMARY:Worship
DESCRIPTION:
URL:https://rochesterfbc.org/event/worship/2027-12-12/
END:VEVENT
BEGIN:VEVENT
DTSTART;TZID=America/New_York:20271216T113000
DTEND;TZID=America/New_York:20271216T133000
DTSTAMP:20260419T234532
CREATED:20260418T145256Z
LAST-MODIFIED:20260418T145321Z
UID:10004225-1828956600-1828963800@rochesterfbc.org
SUMMARY:OWLS - Older Wiser Learning Seniors
DESCRIPTION:Programs details to come \n  \n 
URL:https://rochesterfbc.org/event/owls-older-wiser-learning-seniors-may-2-2/2027-12-16/
END:VEVENT
BEGIN:VEVENT
DTSTART;TZID=America/New_York:20271219T094000
DTEND;TZID=America/New_York:20271219T120000
DTSTAMP:20260419T234532
CREATED:20260408T215334Z
LAST-MODIFIED:20260408T215336Z
UID:10003919-1829209200-1829217600@rochesterfbc.org
SUMMARY:Nursery Open
DESCRIPTION:Each week between 9:40 AM and ~12:00 PM\, our nursery will be open for children birth to Pre-K.
URL:https://rochesterfbc.org/event/nursery-opens-2/2027-12-19/
END:VEVENT
BEGIN:VEVENT
DTSTART;TZID=America/New_York:20271219T100000
DTEND;TZID=America/New_York:20271219T110000
DTSTAMP:20260419T234532
CREATED:20240830T202337Z
LAST-MODIFIED:20240830T202337Z
UID:10001801-1829210400-1829214000@rochesterfbc.org
SUMMARY:Worship
DESCRIPTION:
URL:https://rochesterfbc.org/event/worship/2027-12-19/
END:VEVENT
BEGIN:VEVENT
DTSTART;TZID=America/New_York:20271219T113000
DTEND;TZID=America/New_York:20271219T121000
DTSTAMP:20260419T234532
CREATED:20260418T150335Z
LAST-MODIFIED:20260418T150516Z
UID:10004425-1829215800-1829218200@rochesterfbc.org
SUMMARY:Mission Meeting
DESCRIPTION:Join our Mission Team in the library after a brief time of Fellowship in the Garden Room.  They will discuss and plan various local mission intiatives for First Rochester to engage with the community.  They also determine support for strategic Associations as well as our International Ministries focus\, Lance and Christiana Muteyo.
URL:https://rochesterfbc.org/event/mission-meeting-3/2027-12-19/
END:VEVENT
BEGIN:VEVENT
DTSTART;TZID=America/New_York:20271220T180000
DTEND;TZID=America/New_York:20271220T190000
DTSTAMP:20260419T234532
CREATED:20230825T233604Z
LAST-MODIFIED:20240106T135849Z
UID:10000686-1829325600-1829329200@rochesterfbc.org
SUMMARY:Trustees Mtg.
DESCRIPTION:The Board of Trustee which oversee the campus and financies of the church meet monthly on the Third Monday.
URL:https://rochesterfbc.org/event/trustees-mtg/2027-12-20/
ATTACH;FMTTYPE=image/jpeg:https://rochesterfbc.org/wp-content/uploads/2023/08/calculator.jpg
END:VEVENT
BEGIN:VEVENT
DTSTART;TZID=America/New_York:20271221T180000
DTEND;TZID=America/New_York:20271221T193000
DTSTAMP:20260419T234532
CREATED:20250622T172005Z
LAST-MODIFIED:20250622T172120Z
UID:10000891-1829412000-1829417400@rochesterfbc.org
SUMMARY:Church Council
DESCRIPTION:The leadership of the church meet on the third Tuesday of the month to share the work of their groups\, special iniatives\, and to vote on various happenings of the church. The council meetings are open to all. If you have a topic you would like to discuss\, please reach out to the church office so that you can be placed on the agenda.
URL:https://rochesterfbc.org/event/church-council-2-3-2/2027-12-21/
ATTACH;FMTTYPE=image/jpeg:https://rochesterfbc.org/wp-content/uploads/2023/08/Church-Council.jpg
END:VEVENT
BEGIN:VEVENT
DTSTART;TZID=America/New_York:20271223T113000
DTEND;TZID=America/New_York:20271223T133000
DTSTAMP:20260419T234532
CREATED:20260418T145256Z
LAST-MODIFIED:20260418T145321Z
UID:10004226-1829561400-1829568600@rochesterfbc.org
SUMMARY:OWLS - Older Wiser Learning Seniors
DESCRIPTION:Programs details to come \n  \n 
URL:https://rochesterfbc.org/event/owls-older-wiser-learning-seniors-may-2-2/2027-12-23/
END:VEVENT
BEGIN:VEVENT
DTSTART;TZID=America/New_York:20271226T094000
DTEND;TZID=America/New_York:20271226T120000
DTSTAMP:20260419T234532
CREATED:20260408T215334Z
LAST-MODIFIED:20260408T215336Z
UID:10003920-1829814000-1829822400@rochesterfbc.org
SUMMARY:Nursery Open
DESCRIPTION:Each week between 9:40 AM and ~12:00 PM\, our nursery will be open for children birth to Pre-K.
URL:https://rochesterfbc.org/event/nursery-opens-2/2027-12-26/
END:VEVENT
BEGIN:VEVENT
DTSTART;TZID=America/New_York:20271226T100000
DTEND;TZID=America/New_York:20271226T110000
DTSTAMP:20260419T234532
CREATED:20240830T202337Z
LAST-MODIFIED:20240830T202337Z
UID:10001802-1829815200-1829818800@rochesterfbc.org
SUMMARY:Worship
DESCRIPTION:
URL:https://rochesterfbc.org/event/worship/2027-12-26/
END:VEVENT
BEGIN:VEVENT
DTSTART;TZID=America/New_York:20271228T113000
DTEND;TZID=America/New_York:20271228T133000
DTSTAMP:20260419T234532
CREATED:20260110T160103Z
LAST-MODIFIED:20260110T160103Z
UID:10003727-1829993400-1830000600@rochesterfbc.org
SUMMARY:FBCR Book Club
DESCRIPTION:The Book Club meets\, generally on the 4th Tuesday of the month\, at 11:30 AM for a BYOB lunch (beverages provided) and fellowship with a discussion of each month’s book at noon.  It concludes at 1:30 PM. \nThe book of the month is choosen at that meeting for the next month\, or shortly thereafter if availablility at local librarys need to take place. \nOccasional date changes do happen by concensus of participants.
URL:https://rochesterfbc.org/event/fbcr-book-club-6/2027-12-28/
END:VEVENT
BEGIN:VEVENT
DTSTART;TZID=America/New_York:20271230T113000
DTEND;TZID=America/New_York:20271230T133000
DTSTAMP:20260419T234532
CREATED:20260418T145256Z
LAST-MODIFIED:20260418T145321Z
UID:10004227-1830166200-1830173400@rochesterfbc.org
SUMMARY:OWLS - Older Wiser Learning Seniors
DESCRIPTION:Programs details to come \n  \n 
URL:https://rochesterfbc.org/event/owls-older-wiser-learning-seniors-may-2-2/2027-12-30/
END:VEVENT
END:VCALENDAR