BEGIN:VCALENDAR
VERSION:2.0
PRODID:-//First Rochester - ECPv6.15.20//NONSGML v1.0//EN
CALSCALE:GREGORIAN
METHOD:PUBLISH
X-WR-CALNAME:First Rochester
X-ORIGINAL-URL:https://rochesterfbc.org
X-WR-CALDESC:Events for First Rochester
REFRESH-INTERVAL;VALUE=DURATION:PT1H
X-Robots-Tag:noindex
X-PUBLISHED-TTL:PT1H
BEGIN:VTIMEZONE
TZID:America/New_York
BEGIN:DAYLIGHT
TZOFFSETFROM:-0500
TZOFFSETTO:-0400
TZNAME:EDT
DTSTART:20220313T070000
END:DAYLIGHT
BEGIN:STANDARD
TZOFFSETFROM:-0400
TZOFFSETTO:-0500
TZNAME:EST
DTSTART:20221106T060000
END:STANDARD
BEGIN:DAYLIGHT
TZOFFSETFROM:-0500
TZOFFSETTO:-0400
TZNAME:EDT
DTSTART:20230312T070000
END:DAYLIGHT
BEGIN:STANDARD
TZOFFSETFROM:-0400
TZOFFSETTO:-0500
TZNAME:EST
DTSTART:20231105T060000
END:STANDARD
BEGIN:DAYLIGHT
TZOFFSETFROM:-0500
TZOFFSETTO:-0400
TZNAME:EDT
DTSTART:20240310T070000
END:DAYLIGHT
BEGIN:STANDARD
TZOFFSETFROM:-0400
TZOFFSETTO:-0500
TZNAME:EST
DTSTART:20241103T060000
END:STANDARD
END:VTIMEZONE
BEGIN:VEVENT
DTSTART;TZID=America/New_York:20231001T110000
DTEND;TZID=America/New_York:20231001T232000
DTSTAMP:20260420T031523
CREATED:20230825T232322Z
LAST-MODIFIED:20230825T232322Z
UID:10000283-1696158000-1696202400@rochesterfbc.org
SUMMARY:Community Time
DESCRIPTION:Following worship we gather in the Garden Room\, adjacent to the sanctuary for a time of coffee\, tea\, lemondae or other beverage and usually a treat. It is a time to get to know one another better\, catch up\, and share our lives with one another.
URL:https://rochesterfbc.org/event/community-time/2023-10-01/
END:VEVENT
BEGIN:VEVENT
DTSTART;TZID=America/New_York:20231001T103000
DTEND;TZID=America/New_York:20231001T120000
DTSTAMP:20260420T031523
CREATED:20230825T231327Z
LAST-MODIFIED:20240406T175239Z
UID:10000230-1696156200-1696161600@rochesterfbc.org
SUMMARY:Children's Programs
DESCRIPTION:Our children will begin in worship and depart after Children’s Time for Sunday School from around 10:30 am to 11:15 am. The will then sing and play instruments during Children’s Choir from 11:15 am to 12:00 pm most Sundays. (Exceptions may be made for various children’s or all church events.)
URL:https://rochesterfbc.org/event/childrens-programs/2023-10-01/
END:VEVENT
BEGIN:VEVENT
DTSTART;TZID=America/New_York:20231001T100000
DTEND;TZID=America/New_York:20231001T110000
DTSTAMP:20260420T031523
CREATED:20230825T214056Z
LAST-MODIFIED:20230825T224139Z
UID:10000016-1696154400-1696158000@rochesterfbc.org
SUMMARY:Sunday Worship
DESCRIPTION:Join us at 10 AM for worship.  Children’s Programs including instruction and music following the Children’s Time in worship.
URL:https://rochesterfbc.org/event/sunday-worship-3-2/2023-10-01/
ATTACH;FMTTYPE=image/jpeg:https://rochesterfbc.org/wp-content/uploads/2023/08/Cropped-Cross-wide-750x450-1.jpg
END:VEVENT
BEGIN:VEVENT
DTSTART;TZID=America/New_York:20231001T091500
DTEND;TZID=America/New_York:20231001T094500
DTSTAMP:20260420T031523
CREATED:20230825T230531Z
LAST-MODIFIED:20230825T230817Z
UID:10000144-1696151700-1696153500@rochesterfbc.org
SUMMARY:Volunteer Choir Rehearsal
DESCRIPTION:If you would like to join our Volunteer Choir that will sing in worship two Sundays a month\, please contact Henry Griffin\, our music director.  Rehearsal begins on September 10 and will be from 9:15 AM to 9:45 AM on Sunday before worship. Our Section Leaders will assist with the volunteers in their parts.
URL:https://rochesterfbc.org/event/volunteer-choir-rehearsal/2023-10-01/
END:VEVENT
BEGIN:VEVENT
DTSTART;VALUE=DATE:20231001
DTEND;VALUE=DATE:20231003
DTSTAMP:20260420T031523
CREATED:20230909T001657Z
LAST-MODIFIED:20230909T001657Z
UID:10000514-1696122000-1696208399@rochesterfbc.org
SUMMARY:Section Leader Sunday
DESCRIPTION:
URL:https://rochesterfbc.org/event/section-leader-sunday-2/
END:VEVENT
BEGIN:VEVENT
DTSTART;TZID=America/New_York:20230929T174500
DTEND;TZID=America/New_York:20230929T203000
DTSTAMP:20260420T031523
CREATED:20230826T011851Z
LAST-MODIFIED:20230826T011851Z
UID:10000452-1696009500-1696019400@rochesterfbc.org
SUMMARY:Talent Show & Pasta Meal
DESCRIPTION:We will gather in Hubbell Hall and have a fun evening sharing our talents with each other. Come be awed\, laugh\, be moved\, and inspired in of evening at our magic\, music\, mayhem. and mystery as we learn what known and secret talents we have to share.  There will be a pasta dinner with regular and GF spaghetti\, marinara sauce\, meatballs\, garlic and regular bread\, and salad. Bring a dessert to share. Food will begin being available around 5:45am. The Show will begin soon after as we eat and share together.
URL:https://rochesterfbc.org/event/talent-show-pasta-meal/
ATTACH;FMTTYPE=image/jpeg:https://rochesterfbc.org/wp-content/uploads/2023/08/Talent-Show-and-Pasta-Dinner.jpg
END:VEVENT
BEGIN:VEVENT
DTSTART;TZID=America/New_York:20230927T180000
DTEND;TZID=America/New_York:20230927T190000
DTSTAMP:20260420T031523
CREATED:20230923T130526Z
LAST-MODIFIED:20230923T130528Z
UID:10000363-1695837600-1695841200@rochesterfbc.org
SUMMARY:Wednesday Study - Tippett's - Speaking of Faith pg. 1-40
DESCRIPTION:Gathering for study each Wednesday during the program year\, September through mid-June\, we will delve into a variety of topics including scrpture\, a variety of books on various faith or justice topics\, and  other creative study topics. \nThis session will be on the first 40 pages of Krista Tippett’s book: Speaking of Faith: Why Religion Matter’s and How To Talk About It.
URL:https://rochesterfbc.org/event/wednesday-study-2/
END:VEVENT
BEGIN:VEVENT
DTSTART;TZID=America/New_York:20230927T173000
DTEND;TZID=America/New_York:20230927T180000
DTSTAMP:20260420T031523
CREATED:20230825T222256Z
LAST-MODIFIED:20240921T150436Z
UID:10000528-1695835800-1695837600@rochesterfbc.org
SUMMARY:Wednesday Check-in
DESCRIPTION:Anyone who wishes may join us for a time together as we check-in with others on zoom throughout the year.
URL:https://rochesterfbc.org/event/wednesday-zoom-check-in/2023-09-27/
ATTACH;FMTTYPE=image/jpeg:https://rochesterfbc.org/wp-content/uploads/2023/08/Zoom-Connect.jpg
END:VEVENT
BEGIN:VEVENT
DTSTART;TZID=America/New_York:20230924T110000
DTEND;TZID=America/New_York:20230924T232000
DTSTAMP:20260420T031523
CREATED:20230825T232322Z
LAST-MODIFIED:20230825T232322Z
UID:10000282-1695553200-1695597600@rochesterfbc.org
SUMMARY:Community Time
DESCRIPTION:Following worship we gather in the Garden Room\, adjacent to the sanctuary for a time of coffee\, tea\, lemondae or other beverage and usually a treat. It is a time to get to know one another better\, catch up\, and share our lives with one another.
URL:https://rochesterfbc.org/event/community-time/2023-09-24/
END:VEVENT
BEGIN:VEVENT
DTSTART;TZID=America/New_York:20230924T103000
DTEND;TZID=America/New_York:20230924T120000
DTSTAMP:20260420T031523
CREATED:20230825T231327Z
LAST-MODIFIED:20240406T175239Z
UID:10000229-1695551400-1695556800@rochesterfbc.org
SUMMARY:Children's Programs
DESCRIPTION:Our children will begin in worship and depart after Children’s Time for Sunday School from around 10:30 am to 11:15 am. The will then sing and play instruments during Children’s Choir from 11:15 am to 12:00 pm most Sundays. (Exceptions may be made for various children’s or all church events.)
URL:https://rochesterfbc.org/event/childrens-programs/2023-09-24/
END:VEVENT
BEGIN:VEVENT
DTSTART;TZID=America/New_York:20230924T100000
DTEND;TZID=America/New_York:20230924T110000
DTSTAMP:20260420T031523
CREATED:20230825T214056Z
LAST-MODIFIED:20230825T224139Z
UID:10000015-1695549600-1695553200@rochesterfbc.org
SUMMARY:Sunday Worship
DESCRIPTION:Join us at 10 AM for worship.  Children’s Programs including instruction and music following the Children’s Time in worship.
URL:https://rochesterfbc.org/event/sunday-worship-3-2/2023-09-24/
ATTACH;FMTTYPE=image/jpeg:https://rochesterfbc.org/wp-content/uploads/2023/08/Cropped-Cross-wide-750x450-1.jpg
END:VEVENT
BEGIN:VEVENT
DTSTART;TZID=America/New_York:20230924T091500
DTEND;TZID=America/New_York:20230924T094500
DTSTAMP:20260420T031523
CREATED:20230825T230531Z
LAST-MODIFIED:20230825T230817Z
UID:10000143-1695546900-1695548700@rochesterfbc.org
SUMMARY:Volunteer Choir Rehearsal
DESCRIPTION:If you would like to join our Volunteer Choir that will sing in worship two Sundays a month\, please contact Henry Griffin\, our music director.  Rehearsal begins on September 10 and will be from 9:15 AM to 9:45 AM on Sunday before worship. Our Section Leaders will assist with the volunteers in their parts.
URL:https://rochesterfbc.org/event/volunteer-choir-rehearsal/2023-09-24/
END:VEVENT
BEGIN:VEVENT
DTSTART;TZID=America/New_York:20230920T180000
DTEND;TZID=America/New_York:20230920T190000
DTSTAMP:20260420T031523
CREATED:20230827T103918Z
LAST-MODIFIED:20230827T103919Z
UID:10000362-1695232800-1695236400@rochesterfbc.org
SUMMARY:Wednesday Study - Summer Tales and Pictures
DESCRIPTION:Gathering for study each Wednesday during the program year\, September through mid-June\, we will delve into a variety of topics including scrpture\, a variety of books on various faith or justice topics\, and  other creative study topics. \nThis week’s topic is Summer Tales and Pictures – bring your stories and pictures to share with the group.
URL:https://rochesterfbc.org/event/wednesday-study-3/
END:VEVENT
BEGIN:VEVENT
DTSTART;TZID=America/New_York:20230920T173000
DTEND;TZID=America/New_York:20230920T180000
DTSTAMP:20260420T031523
CREATED:20230825T222256Z
LAST-MODIFIED:20240921T150436Z
UID:10000527-1695231000-1695232800@rochesterfbc.org
SUMMARY:Wednesday Check-in
DESCRIPTION:Anyone who wishes may join us for a time together as we check-in with others on zoom throughout the year.
URL:https://rochesterfbc.org/event/wednesday-zoom-check-in/2023-09-20/
ATTACH;FMTTYPE=image/jpeg:https://rochesterfbc.org/wp-content/uploads/2023/08/Zoom-Connect.jpg
END:VEVENT
BEGIN:VEVENT
DTSTART;TZID=America/New_York:20230919T180000
DTEND;TZID=America/New_York:20230919T193000
DTSTAMP:20260420T031523
CREATED:20230825T234450Z
LAST-MODIFIED:20240106T140118Z
UID:10000699-1695146400-1695151800@rochesterfbc.org
SUMMARY:Church Council
DESCRIPTION:The leadership of the church meet on the third Tuesday of the month to share the work of their groups\, special iniatives\, and to vote on various happenings of the church. The council meetings are open to all. If you have a topic you would like to discuss\, please reach out to the church office so that you can be placed on the agenda.
URL:https://rochesterfbc.org/event/church-council/2023-09-19/
ATTACH;FMTTYPE=image/jpeg:https://rochesterfbc.org/wp-content/uploads/2023/08/Church-Council.jpg
END:VEVENT
BEGIN:VEVENT
DTSTART;TZID=America/New_York:20230918T180000
DTEND;TZID=America/New_York:20230918T190000
DTSTAMP:20260420T031523
CREATED:20230825T233604Z
LAST-MODIFIED:20240106T135849Z
UID:10000635-1695060000-1695063600@rochesterfbc.org
SUMMARY:Trustees Mtg.
DESCRIPTION:The Board of Trustee which oversee the campus and financies of the church meet monthly on the Third Monday.
URL:https://rochesterfbc.org/event/trustees-mtg/2023-09-18/
ATTACH;FMTTYPE=image/jpeg:https://rochesterfbc.org/wp-content/uploads/2023/08/calculator.jpg
END:VEVENT
BEGIN:VEVENT
DTSTART;TZID=America/New_York:20230917T110000
DTEND;TZID=America/New_York:20230917T232000
DTSTAMP:20260420T031523
CREATED:20230825T232322Z
LAST-MODIFIED:20230825T232322Z
UID:10000281-1694948400-1694992800@rochesterfbc.org
SUMMARY:Community Time
DESCRIPTION:Following worship we gather in the Garden Room\, adjacent to the sanctuary for a time of coffee\, tea\, lemondae or other beverage and usually a treat. It is a time to get to know one another better\, catch up\, and share our lives with one another.
URL:https://rochesterfbc.org/event/community-time/2023-09-17/
END:VEVENT
BEGIN:VEVENT
DTSTART;TZID=America/New_York:20230917T103000
DTEND;TZID=America/New_York:20230917T120000
DTSTAMP:20260420T031523
CREATED:20230825T231327Z
LAST-MODIFIED:20240406T175239Z
UID:10000228-1694946600-1694952000@rochesterfbc.org
SUMMARY:Children's Programs
DESCRIPTION:Our children will begin in worship and depart after Children’s Time for Sunday School from around 10:30 am to 11:15 am. The will then sing and play instruments during Children’s Choir from 11:15 am to 12:00 pm most Sundays. (Exceptions may be made for various children’s or all church events.)
URL:https://rochesterfbc.org/event/childrens-programs/2023-09-17/
END:VEVENT
BEGIN:VEVENT
DTSTART;TZID=America/New_York:20230917T100000
DTEND;TZID=America/New_York:20230917T110000
DTSTAMP:20260420T031523
CREATED:20230825T225857Z
LAST-MODIFIED:20230909T001249Z
UID:10000139-1694944800-1694948400@rochesterfbc.org
SUMMARY:Jubilee Sunday Worship
DESCRIPTION:This year we our Jubilee Sunday will be held on September 17. The music will uplift\, the message will inspire\, and the community will engage as we worship and fellowship together as we begin our next program year..
URL:https://rochesterfbc.org/event/jubilee-sunday/
ATTACH;FMTTYPE=image/png:https://rochesterfbc.org/wp-content/uploads/2023/08/Transparent-Jubilee.png
END:VEVENT
BEGIN:VEVENT
DTSTART;TZID=America/New_York:20230917T091500
DTEND;TZID=America/New_York:20230917T094500
DTSTAMP:20260420T031523
CREATED:20230825T230531Z
LAST-MODIFIED:20230825T230817Z
UID:10000142-1694942100-1694943900@rochesterfbc.org
SUMMARY:Volunteer Choir Rehearsal
DESCRIPTION:If you would like to join our Volunteer Choir that will sing in worship two Sundays a month\, please contact Henry Griffin\, our music director.  Rehearsal begins on September 10 and will be from 9:15 AM to 9:45 AM on Sunday before worship. Our Section Leaders will assist with the volunteers in their parts.
URL:https://rochesterfbc.org/event/volunteer-choir-rehearsal/2023-09-17/
END:VEVENT
BEGIN:VEVENT
DTSTART;VALUE=DATE:20230917
DTEND;VALUE=DATE:20230919
DTSTAMP:20260420T031523
CREATED:20230909T001203Z
LAST-MODIFIED:20230909T001212Z
UID:10000453-1694912400-1694998799@rochesterfbc.org
SUMMARY:Jubilee Sunday
DESCRIPTION:
URL:https://rochesterfbc.org/event/jubilee-sunday-2/
END:VEVENT
BEGIN:VEVENT
DTSTART;TZID=America/New_York:20230913T173000
DTEND;TZID=America/New_York:20230913T180000
DTSTAMP:20260420T031523
CREATED:20230825T222256Z
LAST-MODIFIED:20240921T150436Z
UID:10000526-1694626200-1694628000@rochesterfbc.org
SUMMARY:Wednesday Check-in
DESCRIPTION:Anyone who wishes may join us for a time together as we check-in with others on zoom throughout the year.
URL:https://rochesterfbc.org/event/wednesday-zoom-check-in/2023-09-13/
ATTACH;FMTTYPE=image/jpeg:https://rochesterfbc.org/wp-content/uploads/2023/08/Zoom-Connect.jpg
END:VEVENT
BEGIN:VEVENT
DTSTART;TZID=America/New_York:20230910T110000
DTEND;TZID=America/New_York:20230910T232000
DTSTAMP:20260420T031523
CREATED:20230825T232322Z
LAST-MODIFIED:20230825T232322Z
UID:10000280-1694343600-1694388000@rochesterfbc.org
SUMMARY:Community Time
DESCRIPTION:Following worship we gather in the Garden Room\, adjacent to the sanctuary for a time of coffee\, tea\, lemondae or other beverage and usually a treat. It is a time to get to know one another better\, catch up\, and share our lives with one another.
URL:https://rochesterfbc.org/event/community-time/2023-09-10/
END:VEVENT
BEGIN:VEVENT
DTSTART;TZID=America/New_York:20230910T103000
DTEND;TZID=America/New_York:20230910T120000
DTSTAMP:20260420T031523
CREATED:20230825T231327Z
LAST-MODIFIED:20240406T175239Z
UID:10000227-1694341800-1694347200@rochesterfbc.org
SUMMARY:Children's Programs
DESCRIPTION:Our children will begin in worship and depart after Children’s Time for Sunday School from around 10:30 am to 11:15 am. The will then sing and play instruments during Children’s Choir from 11:15 am to 12:00 pm most Sundays. (Exceptions may be made for various children’s or all church events.)
URL:https://rochesterfbc.org/event/childrens-programs/2023-09-10/
END:VEVENT
BEGIN:VEVENT
DTSTART;TZID=America/New_York:20230910T100000
DTEND;TZID=America/New_York:20230910T110000
DTSTAMP:20260420T031523
CREATED:20230825T214056Z
LAST-MODIFIED:20230825T224139Z
UID:10000013-1694340000-1694343600@rochesterfbc.org
SUMMARY:Sunday Worship
DESCRIPTION:Join us at 10 AM for worship.  Children’s Programs including instruction and music following the Children’s Time in worship.
URL:https://rochesterfbc.org/event/sunday-worship-3-2/2023-09-10/
ATTACH;FMTTYPE=image/jpeg:https://rochesterfbc.org/wp-content/uploads/2023/08/Cropped-Cross-wide-750x450-1.jpg
END:VEVENT
BEGIN:VEVENT
DTSTART;TZID=America/New_York:20230910T091500
DTEND;TZID=America/New_York:20230910T094500
DTSTAMP:20260420T031523
CREATED:20230825T230531Z
LAST-MODIFIED:20230825T230817Z
UID:10000141-1694337300-1694339100@rochesterfbc.org
SUMMARY:Volunteer Choir Rehearsal
DESCRIPTION:If you would like to join our Volunteer Choir that will sing in worship two Sundays a month\, please contact Henry Griffin\, our music director.  Rehearsal begins on September 10 and will be from 9:15 AM to 9:45 AM on Sunday before worship. Our Section Leaders will assist with the volunteers in their parts.
URL:https://rochesterfbc.org/event/volunteer-choir-rehearsal/2023-09-10/
END:VEVENT
BEGIN:VEVENT
DTSTART;TZID=America/New_York:20230909T130000
DTEND;TZID=America/New_York:20230909T150000
DTSTAMP:20260420T031523
CREATED:20230825T223422Z
LAST-MODIFIED:20230825T231445Z
UID:10000135-1694264400-1694271600@rochesterfbc.org
SUMMARY:Mission Build Day - Macedon
DESCRIPTION:Join us as we build twin and bunk beds at the Lowes in Macedon with Sleep In Heavenly Peace. To learn more check out Connections.
URL:https://rochesterfbc.org/event/mission-build-day-macedon/
ATTACH;FMTTYPE=image/jpeg:https://rochesterfbc.org/wp-content/uploads/2023/08/SleepInHeavenlyPeace.jpg
END:VEVENT
BEGIN:VEVENT
DTSTART;TZID=America/New_York:20230908T120000
DTEND;TZID=America/New_York:20230908T121000
DTSTAMP:20260420T031523
CREATED:20230825T223750Z
LAST-MODIFIED:20230829T012835Z
UID:10000136-1694174400-1694175000@rochesterfbc.org
SUMMARY:Bedding Collection Deadline for Sleep In Heavenly Peace
DESCRIPTION:We are collecting twin sized comforter and bed-in-a-bag sets prior to our build day coming soon.  Please bring you set to church where we can display it at the communion table at the front of the church. Items will be collected until September 8. For more details or possible wishlist\, check out our Connections article.
URL:https://rochesterfbc.org/event/bedding-collection-for-sleep-in-heavenly-peace/
ATTACH;FMTTYPE=image/jpeg:https://rochesterfbc.org/wp-content/uploads/2023/08/SleepInHeavenlyPeace.jpg
END:VEVENT
BEGIN:VEVENT
DTSTART;TZID=America/New_York:20230906T173000
DTEND;TZID=America/New_York:20230906T180000
DTSTAMP:20260420T031523
CREATED:20230825T222256Z
LAST-MODIFIED:20240921T150436Z
UID:10000525-1694021400-1694023200@rochesterfbc.org
SUMMARY:Wednesday Check-in
DESCRIPTION:Anyone who wishes may join us for a time together as we check-in with others on zoom throughout the year.
URL:https://rochesterfbc.org/event/wednesday-zoom-check-in/2023-09-06/
ATTACH;FMTTYPE=image/jpeg:https://rochesterfbc.org/wp-content/uploads/2023/08/Zoom-Connect.jpg
END:VEVENT
BEGIN:VEVENT
DTSTART;TZID=America/New_York:20230903T110000
DTEND;TZID=America/New_York:20230903T232000
DTSTAMP:20260420T031523
CREATED:20230825T232322Z
LAST-MODIFIED:20230825T232322Z
UID:10000279-1693738800-1693783200@rochesterfbc.org
SUMMARY:Community Time
DESCRIPTION:Following worship we gather in the Garden Room\, adjacent to the sanctuary for a time of coffee\, tea\, lemondae or other beverage and usually a treat. It is a time to get to know one another better\, catch up\, and share our lives with one another.
URL:https://rochesterfbc.org/event/community-time/2023-09-03/
END:VEVENT
END:VCALENDAR