BEGIN:VCALENDAR
VERSION:2.0
PRODID:-//First Rochester - ECPv6.15.20//NONSGML v1.0//EN
CALSCALE:GREGORIAN
METHOD:PUBLISH
X-WR-CALNAME:First Rochester
X-ORIGINAL-URL:https://rochesterfbc.org
X-WR-CALDESC:Events for First Rochester
REFRESH-INTERVAL;VALUE=DURATION:PT1H
X-Robots-Tag:noindex
X-PUBLISHED-TTL:PT1H
BEGIN:VTIMEZONE
TZID:America/New_York
BEGIN:DAYLIGHT
TZOFFSETFROM:-0500
TZOFFSETTO:-0400
TZNAME:EDT
DTSTART:20220313T070000
END:DAYLIGHT
BEGIN:STANDARD
TZOFFSETFROM:-0400
TZOFFSETTO:-0500
TZNAME:EST
DTSTART:20221106T060000
END:STANDARD
BEGIN:DAYLIGHT
TZOFFSETFROM:-0500
TZOFFSETTO:-0400
TZNAME:EDT
DTSTART:20230312T070000
END:DAYLIGHT
BEGIN:STANDARD
TZOFFSETFROM:-0400
TZOFFSETTO:-0500
TZNAME:EST
DTSTART:20231105T060000
END:STANDARD
BEGIN:DAYLIGHT
TZOFFSETFROM:-0500
TZOFFSETTO:-0400
TZNAME:EDT
DTSTART:20240310T070000
END:DAYLIGHT
BEGIN:STANDARD
TZOFFSETFROM:-0400
TZOFFSETTO:-0500
TZNAME:EST
DTSTART:20241103T060000
END:STANDARD
END:VTIMEZONE
BEGIN:VEVENT
DTSTART;TZID=America/New_York:20231203T103000
DTEND;TZID=America/New_York:20231203T120000
DTSTAMP:20260420T033207
CREATED:20230825T231327Z
LAST-MODIFIED:20240406T175239Z
UID:10000239-1701599400-1701604800@rochesterfbc.org
SUMMARY:Children's Programs
DESCRIPTION:Our children will begin in worship and depart after Children’s Time for Sunday School from around 10:30 am to 11:15 am. The will then sing and play instruments during Children’s Choir from 11:15 am to 12:00 pm most Sundays. (Exceptions may be made for various children’s or all church events.)
URL:https://rochesterfbc.org/event/childrens-programs/2023-12-03/
END:VEVENT
BEGIN:VEVENT
DTSTART;TZID=America/New_York:20231203T100000
DTEND;TZID=America/New_York:20231203T110000
DTSTAMP:20260420T033208
CREATED:20230825T214056Z
LAST-MODIFIED:20230825T224139Z
UID:10000025-1701597600-1701601200@rochesterfbc.org
SUMMARY:Sunday Worship
DESCRIPTION:Join us at 10 AM for worship.  Children’s Programs including instruction and music following the Children’s Time in worship.
URL:https://rochesterfbc.org/event/sunday-worship-3-2/2023-12-03/
ATTACH;FMTTYPE=image/jpeg:https://rochesterfbc.org/wp-content/uploads/2023/08/Cropped-Cross-wide-750x450-1.jpg
END:VEVENT
BEGIN:VEVENT
DTSTART;TZID=America/New_York:20231203T091500
DTEND;TZID=America/New_York:20231203T094500
DTSTAMP:20260420T033208
CREATED:20230825T230531Z
LAST-MODIFIED:20230825T230817Z
UID:10000153-1701594900-1701596700@rochesterfbc.org
SUMMARY:Volunteer Choir Rehearsal
DESCRIPTION:If you would like to join our Volunteer Choir that will sing in worship two Sundays a month\, please contact Henry Griffin\, our music director.  Rehearsal begins on September 10 and will be from 9:15 AM to 9:45 AM on Sunday before worship. Our Section Leaders will assist with the volunteers in their parts.
URL:https://rochesterfbc.org/event/volunteer-choir-rehearsal/2023-12-03/
END:VEVENT
BEGIN:VEVENT
DTSTART;VALUE=DATE:20231203
DTEND;VALUE=DATE:20231205
DTSTAMP:20260420T033208
CREATED:20231017T132916Z
LAST-MODIFIED:20231018T140151Z
UID:10000589-1701565200-1701651599@rochesterfbc.org
SUMMARY:Handbells Play
DESCRIPTION:Our Handbell Choir will play during worship.
URL:https://rochesterfbc.org/event/handbells-play/
END:VEVENT
BEGIN:VEVENT
DTSTART;VALUE=DATE:20231203
DTEND;VALUE=DATE:20231205
DTSTAMP:20260420T033208
CREATED:20231018T134556Z
LAST-MODIFIED:20231018T134615Z
UID:10000595-1701565200-1701651599@rochesterfbc.org
SUMMARY:Advent I
DESCRIPTION:
URL:https://rochesterfbc.org/event/advent-i/
END:VEVENT
BEGIN:VEVENT
DTSTART;TZID=America/New_York:20231129T191500
DTEND;TZID=America/New_York:20231129T194500
DTSTAMP:20260420T033208
CREATED:20231018T132132Z
LAST-MODIFIED:20231018T132132Z
UID:10000587-1701285300-1701287100@rochesterfbc.org
SUMMARY:Handbell Choir Rehearsal
DESCRIPTION:
URL:https://rochesterfbc.org/event/handbell-choir-rehearsal/2023-11-29/
ATTACH;FMTTYPE=image/jpeg:https://rochesterfbc.org/wp-content/uploads/2023/10/Hanbell-sq.jpg
END:VEVENT
BEGIN:VEVENT
DTSTART;TZID=America/New_York:20231129T180000
DTEND;TZID=America/New_York:20231129T190000
DTSTAMP:20260420T033208
CREATED:20230826T002643Z
LAST-MODIFIED:20230826T002745Z
UID:10000372-1701280800-1701284400@rochesterfbc.org
SUMMARY:Wednesday Study
DESCRIPTION:Gathering for study each Wednesday during the program year\, September through mid-June\, we will delve into a variety of topics including scrpture\, a variety of books on various faith or justice topics\, and  other creative study topics.
URL:https://rochesterfbc.org/event/wednesday-study/2023-11-29/
END:VEVENT
BEGIN:VEVENT
DTSTART;TZID=America/New_York:20231129T173000
DTEND;TZID=America/New_York:20231129T180000
DTSTAMP:20260420T033208
CREATED:20230825T222256Z
LAST-MODIFIED:20240921T150436Z
UID:10000537-1701279000-1701280800@rochesterfbc.org
SUMMARY:Wednesday Check-in
DESCRIPTION:Anyone who wishes may join us for a time together as we check-in with others on zoom throughout the year.
URL:https://rochesterfbc.org/event/wednesday-zoom-check-in/2023-11-29/
ATTACH;FMTTYPE=image/jpeg:https://rochesterfbc.org/wp-content/uploads/2023/08/Zoom-Connect.jpg
END:VEVENT
BEGIN:VEVENT
DTSTART;TZID=America/New_York:20231126T110000
DTEND;TZID=America/New_York:20231126T232000
DTSTAMP:20260420T033208
CREATED:20230825T232322Z
LAST-MODIFIED:20230825T232322Z
UID:10000291-1700996400-1701040800@rochesterfbc.org
SUMMARY:Community Time
DESCRIPTION:Following worship we gather in the Garden Room\, adjacent to the sanctuary for a time of coffee\, tea\, lemondae or other beverage and usually a treat. It is a time to get to know one another better\, catch up\, and share our lives with one another.
URL:https://rochesterfbc.org/event/community-time/2023-11-26/
END:VEVENT
BEGIN:VEVENT
DTSTART;TZID=America/New_York:20231126T103000
DTEND;TZID=America/New_York:20231126T120000
DTSTAMP:20260420T033208
CREATED:20230825T231327Z
LAST-MODIFIED:20240406T175239Z
UID:10000238-1700994600-1701000000@rochesterfbc.org
SUMMARY:Children's Programs
DESCRIPTION:Our children will begin in worship and depart after Children’s Time for Sunday School from around 10:30 am to 11:15 am. The will then sing and play instruments during Children’s Choir from 11:15 am to 12:00 pm most Sundays. (Exceptions may be made for various children’s or all church events.)
URL:https://rochesterfbc.org/event/childrens-programs/2023-11-26/
END:VEVENT
BEGIN:VEVENT
DTSTART;TZID=America/New_York:20231126T100000
DTEND;TZID=America/New_York:20231126T110000
DTSTAMP:20260420T033208
CREATED:20230825T214056Z
LAST-MODIFIED:20230825T224139Z
UID:10000024-1700992800-1700996400@rochesterfbc.org
SUMMARY:Sunday Worship
DESCRIPTION:Join us at 10 AM for worship.  Children’s Programs including instruction and music following the Children’s Time in worship.
URL:https://rochesterfbc.org/event/sunday-worship-3-2/2023-11-26/
ATTACH;FMTTYPE=image/jpeg:https://rochesterfbc.org/wp-content/uploads/2023/08/Cropped-Cross-wide-750x450-1.jpg
END:VEVENT
BEGIN:VEVENT
DTSTART;TZID=America/New_York:20231126T091500
DTEND;TZID=America/New_York:20231126T094500
DTSTAMP:20260420T033208
CREATED:20230825T230531Z
LAST-MODIFIED:20230825T230817Z
UID:10000152-1700990100-1700991900@rochesterfbc.org
SUMMARY:Volunteer Choir Rehearsal
DESCRIPTION:If you would like to join our Volunteer Choir that will sing in worship two Sundays a month\, please contact Henry Griffin\, our music director.  Rehearsal begins on September 10 and will be from 9:15 AM to 9:45 AM on Sunday before worship. Our Section Leaders will assist with the volunteers in their parts.
URL:https://rochesterfbc.org/event/volunteer-choir-rehearsal/2023-11-26/
END:VEVENT
BEGIN:VEVENT
DTSTART;VALUE=DATE:20231123
DTEND;VALUE=DATE:20231125
DTSTAMP:20260420T033208
CREATED:20231018T135605Z
LAST-MODIFIED:20231018T135858Z
UID:10000600-1700701200-1700787599@rochesterfbc.org
SUMMARY:Thanksgiving Day Office Closed
DESCRIPTION:
URL:https://rochesterfbc.org/event/thanksgiving-day-office-closed/
END:VEVENT
BEGIN:VEVENT
DTSTART;TZID=America/New_York:20231121T180000
DTEND;TZID=America/New_York:20231121T193000
DTSTAMP:20260420T033208
CREATED:20230825T234450Z
LAST-MODIFIED:20240106T140118Z
UID:10000701-1700589600-1700595000@rochesterfbc.org
SUMMARY:Church Council
DESCRIPTION:The leadership of the church meet on the third Tuesday of the month to share the work of their groups\, special iniatives\, and to vote on various happenings of the church. The council meetings are open to all. If you have a topic you would like to discuss\, please reach out to the church office so that you can be placed on the agenda.
URL:https://rochesterfbc.org/event/church-council/2023-11-21/
ATTACH;FMTTYPE=image/jpeg:https://rochesterfbc.org/wp-content/uploads/2023/08/Church-Council.jpg
END:VEVENT
BEGIN:VEVENT
DTSTART;TZID=America/New_York:20231120T180000
DTEND;TZID=America/New_York:20231120T190000
DTSTAMP:20260420T033208
CREATED:20230825T233604Z
LAST-MODIFIED:20240106T135849Z
UID:10000637-1700503200-1700506800@rochesterfbc.org
SUMMARY:Trustees Mtg.
DESCRIPTION:The Board of Trustee which oversee the campus and financies of the church meet monthly on the Third Monday.
URL:https://rochesterfbc.org/event/trustees-mtg/2023-11-20/
ATTACH;FMTTYPE=image/jpeg:https://rochesterfbc.org/wp-content/uploads/2023/08/calculator.jpg
END:VEVENT
BEGIN:VEVENT
DTSTART;TZID=America/New_York:20231119T110000
DTEND;TZID=America/New_York:20231119T232000
DTSTAMP:20260420T033208
CREATED:20230825T232322Z
LAST-MODIFIED:20230825T232322Z
UID:10000290-1700391600-1700436000@rochesterfbc.org
SUMMARY:Community Time
DESCRIPTION:Following worship we gather in the Garden Room\, adjacent to the sanctuary for a time of coffee\, tea\, lemondae or other beverage and usually a treat. It is a time to get to know one another better\, catch up\, and share our lives with one another.
URL:https://rochesterfbc.org/event/community-time/2023-11-19/
END:VEVENT
BEGIN:VEVENT
DTSTART;TZID=America/New_York:20231119T103000
DTEND;TZID=America/New_York:20231119T120000
DTSTAMP:20260420T033208
CREATED:20230825T231327Z
LAST-MODIFIED:20240406T175239Z
UID:10000237-1700389800-1700395200@rochesterfbc.org
SUMMARY:Children's Programs
DESCRIPTION:Our children will begin in worship and depart after Children’s Time for Sunday School from around 10:30 am to 11:15 am. The will then sing and play instruments during Children’s Choir from 11:15 am to 12:00 pm most Sundays. (Exceptions may be made for various children’s or all church events.)
URL:https://rochesterfbc.org/event/childrens-programs/2023-11-19/
END:VEVENT
BEGIN:VEVENT
DTSTART;TZID=America/New_York:20231119T100000
DTEND;TZID=America/New_York:20231119T110000
DTSTAMP:20260420T033208
CREATED:20230825T214056Z
LAST-MODIFIED:20230825T224139Z
UID:10000023-1700388000-1700391600@rochesterfbc.org
SUMMARY:Sunday Worship
DESCRIPTION:Join us at 10 AM for worship.  Children’s Programs including instruction and music following the Children’s Time in worship.
URL:https://rochesterfbc.org/event/sunday-worship-3-2/2023-11-19/
ATTACH;FMTTYPE=image/jpeg:https://rochesterfbc.org/wp-content/uploads/2023/08/Cropped-Cross-wide-750x450-1.jpg
END:VEVENT
BEGIN:VEVENT
DTSTART;TZID=America/New_York:20231119T091500
DTEND;TZID=America/New_York:20231119T094500
DTSTAMP:20260420T033208
CREATED:20230825T230531Z
LAST-MODIFIED:20230825T230817Z
UID:10000151-1700385300-1700387100@rochesterfbc.org
SUMMARY:Volunteer Choir Rehearsal
DESCRIPTION:If you would like to join our Volunteer Choir that will sing in worship two Sundays a month\, please contact Henry Griffin\, our music director.  Rehearsal begins on September 10 and will be from 9:15 AM to 9:45 AM on Sunday before worship. Our Section Leaders will assist with the volunteers in their parts.
URL:https://rochesterfbc.org/event/volunteer-choir-rehearsal/2023-11-19/
END:VEVENT
BEGIN:VEVENT
DTSTART;TZID=America/New_York:20231115T191500
DTEND;TZID=America/New_York:20231115T194500
DTSTAMP:20260420T033208
CREATED:20231018T132132Z
LAST-MODIFIED:20231018T132132Z
UID:10000585-1700075700-1700077500@rochesterfbc.org
SUMMARY:Handbell Choir Rehearsal
DESCRIPTION:
URL:https://rochesterfbc.org/event/handbell-choir-rehearsal/2023-11-15/
ATTACH;FMTTYPE=image/jpeg:https://rochesterfbc.org/wp-content/uploads/2023/10/Hanbell-sq.jpg
END:VEVENT
BEGIN:VEVENT
DTSTART;TZID=America/New_York:20231115T180000
DTEND;TZID=America/New_York:20231115T190000
DTSTAMP:20260420T033208
CREATED:20230826T002643Z
LAST-MODIFIED:20230826T002745Z
UID:10000370-1700071200-1700074800@rochesterfbc.org
SUMMARY:Wednesday Study
DESCRIPTION:Gathering for study each Wednesday during the program year\, September through mid-June\, we will delve into a variety of topics including scrpture\, a variety of books on various faith or justice topics\, and  other creative study topics.
URL:https://rochesterfbc.org/event/wednesday-study/2023-11-15/
END:VEVENT
BEGIN:VEVENT
DTSTART;TZID=America/New_York:20231115T173000
DTEND;TZID=America/New_York:20231115T180000
DTSTAMP:20260420T033208
CREATED:20230825T222256Z
LAST-MODIFIED:20240921T150436Z
UID:10000535-1700069400-1700071200@rochesterfbc.org
SUMMARY:Wednesday Check-in
DESCRIPTION:Anyone who wishes may join us for a time together as we check-in with others on zoom throughout the year.
URL:https://rochesterfbc.org/event/wednesday-zoom-check-in/2023-11-15/
ATTACH;FMTTYPE=image/jpeg:https://rochesterfbc.org/wp-content/uploads/2023/08/Zoom-Connect.jpg
END:VEVENT
BEGIN:VEVENT
DTSTART;TZID=America/New_York:20231112T110000
DTEND;TZID=America/New_York:20231112T232000
DTSTAMP:20260420T033208
CREATED:20230825T232322Z
LAST-MODIFIED:20230825T232322Z
UID:10000289-1699786800-1699831200@rochesterfbc.org
SUMMARY:Community Time
DESCRIPTION:Following worship we gather in the Garden Room\, adjacent to the sanctuary for a time of coffee\, tea\, lemondae or other beverage and usually a treat. It is a time to get to know one another better\, catch up\, and share our lives with one another.
URL:https://rochesterfbc.org/event/community-time/2023-11-12/
END:VEVENT
BEGIN:VEVENT
DTSTART;TZID=America/New_York:20231112T103000
DTEND;TZID=America/New_York:20231112T120000
DTSTAMP:20260420T033208
CREATED:20230825T231327Z
LAST-MODIFIED:20240406T175239Z
UID:10000236-1699785000-1699790400@rochesterfbc.org
SUMMARY:Children's Programs
DESCRIPTION:Our children will begin in worship and depart after Children’s Time for Sunday School from around 10:30 am to 11:15 am. The will then sing and play instruments during Children’s Choir from 11:15 am to 12:00 pm most Sundays. (Exceptions may be made for various children’s or all church events.)
URL:https://rochesterfbc.org/event/childrens-programs/2023-11-12/
END:VEVENT
BEGIN:VEVENT
DTSTART;TZID=America/New_York:20231112T100000
DTEND;TZID=America/New_York:20231112T110000
DTSTAMP:20260420T033208
CREATED:20230825T214056Z
LAST-MODIFIED:20230825T224139Z
UID:10000022-1699783200-1699786800@rochesterfbc.org
SUMMARY:Sunday Worship
DESCRIPTION:Join us at 10 AM for worship.  Children’s Programs including instruction and music following the Children’s Time in worship.
URL:https://rochesterfbc.org/event/sunday-worship-3-2/2023-11-12/
ATTACH;FMTTYPE=image/jpeg:https://rochesterfbc.org/wp-content/uploads/2023/08/Cropped-Cross-wide-750x450-1.jpg
END:VEVENT
BEGIN:VEVENT
DTSTART;TZID=America/New_York:20231112T091500
DTEND;TZID=America/New_York:20231112T094500
DTSTAMP:20260420T033208
CREATED:20230825T230531Z
LAST-MODIFIED:20230825T230817Z
UID:10000150-1699780500-1699782300@rochesterfbc.org
SUMMARY:Volunteer Choir Rehearsal
DESCRIPTION:If you would like to join our Volunteer Choir that will sing in worship two Sundays a month\, please contact Henry Griffin\, our music director.  Rehearsal begins on September 10 and will be from 9:15 AM to 9:45 AM on Sunday before worship. Our Section Leaders will assist with the volunteers in their parts.
URL:https://rochesterfbc.org/event/volunteer-choir-rehearsal/2023-11-12/
END:VEVENT
BEGIN:VEVENT
DTSTART;VALUE=DATE:20231112
DTEND;VALUE=DATE:20231114
DTSTAMP:20260420T033208
CREATED:20231018T133817Z
LAST-MODIFIED:20231018T133902Z
UID:10000591-1699750800-1699837199@rochesterfbc.org
SUMMARY:Commitment Sunday
DESCRIPTION:
URL:https://rochesterfbc.org/event/commitment-sunday/
END:VEVENT
BEGIN:VEVENT
DTSTART;VALUE=DATE:20231112
DTEND;VALUE=DATE:20231114
DTSTAMP:20260420T033208
CREATED:20231018T133448Z
LAST-MODIFIED:20231018T133701Z
UID:10000590-1699750800-1699837199@rochesterfbc.org
SUMMARY:Jazz 'N Jeans
DESCRIPTION:A special music centered around jazz music worship serice.  This year featuring
URL:https://rochesterfbc.org/event/jazz-n-jeans/
END:VEVENT
BEGIN:VEVENT
DTSTART;TZID=America/New_York:20231108T191500
DTEND;TZID=America/New_York:20231108T194500
DTSTAMP:20260420T033208
CREATED:20231018T132132Z
LAST-MODIFIED:20231018T132132Z
UID:10000584-1699470900-1699472700@rochesterfbc.org
SUMMARY:Handbell Choir Rehearsal
DESCRIPTION:
URL:https://rochesterfbc.org/event/handbell-choir-rehearsal/2023-11-08/
ATTACH;FMTTYPE=image/jpeg:https://rochesterfbc.org/wp-content/uploads/2023/10/Hanbell-sq.jpg
END:VEVENT
BEGIN:VEVENT
DTSTART;TZID=America/New_York:20231108T180000
DTEND;TZID=America/New_York:20231108T190000
DTSTAMP:20260420T033208
CREATED:20230826T002643Z
LAST-MODIFIED:20230826T002745Z
UID:10000369-1699466400-1699470000@rochesterfbc.org
SUMMARY:Wednesday Study
DESCRIPTION:Gathering for study each Wednesday during the program year\, September through mid-June\, we will delve into a variety of topics including scrpture\, a variety of books on various faith or justice topics\, and  other creative study topics.
URL:https://rochesterfbc.org/event/wednesday-study/2023-11-08/
END:VEVENT
END:VCALENDAR