BEGIN:VCALENDAR
VERSION:2.0
PRODID:-//First Rochester - ECPv6.15.20//NONSGML v1.0//EN
CALSCALE:GREGORIAN
METHOD:PUBLISH
X-WR-CALNAME:First Rochester
X-ORIGINAL-URL:https://rochesterfbc.org
X-WR-CALDESC:Events for First Rochester
REFRESH-INTERVAL;VALUE=DURATION:PT1H
X-Robots-Tag:noindex
X-PUBLISHED-TTL:PT1H
BEGIN:VTIMEZONE
TZID:America/New_York
BEGIN:DAYLIGHT
TZOFFSETFROM:-0500
TZOFFSETTO:-0400
TZNAME:EDT
DTSTART:20220313T070000
END:DAYLIGHT
BEGIN:STANDARD
TZOFFSETFROM:-0400
TZOFFSETTO:-0500
TZNAME:EST
DTSTART:20221106T060000
END:STANDARD
BEGIN:DAYLIGHT
TZOFFSETFROM:-0500
TZOFFSETTO:-0400
TZNAME:EDT
DTSTART:20230312T070000
END:DAYLIGHT
BEGIN:STANDARD
TZOFFSETFROM:-0400
TZOFFSETTO:-0500
TZNAME:EST
DTSTART:20231105T060000
END:STANDARD
BEGIN:DAYLIGHT
TZOFFSETFROM:-0500
TZOFFSETTO:-0400
TZNAME:EDT
DTSTART:20240310T070000
END:DAYLIGHT
BEGIN:STANDARD
TZOFFSETFROM:-0400
TZOFFSETTO:-0500
TZNAME:EST
DTSTART:20241103T060000
END:STANDARD
END:VTIMEZONE
BEGIN:VEVENT
DTSTART;TZID=America/New_York:20230908T120000
DTEND;TZID=America/New_York:20230908T121000
DTSTAMP:20260420T195258
CREATED:20230825T223750Z
LAST-MODIFIED:20230829T012835Z
UID:10000136-1694174400-1694175000@rochesterfbc.org
SUMMARY:Bedding Collection Deadline for Sleep In Heavenly Peace
DESCRIPTION:We are collecting twin sized comforter and bed-in-a-bag sets prior to our build day coming soon.  Please bring you set to church where we can display it at the communion table at the front of the church. Items will be collected until September 8. For more details or possible wishlist\, check out our Connections article.
URL:https://rochesterfbc.org/event/bedding-collection-for-sleep-in-heavenly-peace/
ATTACH;FMTTYPE=image/jpeg:https://rochesterfbc.org/wp-content/uploads/2023/08/SleepInHeavenlyPeace.jpg
END:VEVENT
BEGIN:VEVENT
DTSTART;TZID=America/New_York:20230906T173000
DTEND;TZID=America/New_York:20230906T180000
DTSTAMP:20260420T195258
CREATED:20230825T222256Z
LAST-MODIFIED:20240921T150436Z
UID:10000525-1694021400-1694023200@rochesterfbc.org
SUMMARY:Wednesday Check-in
DESCRIPTION:Anyone who wishes may join us for a time together as we check-in with others on zoom throughout the year.
URL:https://rochesterfbc.org/event/wednesday-zoom-check-in/2023-09-06/
ATTACH;FMTTYPE=image/jpeg:https://rochesterfbc.org/wp-content/uploads/2023/08/Zoom-Connect.jpg
END:VEVENT
BEGIN:VEVENT
DTSTART;TZID=America/New_York:20230903T110000
DTEND;TZID=America/New_York:20230903T232000
DTSTAMP:20260420T195258
CREATED:20230825T232322Z
LAST-MODIFIED:20230825T232322Z
UID:10000279-1693738800-1693783200@rochesterfbc.org
SUMMARY:Community Time
DESCRIPTION:Following worship we gather in the Garden Room\, adjacent to the sanctuary for a time of coffee\, tea\, lemondae or other beverage and usually a treat. It is a time to get to know one another better\, catch up\, and share our lives with one another.
URL:https://rochesterfbc.org/event/community-time/2023-09-03/
END:VEVENT
BEGIN:VEVENT
DTSTART;TZID=America/New_York:20230903T100000
DTEND;TZID=America/New_York:20230903T110000
DTSTAMP:20260420T195258
CREATED:20230825T214056Z
LAST-MODIFIED:20230825T224139Z
UID:10000004-1693735200-1693738800@rochesterfbc.org
SUMMARY:Sunday Worship
DESCRIPTION:Join us at 10 AM for worship.  Children’s Programs including instruction and music following the Children’s Time in worship.
URL:https://rochesterfbc.org/event/sunday-worship-3-2/2023-09-03/
ATTACH;FMTTYPE=image/jpeg:https://rochesterfbc.org/wp-content/uploads/2023/08/Cropped-Cross-wide-750x450-1.jpg
END:VEVENT
BEGIN:VEVENT
DTSTART;TZID=America/New_York:20230830T173000
DTEND;TZID=America/New_York:20230830T180000
DTSTAMP:20260420T195258
CREATED:20230825T222256Z
LAST-MODIFIED:20240921T150436Z
UID:10000524-1693416600-1693418400@rochesterfbc.org
SUMMARY:Wednesday Check-in
DESCRIPTION:Anyone who wishes may join us for a time together as we check-in with others on zoom throughout the year.
URL:https://rochesterfbc.org/event/wednesday-zoom-check-in/2023-08-30/
ATTACH;FMTTYPE=image/jpeg:https://rochesterfbc.org/wp-content/uploads/2023/08/Zoom-Connect.jpg
END:VEVENT
BEGIN:VEVENT
DTSTART;TZID=America/New_York:20230827T110000
DTEND;TZID=America/New_York:20230827T232000
DTSTAMP:20260420T195258
CREATED:20230825T232322Z
LAST-MODIFIED:20230825T232322Z
UID:10000278-1693134000-1693178400@rochesterfbc.org
SUMMARY:Community Time
DESCRIPTION:Following worship we gather in the Garden Room\, adjacent to the sanctuary for a time of coffee\, tea\, lemondae or other beverage and usually a treat. It is a time to get to know one another better\, catch up\, and share our lives with one another.
URL:https://rochesterfbc.org/event/community-time/2023-08-27/
END:VEVENT
BEGIN:VEVENT
DTSTART;TZID=America/New_York:20230827T100000
DTEND;TZID=America/New_York:20230827T110000
DTSTAMP:20260420T195258
CREATED:20230825T214056Z
LAST-MODIFIED:20230825T224139Z
UID:10000071-1693130400-1693134000@rochesterfbc.org
SUMMARY:Sunday Worship
DESCRIPTION:Join us at 10 AM for worship.  Children’s Programs including instruction and music following the Children’s Time in worship.
URL:https://rochesterfbc.org/event/sunday-worship-3-2/2023-08-27/
ATTACH;FMTTYPE=image/jpeg:https://rochesterfbc.org/wp-content/uploads/2023/08/Cropped-Cross-wide-750x450-1.jpg
END:VEVENT
BEGIN:VEVENT
DTSTART;TZID=America/New_York:20230823T173000
DTEND;TZID=America/New_York:20230823T180000
DTSTAMP:20260420T195258
CREATED:20230825T222256Z
LAST-MODIFIED:20240921T150436Z
UID:10000523-1692811800-1692813600@rochesterfbc.org
SUMMARY:Wednesday Check-in
DESCRIPTION:Anyone who wishes may join us for a time together as we check-in with others on zoom throughout the year.
URL:https://rochesterfbc.org/event/wednesday-zoom-check-in/2023-08-23/
ATTACH;FMTTYPE=image/jpeg:https://rochesterfbc.org/wp-content/uploads/2023/08/Zoom-Connect.jpg
END:VEVENT
BEGIN:VEVENT
DTSTART;TZID=America/New_York:20230821T180000
DTEND;TZID=America/New_York:20230821T190000
DTSTAMP:20260420T195258
CREATED:20230825T233604Z
LAST-MODIFIED:20240106T135849Z
UID:10000634-1692640800-1692644400@rochesterfbc.org
SUMMARY:Trustees Mtg.
DESCRIPTION:The Board of Trustee which oversee the campus and financies of the church meet monthly on the Third Monday.
URL:https://rochesterfbc.org/event/trustees-mtg/2023-08-21/
ATTACH;FMTTYPE=image/jpeg:https://rochesterfbc.org/wp-content/uploads/2023/08/calculator.jpg
END:VEVENT
BEGIN:VEVENT
DTSTART;TZID=America/New_York:20230820T110000
DTEND;TZID=America/New_York:20230820T232000
DTSTAMP:20260420T195258
CREATED:20230825T232322Z
LAST-MODIFIED:20230825T232322Z
UID:10000277-1692529200-1692573600@rochesterfbc.org
SUMMARY:Community Time
DESCRIPTION:Following worship we gather in the Garden Room\, adjacent to the sanctuary for a time of coffee\, tea\, lemondae or other beverage and usually a treat. It is a time to get to know one another better\, catch up\, and share our lives with one another.
URL:https://rochesterfbc.org/event/community-time/2023-08-20/
END:VEVENT
BEGIN:VEVENT
DTSTART;TZID=America/New_York:20230820T100000
DTEND;TZID=America/New_York:20230820T110000
DTSTAMP:20260420T195258
CREATED:20230825T214056Z
LAST-MODIFIED:20230825T224139Z
UID:10000070-1692525600-1692529200@rochesterfbc.org
SUMMARY:Sunday Worship
DESCRIPTION:Join us at 10 AM for worship.  Children’s Programs including instruction and music following the Children’s Time in worship.
URL:https://rochesterfbc.org/event/sunday-worship-3-2/2023-08-20/
ATTACH;FMTTYPE=image/jpeg:https://rochesterfbc.org/wp-content/uploads/2023/08/Cropped-Cross-wide-750x450-1.jpg
END:VEVENT
BEGIN:VEVENT
DTSTART;TZID=America/New_York:20230816T173000
DTEND;TZID=America/New_York:20230816T180000
DTSTAMP:20260420T195258
CREATED:20230825T222256Z
LAST-MODIFIED:20240921T150436Z
UID:10000522-1692207000-1692208800@rochesterfbc.org
SUMMARY:Wednesday Check-in
DESCRIPTION:Anyone who wishes may join us for a time together as we check-in with others on zoom throughout the year.
URL:https://rochesterfbc.org/event/wednesday-zoom-check-in/2023-08-16/
ATTACH;FMTTYPE=image/jpeg:https://rochesterfbc.org/wp-content/uploads/2023/08/Zoom-Connect.jpg
END:VEVENT
BEGIN:VEVENT
DTSTART;TZID=America/New_York:20230813T110000
DTEND;TZID=America/New_York:20230813T232000
DTSTAMP:20260420T195258
CREATED:20230825T232322Z
LAST-MODIFIED:20230825T232322Z
UID:10000276-1691924400-1691968800@rochesterfbc.org
SUMMARY:Community Time
DESCRIPTION:Following worship we gather in the Garden Room\, adjacent to the sanctuary for a time of coffee\, tea\, lemondae or other beverage and usually a treat. It is a time to get to know one another better\, catch up\, and share our lives with one another.
URL:https://rochesterfbc.org/event/community-time/2023-08-13/
END:VEVENT
BEGIN:VEVENT
DTSTART;TZID=America/New_York:20230813T100000
DTEND;TZID=America/New_York:20230813T110000
DTSTAMP:20260420T195258
CREATED:20230825T214056Z
LAST-MODIFIED:20230825T224139Z
UID:10000069-1691920800-1691924400@rochesterfbc.org
SUMMARY:Sunday Worship
DESCRIPTION:Join us at 10 AM for worship.  Children’s Programs including instruction and music following the Children’s Time in worship.
URL:https://rochesterfbc.org/event/sunday-worship-3-2/2023-08-13/
ATTACH;FMTTYPE=image/jpeg:https://rochesterfbc.org/wp-content/uploads/2023/08/Cropped-Cross-wide-750x450-1.jpg
END:VEVENT
BEGIN:VEVENT
DTSTART;TZID=America/New_York:20230809T173000
DTEND;TZID=America/New_York:20230809T180000
DTSTAMP:20260420T195258
CREATED:20230825T222256Z
LAST-MODIFIED:20240921T150436Z
UID:10000521-1691602200-1691604000@rochesterfbc.org
SUMMARY:Wednesday Check-in
DESCRIPTION:Anyone who wishes may join us for a time together as we check-in with others on zoom throughout the year.
URL:https://rochesterfbc.org/event/wednesday-zoom-check-in/2023-08-09/
ATTACH;FMTTYPE=image/jpeg:https://rochesterfbc.org/wp-content/uploads/2023/08/Zoom-Connect.jpg
END:VEVENT
BEGIN:VEVENT
DTSTART;TZID=America/New_York:20230806T110000
DTEND;TZID=America/New_York:20230806T232000
DTSTAMP:20260420T195258
CREATED:20230825T232322Z
LAST-MODIFIED:20230825T232322Z
UID:10000275-1691319600-1691364000@rochesterfbc.org
SUMMARY:Community Time
DESCRIPTION:Following worship we gather in the Garden Room\, adjacent to the sanctuary for a time of coffee\, tea\, lemondae or other beverage and usually a treat. It is a time to get to know one another better\, catch up\, and share our lives with one another.
URL:https://rochesterfbc.org/event/community-time/2023-08-06/
END:VEVENT
BEGIN:VEVENT
DTSTART;TZID=America/New_York:20230806T100000
DTEND;TZID=America/New_York:20230806T110000
DTSTAMP:20260420T195258
CREATED:20230825T214056Z
LAST-MODIFIED:20230825T224139Z
UID:10000137-1691316000-1691319600@rochesterfbc.org
SUMMARY:Sunday Worship
DESCRIPTION:Join us at 10 AM for worship.  Children’s Programs including instruction and music following the Children’s Time in worship.
URL:https://rochesterfbc.org/event/sunday-worship-3-2/2023-08-06/
ATTACH;FMTTYPE=image/jpeg:https://rochesterfbc.org/wp-content/uploads/2023/08/Cropped-Cross-wide-750x450-1.jpg
END:VEVENT
BEGIN:VEVENT
DTSTART;TZID=America/New_York:20230802T173000
DTEND;TZID=America/New_York:20230802T180000
DTSTAMP:20260420T195258
CREATED:20230825T222256Z
LAST-MODIFIED:20240921T150436Z
UID:10000520-1690997400-1690999200@rochesterfbc.org
SUMMARY:Wednesday Check-in
DESCRIPTION:Anyone who wishes may join us for a time together as we check-in with others on zoom throughout the year.
URL:https://rochesterfbc.org/event/wednesday-zoom-check-in/2023-08-02/
ATTACH;FMTTYPE=image/jpeg:https://rochesterfbc.org/wp-content/uploads/2023/08/Zoom-Connect.jpg
END:VEVENT
BEGIN:VEVENT
DTSTART;TZID=America/New_York:20230730T110000
DTEND;TZID=America/New_York:20230730T232000
DTSTAMP:20260420T195258
CREATED:20230825T232322Z
LAST-MODIFIED:20230825T232322Z
UID:10000274-1690714800-1690759200@rochesterfbc.org
SUMMARY:Community Time
DESCRIPTION:Following worship we gather in the Garden Room\, adjacent to the sanctuary for a time of coffee\, tea\, lemondae or other beverage and usually a treat. It is a time to get to know one another better\, catch up\, and share our lives with one another.
URL:https://rochesterfbc.org/event/community-time/2023-07-30/
END:VEVENT
BEGIN:VEVENT
DTSTART;TZID=America/New_York:20230730T100000
DTEND;TZID=America/New_York:20230730T110000
DTSTAMP:20260420T195258
CREATED:20230825T214056Z
LAST-MODIFIED:20230825T224139Z
UID:10000068-1690711200-1690714800@rochesterfbc.org
SUMMARY:Sunday Worship
DESCRIPTION:Join us at 10 AM for worship.  Children’s Programs including instruction and music following the Children’s Time in worship.
URL:https://rochesterfbc.org/event/sunday-worship-3-2/2023-07-30/
ATTACH;FMTTYPE=image/jpeg:https://rochesterfbc.org/wp-content/uploads/2023/08/Cropped-Cross-wide-750x450-1.jpg
END:VEVENT
BEGIN:VEVENT
DTSTART;TZID=America/New_York:20230726T173000
DTEND;TZID=America/New_York:20230726T180000
DTSTAMP:20260420T195258
CREATED:20230825T222256Z
LAST-MODIFIED:20240921T150436Z
UID:10000519-1690392600-1690394400@rochesterfbc.org
SUMMARY:Wednesday Check-in
DESCRIPTION:Anyone who wishes may join us for a time together as we check-in with others on zoom throughout the year.
URL:https://rochesterfbc.org/event/wednesday-zoom-check-in/2023-07-26/
ATTACH;FMTTYPE=image/jpeg:https://rochesterfbc.org/wp-content/uploads/2023/08/Zoom-Connect.jpg
END:VEVENT
BEGIN:VEVENT
DTSTART;TZID=America/New_York:20230723T110000
DTEND;TZID=America/New_York:20230723T232000
DTSTAMP:20260420T195258
CREATED:20230825T232322Z
LAST-MODIFIED:20230825T232322Z
UID:10000273-1690110000-1690154400@rochesterfbc.org
SUMMARY:Community Time
DESCRIPTION:Following worship we gather in the Garden Room\, adjacent to the sanctuary for a time of coffee\, tea\, lemondae or other beverage and usually a treat. It is a time to get to know one another better\, catch up\, and share our lives with one another.
URL:https://rochesterfbc.org/event/community-time/2023-07-23/
END:VEVENT
BEGIN:VEVENT
DTSTART;TZID=America/New_York:20230723T100000
DTEND;TZID=America/New_York:20230723T110000
DTSTAMP:20260420T195258
CREATED:20230825T214056Z
LAST-MODIFIED:20230825T224139Z
UID:10000067-1690106400-1690110000@rochesterfbc.org
SUMMARY:Sunday Worship
DESCRIPTION:Join us at 10 AM for worship.  Children’s Programs including instruction and music following the Children’s Time in worship.
URL:https://rochesterfbc.org/event/sunday-worship-3-2/2023-07-23/
ATTACH;FMTTYPE=image/jpeg:https://rochesterfbc.org/wp-content/uploads/2023/08/Cropped-Cross-wide-750x450-1.jpg
END:VEVENT
BEGIN:VEVENT
DTSTART;TZID=America/New_York:20230719T173000
DTEND;TZID=America/New_York:20230719T180000
DTSTAMP:20260420T195258
CREATED:20230825T222256Z
LAST-MODIFIED:20240921T150436Z
UID:10000518-1689787800-1689789600@rochesterfbc.org
SUMMARY:Wednesday Check-in
DESCRIPTION:Anyone who wishes may join us for a time together as we check-in with others on zoom throughout the year.
URL:https://rochesterfbc.org/event/wednesday-zoom-check-in/2023-07-19/
ATTACH;FMTTYPE=image/jpeg:https://rochesterfbc.org/wp-content/uploads/2023/08/Zoom-Connect.jpg
END:VEVENT
BEGIN:VEVENT
DTSTART;TZID=America/New_York:20230717T180000
DTEND;TZID=America/New_York:20230717T190000
DTSTAMP:20260420T195258
CREATED:20230825T233604Z
LAST-MODIFIED:20240106T135849Z
UID:10000633-1689616800-1689620400@rochesterfbc.org
SUMMARY:Trustees Mtg.
DESCRIPTION:The Board of Trustee which oversee the campus and financies of the church meet monthly on the Third Monday.
URL:https://rochesterfbc.org/event/trustees-mtg/2023-07-17/
ATTACH;FMTTYPE=image/jpeg:https://rochesterfbc.org/wp-content/uploads/2023/08/calculator.jpg
END:VEVENT
BEGIN:VEVENT
DTSTART;TZID=America/New_York:20230716T110000
DTEND;TZID=America/New_York:20230716T232000
DTSTAMP:20260420T195258
CREATED:20230825T232322Z
LAST-MODIFIED:20230825T232322Z
UID:10000272-1689505200-1689549600@rochesterfbc.org
SUMMARY:Community Time
DESCRIPTION:Following worship we gather in the Garden Room\, adjacent to the sanctuary for a time of coffee\, tea\, lemondae or other beverage and usually a treat. It is a time to get to know one another better\, catch up\, and share our lives with one another.
URL:https://rochesterfbc.org/event/community-time/2023-07-16/
END:VEVENT
BEGIN:VEVENT
DTSTART;TZID=America/New_York:20230716T100000
DTEND;TZID=America/New_York:20230716T110000
DTSTAMP:20260420T195258
CREATED:20230825T214056Z
LAST-MODIFIED:20230825T224139Z
UID:10000066-1689501600-1689505200@rochesterfbc.org
SUMMARY:Sunday Worship
DESCRIPTION:Join us at 10 AM for worship.  Children’s Programs including instruction and music following the Children’s Time in worship.
URL:https://rochesterfbc.org/event/sunday-worship-3-2/2023-07-16/
ATTACH;FMTTYPE=image/jpeg:https://rochesterfbc.org/wp-content/uploads/2023/08/Cropped-Cross-wide-750x450-1.jpg
END:VEVENT
BEGIN:VEVENT
DTSTART;TZID=America/New_York:20230712T173000
DTEND;TZID=America/New_York:20230712T180000
DTSTAMP:20260420T195258
CREATED:20230825T222256Z
LAST-MODIFIED:20240921T150436Z
UID:10000517-1689183000-1689184800@rochesterfbc.org
SUMMARY:Wednesday Check-in
DESCRIPTION:Anyone who wishes may join us for a time together as we check-in with others on zoom throughout the year.
URL:https://rochesterfbc.org/event/wednesday-zoom-check-in/2023-07-12/
ATTACH;FMTTYPE=image/jpeg:https://rochesterfbc.org/wp-content/uploads/2023/08/Zoom-Connect.jpg
END:VEVENT
BEGIN:VEVENT
DTSTART;TZID=America/New_York:20230709T110000
DTEND;TZID=America/New_York:20230709T232000
DTSTAMP:20260420T195258
CREATED:20230825T232322Z
LAST-MODIFIED:20230825T232322Z
UID:10000271-1688900400-1688944800@rochesterfbc.org
SUMMARY:Community Time
DESCRIPTION:Following worship we gather in the Garden Room\, adjacent to the sanctuary for a time of coffee\, tea\, lemondae or other beverage and usually a treat. It is a time to get to know one another better\, catch up\, and share our lives with one another.
URL:https://rochesterfbc.org/event/community-time/2023-07-09/
END:VEVENT
BEGIN:VEVENT
DTSTART;TZID=America/New_York:20230709T100000
DTEND;TZID=America/New_York:20230709T110000
DTSTAMP:20260420T195258
CREATED:20230825T214056Z
LAST-MODIFIED:20230825T224139Z
UID:10000065-1688896800-1688900400@rochesterfbc.org
SUMMARY:Sunday Worship
DESCRIPTION:Join us at 10 AM for worship.  Children’s Programs including instruction and music following the Children’s Time in worship.
URL:https://rochesterfbc.org/event/sunday-worship-3-2/2023-07-09/
ATTACH;FMTTYPE=image/jpeg:https://rochesterfbc.org/wp-content/uploads/2023/08/Cropped-Cross-wide-750x450-1.jpg
END:VEVENT
END:VCALENDAR