BEGIN:VCALENDAR
VERSION:2.0
PRODID:-//First Rochester - ECPv6.15.20//NONSGML v1.0//EN
CALSCALE:GREGORIAN
METHOD:PUBLISH
X-ORIGINAL-URL:https://rochesterfbc.org
X-WR-CALDESC:Events for First Rochester
REFRESH-INTERVAL;VALUE=DURATION:PT1H
X-Robots-Tag:noindex
X-PUBLISHED-TTL:PT1H
BEGIN:VTIMEZONE
TZID:America/New_York
BEGIN:DAYLIGHT
TZOFFSETFROM:-0500
TZOFFSETTO:-0400
TZNAME:EDT
DTSTART:20260308T070000
END:DAYLIGHT
BEGIN:STANDARD
TZOFFSETFROM:-0400
TZOFFSETTO:-0500
TZNAME:EST
DTSTART:20261101T060000
END:STANDARD
BEGIN:DAYLIGHT
TZOFFSETFROM:-0500
TZOFFSETTO:-0400
TZNAME:EDT
DTSTART:20270314T070000
END:DAYLIGHT
BEGIN:STANDARD
TZOFFSETFROM:-0400
TZOFFSETTO:-0500
TZNAME:EST
DTSTART:20271107T060000
END:STANDARD
BEGIN:DAYLIGHT
TZOFFSETFROM:-0500
TZOFFSETTO:-0400
TZNAME:EDT
DTSTART:20280312T070000
END:DAYLIGHT
BEGIN:STANDARD
TZOFFSETFROM:-0400
TZOFFSETTO:-0500
TZNAME:EST
DTSTART:20281105T060000
END:STANDARD
BEGIN:DAYLIGHT
TZOFFSETFROM:-0500
TZOFFSETTO:-0400
TZNAME:EDT
DTSTART:20290311T070000
END:DAYLIGHT
BEGIN:STANDARD
TZOFFSETFROM:-0400
TZOFFSETTO:-0500
TZNAME:EST
DTSTART:20291104T060000
END:STANDARD
END:VTIMEZONE
BEGIN:VEVENT
DTSTART;TZID=America/New_York:20271219T113000
DTEND;TZID=America/New_York:20271219T121000
DTSTAMP:20260420T033926
CREATED:20260418T150335Z
LAST-MODIFIED:20260418T150516Z
UID:10004425-1829215800-1829218200@rochesterfbc.org
SUMMARY:Mission Meeting
DESCRIPTION:Join our Mission Team in the library after a brief time of Fellowship in the Garden Room.  They will discuss and plan various local mission intiatives for First Rochester to engage with the community.  They also determine support for strategic Associations as well as our International Ministries focus\, Lance and Christiana Muteyo.
URL:https://rochesterfbc.org/event/mission-meeting-3/2027-12-19/
END:VEVENT
BEGIN:VEVENT
DTSTART;TZID=America/New_York:20271220T180000
DTEND;TZID=America/New_York:20271220T190000
DTSTAMP:20260420T033926
CREATED:20230825T233604Z
LAST-MODIFIED:20240106T135849Z
UID:10000686-1829325600-1829329200@rochesterfbc.org
SUMMARY:Trustees Mtg.
DESCRIPTION:The Board of Trustee which oversee the campus and financies of the church meet monthly on the Third Monday.
URL:https://rochesterfbc.org/event/trustees-mtg/2027-12-20/
ATTACH;FMTTYPE=image/jpeg:https://rochesterfbc.org/wp-content/uploads/2023/08/calculator.jpg
END:VEVENT
BEGIN:VEVENT
DTSTART;TZID=America/New_York:20271221T180000
DTEND;TZID=America/New_York:20271221T193000
DTSTAMP:20260420T033926
CREATED:20250622T172005Z
LAST-MODIFIED:20250622T172120Z
UID:10000891-1829412000-1829417400@rochesterfbc.org
SUMMARY:Church Council
DESCRIPTION:The leadership of the church meet on the third Tuesday of the month to share the work of their groups\, special iniatives\, and to vote on various happenings of the church. The council meetings are open to all. If you have a topic you would like to discuss\, please reach out to the church office so that you can be placed on the agenda.
URL:https://rochesterfbc.org/event/church-council-2-3-2/2027-12-21/
ATTACH;FMTTYPE=image/jpeg:https://rochesterfbc.org/wp-content/uploads/2023/08/Church-Council.jpg
END:VEVENT
BEGIN:VEVENT
DTSTART;TZID=America/New_York:20271223T113000
DTEND;TZID=America/New_York:20271223T133000
DTSTAMP:20260420T033926
CREATED:20260418T145256Z
LAST-MODIFIED:20260418T145321Z
UID:10004226-1829561400-1829568600@rochesterfbc.org
SUMMARY:OWLS - Older Wiser Learning Seniors
DESCRIPTION:Programs details to come \n  \n 
URL:https://rochesterfbc.org/event/owls-older-wiser-learning-seniors-may-2-2/2027-12-23/
END:VEVENT
BEGIN:VEVENT
DTSTART;TZID=America/New_York:20271226T094000
DTEND;TZID=America/New_York:20271226T120000
DTSTAMP:20260420T033927
CREATED:20260408T215334Z
LAST-MODIFIED:20260408T215336Z
UID:10003920-1829814000-1829822400@rochesterfbc.org
SUMMARY:Nursery Open
DESCRIPTION:Each week between 9:40 AM and ~12:00 PM\, our nursery will be open for children birth to Pre-K.
URL:https://rochesterfbc.org/event/nursery-opens-2/2027-12-26/
END:VEVENT
BEGIN:VEVENT
DTSTART;TZID=America/New_York:20271226T100000
DTEND;TZID=America/New_York:20271226T110000
DTSTAMP:20260420T033927
CREATED:20240830T202337Z
LAST-MODIFIED:20240830T202337Z
UID:10001802-1829815200-1829818800@rochesterfbc.org
SUMMARY:Worship
DESCRIPTION:
URL:https://rochesterfbc.org/event/worship/2027-12-26/
END:VEVENT
BEGIN:VEVENT
DTSTART;TZID=America/New_York:20271228T113000
DTEND;TZID=America/New_York:20271228T133000
DTSTAMP:20260420T033927
CREATED:20260110T160103Z
LAST-MODIFIED:20260110T160103Z
UID:10003727-1829993400-1830000600@rochesterfbc.org
SUMMARY:FBCR Book Club
DESCRIPTION:The Book Club meets\, generally on the 4th Tuesday of the month\, at 11:30 AM for a BYOB lunch (beverages provided) and fellowship with a discussion of each month’s book at noon.  It concludes at 1:30 PM. \nThe book of the month is choosen at that meeting for the next month\, or shortly thereafter if availablility at local librarys need to take place. \nOccasional date changes do happen by concensus of participants.
URL:https://rochesterfbc.org/event/fbcr-book-club-6/2027-12-28/
END:VEVENT
BEGIN:VEVENT
DTSTART;TZID=America/New_York:20271230T113000
DTEND;TZID=America/New_York:20271230T133000
DTSTAMP:20260420T033927
CREATED:20260418T145256Z
LAST-MODIFIED:20260418T145321Z
UID:10004227-1830166200-1830173400@rochesterfbc.org
SUMMARY:OWLS - Older Wiser Learning Seniors
DESCRIPTION:Programs details to come \n  \n 
URL:https://rochesterfbc.org/event/owls-older-wiser-learning-seniors-may-2-2/2027-12-30/
END:VEVENT
BEGIN:VEVENT
DTSTART;VALUE=DATE:20280102
DTEND;VALUE=DATE:20280104
DTSTAMP:20260420T033927
CREATED:20260418T152350Z
LAST-MODIFIED:20260418T152544Z
UID:10004565-1830387600-1830473999@rochesterfbc.org
SUMMARY:Communion Sunday
DESCRIPTION:
URL:https://rochesterfbc.org/event/communion-sunday/2028-01-02/
END:VEVENT
BEGIN:VEVENT
DTSTART;TZID=America/New_York:20280102T094000
DTEND;TZID=America/New_York:20280102T120000
DTSTAMP:20260420T033927
CREATED:20260408T215334Z
LAST-MODIFIED:20260408T215336Z
UID:10003921-1830418800-1830427200@rochesterfbc.org
SUMMARY:Nursery Open
DESCRIPTION:Each week between 9:40 AM and ~12:00 PM\, our nursery will be open for children birth to Pre-K.
URL:https://rochesterfbc.org/event/nursery-opens-2/2028-01-02/
END:VEVENT
BEGIN:VEVENT
DTSTART;TZID=America/New_York:20280102T100000
DTEND;TZID=America/New_York:20280102T110000
DTSTAMP:20260420T033927
CREATED:20240830T202337Z
LAST-MODIFIED:20240830T202337Z
UID:10001803-1830420000-1830423600@rochesterfbc.org
SUMMARY:Worship
DESCRIPTION:
URL:https://rochesterfbc.org/event/worship/2028-01-02/
END:VEVENT
BEGIN:VEVENT
DTSTART;TZID=America/New_York:20280106T113000
DTEND;TZID=America/New_York:20280106T133000
DTSTAMP:20260420T033927
CREATED:20260418T145256Z
LAST-MODIFIED:20260418T145321Z
UID:10004228-1830771000-1830778200@rochesterfbc.org
SUMMARY:OWLS - Older Wiser Learning Seniors
DESCRIPTION:Programs details to come \n  \n 
URL:https://rochesterfbc.org/event/owls-older-wiser-learning-seniors-may-2-2/2028-01-06/
END:VEVENT
BEGIN:VEVENT
DTSTART;TZID=America/New_York:20280109T094000
DTEND;TZID=America/New_York:20280109T120000
DTSTAMP:20260420T033927
CREATED:20260408T215334Z
LAST-MODIFIED:20260408T215336Z
UID:10003922-1831023600-1831032000@rochesterfbc.org
SUMMARY:Nursery Open
DESCRIPTION:Each week between 9:40 AM and ~12:00 PM\, our nursery will be open for children birth to Pre-K.
URL:https://rochesterfbc.org/event/nursery-opens-2/2028-01-09/
END:VEVENT
BEGIN:VEVENT
DTSTART;TZID=America/New_York:20280109T100000
DTEND;TZID=America/New_York:20280109T110000
DTSTAMP:20260420T033927
CREATED:20240830T202337Z
LAST-MODIFIED:20240830T202337Z
UID:10001804-1831024800-1831028400@rochesterfbc.org
SUMMARY:Worship
DESCRIPTION:
URL:https://rochesterfbc.org/event/worship/2028-01-09/
END:VEVENT
BEGIN:VEVENT
DTSTART;TZID=America/New_York:20280113T113000
DTEND;TZID=America/New_York:20280113T133000
DTSTAMP:20260420T033927
CREATED:20260418T145256Z
LAST-MODIFIED:20260418T145321Z
UID:10004229-1831375800-1831383000@rochesterfbc.org
SUMMARY:OWLS - Older Wiser Learning Seniors
DESCRIPTION:Programs details to come \n  \n 
URL:https://rochesterfbc.org/event/owls-older-wiser-learning-seniors-may-2-2/2028-01-13/
END:VEVENT
BEGIN:VEVENT
DTSTART;TZID=America/New_York:20280116T094000
DTEND;TZID=America/New_York:20280116T120000
DTSTAMP:20260420T033927
CREATED:20260408T215334Z
LAST-MODIFIED:20260408T215336Z
UID:10003923-1831628400-1831636800@rochesterfbc.org
SUMMARY:Nursery Open
DESCRIPTION:Each week between 9:40 AM and ~12:00 PM\, our nursery will be open for children birth to Pre-K.
URL:https://rochesterfbc.org/event/nursery-opens-2/2028-01-16/
END:VEVENT
BEGIN:VEVENT
DTSTART;TZID=America/New_York:20280116T100000
DTEND;TZID=America/New_York:20280116T110000
DTSTAMP:20260420T033927
CREATED:20240830T202337Z
LAST-MODIFIED:20240830T202337Z
UID:10001805-1831629600-1831633200@rochesterfbc.org
SUMMARY:Worship
DESCRIPTION:
URL:https://rochesterfbc.org/event/worship/2028-01-16/
END:VEVENT
BEGIN:VEVENT
DTSTART;TZID=America/New_York:20280116T113000
DTEND;TZID=America/New_York:20280116T121000
DTSTAMP:20260420T033927
CREATED:20260418T150335Z
LAST-MODIFIED:20260418T150516Z
UID:10004426-1831635000-1831637400@rochesterfbc.org
SUMMARY:Mission Meeting
DESCRIPTION:Join our Mission Team in the library after a brief time of Fellowship in the Garden Room.  They will discuss and plan various local mission intiatives for First Rochester to engage with the community.  They also determine support for strategic Associations as well as our International Ministries focus\, Lance and Christiana Muteyo.
URL:https://rochesterfbc.org/event/mission-meeting-3/2028-01-16/
END:VEVENT
BEGIN:VEVENT
DTSTART;TZID=America/New_York:20280117T180000
DTEND;TZID=America/New_York:20280117T190000
DTSTAMP:20260420T033927
CREATED:20230825T233604Z
LAST-MODIFIED:20240106T135849Z
UID:10000687-1831744800-1831748400@rochesterfbc.org
SUMMARY:Trustees Mtg.
DESCRIPTION:The Board of Trustee which oversee the campus and financies of the church meet monthly on the Third Monday.
URL:https://rochesterfbc.org/event/trustees-mtg/2028-01-17/
ATTACH;FMTTYPE=image/jpeg:https://rochesterfbc.org/wp-content/uploads/2023/08/calculator.jpg
END:VEVENT
BEGIN:VEVENT
DTSTART;TZID=America/New_York:20280118T180000
DTEND;TZID=America/New_York:20280118T193000
DTSTAMP:20260420T033927
CREATED:20250622T172005Z
LAST-MODIFIED:20250622T172120Z
UID:10000892-1831831200-1831836600@rochesterfbc.org
SUMMARY:Church Council
DESCRIPTION:The leadership of the church meet on the third Tuesday of the month to share the work of their groups\, special iniatives\, and to vote on various happenings of the church. The council meetings are open to all. If you have a topic you would like to discuss\, please reach out to the church office so that you can be placed on the agenda.
URL:https://rochesterfbc.org/event/church-council-2-3-2/2028-01-18/
ATTACH;FMTTYPE=image/jpeg:https://rochesterfbc.org/wp-content/uploads/2023/08/Church-Council.jpg
END:VEVENT
BEGIN:VEVENT
DTSTART;TZID=America/New_York:20280120T113000
DTEND;TZID=America/New_York:20280120T133000
DTSTAMP:20260420T033927
CREATED:20260418T145256Z
LAST-MODIFIED:20260418T145321Z
UID:10004230-1831980600-1831987800@rochesterfbc.org
SUMMARY:OWLS - Older Wiser Learning Seniors
DESCRIPTION:Programs details to come \n  \n 
URL:https://rochesterfbc.org/event/owls-older-wiser-learning-seniors-may-2-2/2028-01-20/
END:VEVENT
BEGIN:VEVENT
DTSTART;TZID=America/New_York:20280123T094000
DTEND;TZID=America/New_York:20280123T120000
DTSTAMP:20260420T033927
CREATED:20260408T215334Z
LAST-MODIFIED:20260408T215336Z
UID:10003924-1832233200-1832241600@rochesterfbc.org
SUMMARY:Nursery Open
DESCRIPTION:Each week between 9:40 AM and ~12:00 PM\, our nursery will be open for children birth to Pre-K.
URL:https://rochesterfbc.org/event/nursery-opens-2/2028-01-23/
END:VEVENT
BEGIN:VEVENT
DTSTART;TZID=America/New_York:20280123T100000
DTEND;TZID=America/New_York:20280123T110000
DTSTAMP:20260420T033927
CREATED:20240830T202337Z
LAST-MODIFIED:20240830T202337Z
UID:10001806-1832234400-1832238000@rochesterfbc.org
SUMMARY:Worship
DESCRIPTION:
URL:https://rochesterfbc.org/event/worship/2028-01-23/
END:VEVENT
BEGIN:VEVENT
DTSTART;TZID=America/New_York:20280125T113000
DTEND;TZID=America/New_York:20280125T133000
DTSTAMP:20260420T033927
CREATED:20260110T160103Z
LAST-MODIFIED:20260110T160103Z
UID:10003728-1832412600-1832419800@rochesterfbc.org
SUMMARY:FBCR Book Club
DESCRIPTION:The Book Club meets\, generally on the 4th Tuesday of the month\, at 11:30 AM for a BYOB lunch (beverages provided) and fellowship with a discussion of each month’s book at noon.  It concludes at 1:30 PM. \nThe book of the month is choosen at that meeting for the next month\, or shortly thereafter if availablility at local librarys need to take place. \nOccasional date changes do happen by concensus of participants.
URL:https://rochesterfbc.org/event/fbcr-book-club-6/2028-01-25/
END:VEVENT
BEGIN:VEVENT
DTSTART;TZID=America/New_York:20280127T113000
DTEND;TZID=America/New_York:20280127T133000
DTSTAMP:20260420T033927
CREATED:20260418T145256Z
LAST-MODIFIED:20260418T145321Z
UID:10004231-1832585400-1832592600@rochesterfbc.org
SUMMARY:OWLS - Older Wiser Learning Seniors
DESCRIPTION:Programs details to come \n  \n 
URL:https://rochesterfbc.org/event/owls-older-wiser-learning-seniors-may-2-2/2028-01-27/
END:VEVENT
BEGIN:VEVENT
DTSTART;TZID=America/New_York:20280130T094000
DTEND;TZID=America/New_York:20280130T120000
DTSTAMP:20260420T033927
CREATED:20260408T215334Z
LAST-MODIFIED:20260408T215336Z
UID:10003925-1832838000-1832846400@rochesterfbc.org
SUMMARY:Nursery Open
DESCRIPTION:Each week between 9:40 AM and ~12:00 PM\, our nursery will be open for children birth to Pre-K.
URL:https://rochesterfbc.org/event/nursery-opens-2/2028-01-30/
END:VEVENT
BEGIN:VEVENT
DTSTART;TZID=America/New_York:20280130T100000
DTEND;TZID=America/New_York:20280130T110000
DTSTAMP:20260420T033927
CREATED:20240830T202337Z
LAST-MODIFIED:20240830T202337Z
UID:10001807-1832839200-1832842800@rochesterfbc.org
SUMMARY:Worship
DESCRIPTION:
URL:https://rochesterfbc.org/event/worship/2028-01-30/
END:VEVENT
BEGIN:VEVENT
DTSTART;TZID=America/New_York:20280130T103500
DTEND;TZID=America/New_York:20280130T113000
DTSTAMP:20260420T033927
CREATED:20260418T151533Z
LAST-MODIFIED:20260418T151644Z
UID:10004530-1832841300-1832844600@rochesterfbc.org
SUMMARY:Fifth Sunday Mission Project
DESCRIPTION:On Fifth Sundays\, First Rochester works together at the end of a shortened worship service in some way to benefit a local non-profit organization.  I the past we have packed kits for Church World Service\, assembled both snack kits and hygiene kits for Cameron Community Ministries and we have packed Street Ministry hygiene kits for House of Mercy.
URL:https://rochesterfbc.org/event/fifth-sunday-mission-project/2028-01-30/
END:VEVENT
BEGIN:VEVENT
DTSTART;TZID=America/New_York:20280203T113000
DTEND;TZID=America/New_York:20280203T133000
DTSTAMP:20260420T033927
CREATED:20260418T145256Z
LAST-MODIFIED:20260418T145321Z
UID:10004232-1833190200-1833197400@rochesterfbc.org
SUMMARY:OWLS - Older Wiser Learning Seniors
DESCRIPTION:Programs details to come \n  \n 
URL:https://rochesterfbc.org/event/owls-older-wiser-learning-seniors-may-2-2/2028-02-03/
END:VEVENT
BEGIN:VEVENT
DTSTART;VALUE=DATE:20280206
DTEND;VALUE=DATE:20280208
DTSTAMP:20260420T033927
CREATED:20260418T152350Z
LAST-MODIFIED:20260418T152544Z
UID:10004566-1833411600-1833497999@rochesterfbc.org
SUMMARY:Communion Sunday
DESCRIPTION:
URL:https://rochesterfbc.org/event/communion-sunday/2028-02-06/
END:VEVENT
END:VCALENDAR