BEGIN:VCALENDAR
VERSION:2.0
PRODID:-//First Rochester - ECPv6.15.20//NONSGML v1.0//EN
CALSCALE:GREGORIAN
METHOD:PUBLISH
X-WR-CALNAME:First Rochester
X-ORIGINAL-URL:https://rochesterfbc.org
X-WR-CALDESC:Events for First Rochester
REFRESH-INTERVAL;VALUE=DURATION:PT1H
X-Robots-Tag:noindex
X-PUBLISHED-TTL:PT1H
BEGIN:VTIMEZONE
TZID:America/New_York
BEGIN:DAYLIGHT
TZOFFSETFROM:-0500
TZOFFSETTO:-0400
TZNAME:EDT
DTSTART:20270314T070000
END:DAYLIGHT
BEGIN:STANDARD
TZOFFSETFROM:-0400
TZOFFSETTO:-0500
TZNAME:EST
DTSTART:20271107T060000
END:STANDARD
BEGIN:DAYLIGHT
TZOFFSETFROM:-0500
TZOFFSETTO:-0400
TZNAME:EDT
DTSTART:20280312T070000
END:DAYLIGHT
BEGIN:STANDARD
TZOFFSETFROM:-0400
TZOFFSETTO:-0500
TZNAME:EST
DTSTART:20281105T060000
END:STANDARD
BEGIN:DAYLIGHT
TZOFFSETFROM:-0500
TZOFFSETTO:-0400
TZNAME:EDT
DTSTART:20290311T070000
END:DAYLIGHT
BEGIN:STANDARD
TZOFFSETFROM:-0400
TZOFFSETTO:-0500
TZNAME:EST
DTSTART:20291104T060000
END:STANDARD
END:VTIMEZONE
BEGIN:VEVENT
DTSTART;TZID=America/New_York:20280813T100000
DTEND;TZID=America/New_York:20280813T110000
DTSTAMP:20260421T010902
CREATED:20240830T202337Z
LAST-MODIFIED:20240830T202337Z
UID:10001835-1849773600-1849777200@rochesterfbc.org
SUMMARY:Worship
DESCRIPTION:
URL:https://rochesterfbc.org/event/worship/2028-08-13/
END:VEVENT
BEGIN:VEVENT
DTSTART;TZID=America/New_York:20280815T180000
DTEND;TZID=America/New_York:20280815T193000
DTSTAMP:20260421T010902
CREATED:20250622T172005Z
LAST-MODIFIED:20250622T172120Z
UID:10000899-1849975200-1849980600@rochesterfbc.org
SUMMARY:Church Council
DESCRIPTION:The leadership of the church meet on the third Tuesday of the month to share the work of their groups\, special iniatives\, and to vote on various happenings of the church. The council meetings are open to all. If you have a topic you would like to discuss\, please reach out to the church office so that you can be placed on the agenda.
URL:https://rochesterfbc.org/event/church-council-2-3-2/2028-08-15/
ATTACH;FMTTYPE=image/jpeg:https://rochesterfbc.org/wp-content/uploads/2023/08/Church-Council.jpg
END:VEVENT
BEGIN:VEVENT
DTSTART;TZID=America/New_York:20280817T113000
DTEND;TZID=America/New_York:20280817T133000
DTSTAMP:20260421T010902
CREATED:20260418T145256Z
LAST-MODIFIED:20260418T145321Z
UID:10004260-1850124600-1850131800@rochesterfbc.org
SUMMARY:OWLS - Older Wiser Learning Seniors
DESCRIPTION:Programs details to come \n  \n 
URL:https://rochesterfbc.org/event/owls-older-wiser-learning-seniors-may-2-2/2028-08-17/
END:VEVENT
BEGIN:VEVENT
DTSTART;TZID=America/New_York:20280820T094000
DTEND;TZID=America/New_York:20280820T120000
DTSTAMP:20260421T010902
CREATED:20260408T215334Z
LAST-MODIFIED:20260408T215336Z
UID:10003954-1850377200-1850385600@rochesterfbc.org
SUMMARY:Nursery Open
DESCRIPTION:Each week between 9:40 AM and ~12:00 PM\, our nursery will be open for children birth to Pre-K.
URL:https://rochesterfbc.org/event/nursery-opens-2/2028-08-20/
END:VEVENT
BEGIN:VEVENT
DTSTART;TZID=America/New_York:20280820T100000
DTEND;TZID=America/New_York:20280820T110000
DTSTAMP:20260421T010902
CREATED:20240830T202337Z
LAST-MODIFIED:20240830T202337Z
UID:10001836-1850378400-1850382000@rochesterfbc.org
SUMMARY:Worship
DESCRIPTION:
URL:https://rochesterfbc.org/event/worship/2028-08-20/
END:VEVENT
BEGIN:VEVENT
DTSTART;TZID=America/New_York:20280820T113000
DTEND;TZID=America/New_York:20280820T121000
DTSTAMP:20260421T010902
CREATED:20260418T150335Z
LAST-MODIFIED:20260418T150516Z
UID:10004433-1850383800-1850386200@rochesterfbc.org
SUMMARY:Mission Meeting
DESCRIPTION:Join our Mission Team in the library after a brief time of Fellowship in the Garden Room.  They will discuss and plan various local mission intiatives for First Rochester to engage with the community.  They also determine support for strategic Associations as well as our International Ministries focus\, Lance and Christiana Muteyo.
URL:https://rochesterfbc.org/event/mission-meeting-3/2028-08-20/
END:VEVENT
BEGIN:VEVENT
DTSTART;TZID=America/New_York:20280821T180000
DTEND;TZID=America/New_York:20280821T190000
DTSTAMP:20260421T010902
CREATED:20230825T233604Z
LAST-MODIFIED:20240106T135849Z
UID:10000694-1850493600-1850497200@rochesterfbc.org
SUMMARY:Trustees Mtg.
DESCRIPTION:The Board of Trustee which oversee the campus and financies of the church meet monthly on the Third Monday.
URL:https://rochesterfbc.org/event/trustees-mtg/2028-08-21/
ATTACH;FMTTYPE=image/jpeg:https://rochesterfbc.org/wp-content/uploads/2023/08/calculator.jpg
END:VEVENT
BEGIN:VEVENT
DTSTART;TZID=America/New_York:20280822T113000
DTEND;TZID=America/New_York:20280822T133000
DTSTAMP:20260421T010902
CREATED:20260110T160103Z
LAST-MODIFIED:20260110T160103Z
UID:10003735-1850556600-1850563800@rochesterfbc.org
SUMMARY:FBCR Book Club
DESCRIPTION:The Book Club meets\, generally on the 4th Tuesday of the month\, at 11:30 AM for a BYOB lunch (beverages provided) and fellowship with a discussion of each month’s book at noon.  It concludes at 1:30 PM. \nThe book of the month is choosen at that meeting for the next month\, or shortly thereafter if availablility at local librarys need to take place. \nOccasional date changes do happen by concensus of participants.
URL:https://rochesterfbc.org/event/fbcr-book-club-6/2028-08-22/
END:VEVENT
BEGIN:VEVENT
DTSTART;TZID=America/New_York:20280824T113000
DTEND;TZID=America/New_York:20280824T133000
DTSTAMP:20260421T010902
CREATED:20260418T145256Z
LAST-MODIFIED:20260418T145321Z
UID:10004261-1850729400-1850736600@rochesterfbc.org
SUMMARY:OWLS - Older Wiser Learning Seniors
DESCRIPTION:Programs details to come \n  \n 
URL:https://rochesterfbc.org/event/owls-older-wiser-learning-seniors-may-2-2/2028-08-24/
END:VEVENT
BEGIN:VEVENT
DTSTART;TZID=America/New_York:20280827T094000
DTEND;TZID=America/New_York:20280827T120000
DTSTAMP:20260421T010902
CREATED:20260408T215334Z
LAST-MODIFIED:20260408T215336Z
UID:10003955-1850982000-1850990400@rochesterfbc.org
SUMMARY:Nursery Open
DESCRIPTION:Each week between 9:40 AM and ~12:00 PM\, our nursery will be open for children birth to Pre-K.
URL:https://rochesterfbc.org/event/nursery-opens-2/2028-08-27/
END:VEVENT
BEGIN:VEVENT
DTSTART;TZID=America/New_York:20280827T100000
DTEND;TZID=America/New_York:20280827T110000
DTSTAMP:20260421T010902
CREATED:20240830T202337Z
LAST-MODIFIED:20240830T202337Z
UID:10001837-1850983200-1850986800@rochesterfbc.org
SUMMARY:Worship
DESCRIPTION:
URL:https://rochesterfbc.org/event/worship/2028-08-27/
END:VEVENT
BEGIN:VEVENT
DTSTART;TZID=America/New_York:20280831T113000
DTEND;TZID=America/New_York:20280831T133000
DTSTAMP:20260421T010902
CREATED:20260418T145256Z
LAST-MODIFIED:20260418T145321Z
UID:10004262-1851334200-1851341400@rochesterfbc.org
SUMMARY:OWLS - Older Wiser Learning Seniors
DESCRIPTION:Programs details to come \n  \n 
URL:https://rochesterfbc.org/event/owls-older-wiser-learning-seniors-may-2-2/2028-08-31/
END:VEVENT
BEGIN:VEVENT
DTSTART;VALUE=DATE:20280903
DTEND;VALUE=DATE:20280905
DTSTAMP:20260421T010902
CREATED:20260418T152350Z
LAST-MODIFIED:20260418T152544Z
UID:10004573-1851555600-1851641999@rochesterfbc.org
SUMMARY:Communion Sunday
DESCRIPTION:
URL:https://rochesterfbc.org/event/communion-sunday/2028-09-03/
END:VEVENT
BEGIN:VEVENT
DTSTART;TZID=America/New_York:20280903T094000
DTEND;TZID=America/New_York:20280903T120000
DTSTAMP:20260421T010902
CREATED:20260408T215334Z
LAST-MODIFIED:20260408T215336Z
UID:10003956-1851586800-1851595200@rochesterfbc.org
SUMMARY:Nursery Open
DESCRIPTION:Each week between 9:40 AM and ~12:00 PM\, our nursery will be open for children birth to Pre-K.
URL:https://rochesterfbc.org/event/nursery-opens-2/2028-09-03/
END:VEVENT
BEGIN:VEVENT
DTSTART;TZID=America/New_York:20280903T100000
DTEND;TZID=America/New_York:20280903T110000
DTSTAMP:20260421T010902
CREATED:20240830T202337Z
LAST-MODIFIED:20240830T202337Z
UID:10001838-1851588000-1851591600@rochesterfbc.org
SUMMARY:Worship
DESCRIPTION:
URL:https://rochesterfbc.org/event/worship/2028-09-03/
END:VEVENT
BEGIN:VEVENT
DTSTART;TZID=America/New_York:20280907T113000
DTEND;TZID=America/New_York:20280907T133000
DTSTAMP:20260421T010902
CREATED:20260418T145256Z
LAST-MODIFIED:20260418T145321Z
UID:10004263-1851939000-1851946200@rochesterfbc.org
SUMMARY:OWLS - Older Wiser Learning Seniors
DESCRIPTION:Programs details to come \n  \n 
URL:https://rochesterfbc.org/event/owls-older-wiser-learning-seniors-may-2-2/2028-09-07/
END:VEVENT
BEGIN:VEVENT
DTSTART;TZID=America/New_York:20280910T094000
DTEND;TZID=America/New_York:20280910T120000
DTSTAMP:20260421T010902
CREATED:20260408T215334Z
LAST-MODIFIED:20260408T215336Z
UID:10003957-1852191600-1852200000@rochesterfbc.org
SUMMARY:Nursery Open
DESCRIPTION:Each week between 9:40 AM and ~12:00 PM\, our nursery will be open for children birth to Pre-K.
URL:https://rochesterfbc.org/event/nursery-opens-2/2028-09-10/
END:VEVENT
BEGIN:VEVENT
DTSTART;TZID=America/New_York:20280910T100000
DTEND;TZID=America/New_York:20280910T110000
DTSTAMP:20260421T010902
CREATED:20240830T202337Z
LAST-MODIFIED:20240830T202337Z
UID:10001839-1852192800-1852196400@rochesterfbc.org
SUMMARY:Worship
DESCRIPTION:
URL:https://rochesterfbc.org/event/worship/2028-09-10/
END:VEVENT
BEGIN:VEVENT
DTSTART;TZID=America/New_York:20280914T113000
DTEND;TZID=America/New_York:20280914T133000
DTSTAMP:20260421T010902
CREATED:20260418T145256Z
LAST-MODIFIED:20260418T145321Z
UID:10004264-1852543800-1852551000@rochesterfbc.org
SUMMARY:OWLS - Older Wiser Learning Seniors
DESCRIPTION:Programs details to come \n  \n 
URL:https://rochesterfbc.org/event/owls-older-wiser-learning-seniors-may-2-2/2028-09-14/
END:VEVENT
BEGIN:VEVENT
DTSTART;TZID=America/New_York:20280917T094000
DTEND;TZID=America/New_York:20280917T120000
DTSTAMP:20260421T010902
CREATED:20260408T215334Z
LAST-MODIFIED:20260408T215336Z
UID:10003958-1852796400-1852804800@rochesterfbc.org
SUMMARY:Nursery Open
DESCRIPTION:Each week between 9:40 AM and ~12:00 PM\, our nursery will be open for children birth to Pre-K.
URL:https://rochesterfbc.org/event/nursery-opens-2/2028-09-17/
END:VEVENT
BEGIN:VEVENT
DTSTART;TZID=America/New_York:20280917T100000
DTEND;TZID=America/New_York:20280917T110000
DTSTAMP:20260421T010902
CREATED:20240830T202337Z
LAST-MODIFIED:20240830T202337Z
UID:10001840-1852797600-1852801200@rochesterfbc.org
SUMMARY:Worship
DESCRIPTION:
URL:https://rochesterfbc.org/event/worship/2028-09-17/
END:VEVENT
BEGIN:VEVENT
DTSTART;TZID=America/New_York:20280917T113000
DTEND;TZID=America/New_York:20280917T121000
DTSTAMP:20260421T010902
CREATED:20260418T150335Z
LAST-MODIFIED:20260418T150516Z
UID:10004434-1852803000-1852805400@rochesterfbc.org
SUMMARY:Mission Meeting
DESCRIPTION:Join our Mission Team in the library after a brief time of Fellowship in the Garden Room.  They will discuss and plan various local mission intiatives for First Rochester to engage with the community.  They also determine support for strategic Associations as well as our International Ministries focus\, Lance and Christiana Muteyo.
URL:https://rochesterfbc.org/event/mission-meeting-3/2028-09-17/
END:VEVENT
BEGIN:VEVENT
DTSTART;TZID=America/New_York:20280918T180000
DTEND;TZID=America/New_York:20280918T190000
DTSTAMP:20260421T010902
CREATED:20230825T233604Z
LAST-MODIFIED:20240106T135849Z
UID:10000695-1852912800-1852916400@rochesterfbc.org
SUMMARY:Trustees Mtg.
DESCRIPTION:The Board of Trustee which oversee the campus and financies of the church meet monthly on the Third Monday.
URL:https://rochesterfbc.org/event/trustees-mtg/2028-09-18/
ATTACH;FMTTYPE=image/jpeg:https://rochesterfbc.org/wp-content/uploads/2023/08/calculator.jpg
END:VEVENT
BEGIN:VEVENT
DTSTART;TZID=America/New_York:20280919T180000
DTEND;TZID=America/New_York:20280919T193000
DTSTAMP:20260421T010902
CREATED:20250622T172005Z
LAST-MODIFIED:20250622T172120Z
UID:10000900-1852999200-1853004600@rochesterfbc.org
SUMMARY:Church Council
DESCRIPTION:The leadership of the church meet on the third Tuesday of the month to share the work of their groups\, special iniatives\, and to vote on various happenings of the church. The council meetings are open to all. If you have a topic you would like to discuss\, please reach out to the church office so that you can be placed on the agenda.
URL:https://rochesterfbc.org/event/church-council-2-3-2/2028-09-19/
ATTACH;FMTTYPE=image/jpeg:https://rochesterfbc.org/wp-content/uploads/2023/08/Church-Council.jpg
END:VEVENT
BEGIN:VEVENT
DTSTART;TZID=America/New_York:20280921T113000
DTEND;TZID=America/New_York:20280921T133000
DTSTAMP:20260421T010902
CREATED:20260418T145256Z
LAST-MODIFIED:20260418T145321Z
UID:10004265-1853148600-1853155800@rochesterfbc.org
SUMMARY:OWLS - Older Wiser Learning Seniors
DESCRIPTION:Programs details to come \n  \n 
URL:https://rochesterfbc.org/event/owls-older-wiser-learning-seniors-may-2-2/2028-09-21/
END:VEVENT
BEGIN:VEVENT
DTSTART;TZID=America/New_York:20280924T094000
DTEND;TZID=America/New_York:20280924T120000
DTSTAMP:20260421T010902
CREATED:20260408T215334Z
LAST-MODIFIED:20260408T215336Z
UID:10003959-1853401200-1853409600@rochesterfbc.org
SUMMARY:Nursery Open
DESCRIPTION:Each week between 9:40 AM and ~12:00 PM\, our nursery will be open for children birth to Pre-K.
URL:https://rochesterfbc.org/event/nursery-opens-2/2028-09-24/
END:VEVENT
BEGIN:VEVENT
DTSTART;TZID=America/New_York:20280924T100000
DTEND;TZID=America/New_York:20280924T110000
DTSTAMP:20260421T010902
CREATED:20240830T202337Z
LAST-MODIFIED:20240830T202337Z
UID:10001841-1853402400-1853406000@rochesterfbc.org
SUMMARY:Worship
DESCRIPTION:
URL:https://rochesterfbc.org/event/worship/2028-09-24/
END:VEVENT
BEGIN:VEVENT
DTSTART;TZID=America/New_York:20280926T113000
DTEND;TZID=America/New_York:20280926T133000
DTSTAMP:20260421T010902
CREATED:20260110T160103Z
LAST-MODIFIED:20260110T160103Z
UID:10003736-1853580600-1853587800@rochesterfbc.org
SUMMARY:FBCR Book Club
DESCRIPTION:The Book Club meets\, generally on the 4th Tuesday of the month\, at 11:30 AM for a BYOB lunch (beverages provided) and fellowship with a discussion of each month’s book at noon.  It concludes at 1:30 PM. \nThe book of the month is choosen at that meeting for the next month\, or shortly thereafter if availablility at local librarys need to take place. \nOccasional date changes do happen by concensus of participants.
URL:https://rochesterfbc.org/event/fbcr-book-club-6/2028-09-26/
END:VEVENT
BEGIN:VEVENT
DTSTART;TZID=America/New_York:20280928T113000
DTEND;TZID=America/New_York:20280928T133000
DTSTAMP:20260421T010902
CREATED:20260418T145256Z
LAST-MODIFIED:20260418T145321Z
UID:10004266-1853753400-1853760600@rochesterfbc.org
SUMMARY:OWLS - Older Wiser Learning Seniors
DESCRIPTION:Programs details to come \n  \n 
URL:https://rochesterfbc.org/event/owls-older-wiser-learning-seniors-may-2-2/2028-09-28/
END:VEVENT
BEGIN:VEVENT
DTSTART;VALUE=DATE:20281001
DTEND;VALUE=DATE:20281003
DTSTAMP:20260421T010902
CREATED:20260418T152350Z
LAST-MODIFIED:20260418T152544Z
UID:10004574-1853974800-1854061199@rochesterfbc.org
SUMMARY:Communion Sunday
DESCRIPTION:
URL:https://rochesterfbc.org/event/communion-sunday/2028-10-01/
END:VEVENT
END:VCALENDAR