BEGIN:VCALENDAR
VERSION:2.0
PRODID:-//First Rochester - ECPv6.15.20//NONSGML v1.0//EN
CALSCALE:GREGORIAN
METHOD:PUBLISH
X-ORIGINAL-URL:https://rochesterfbc.org
X-WR-CALDESC:Events for First Rochester
REFRESH-INTERVAL;VALUE=DURATION:PT1H
X-Robots-Tag:noindex
X-PUBLISHED-TTL:PT1H
BEGIN:VTIMEZONE
TZID:America/New_York
BEGIN:DAYLIGHT
TZOFFSETFROM:-0500
TZOFFSETTO:-0400
TZNAME:EDT
DTSTART:20290311T070000
END:DAYLIGHT
BEGIN:STANDARD
TZOFFSETFROM:-0400
TZOFFSETTO:-0500
TZNAME:EST
DTSTART:20291104T060000
END:STANDARD
BEGIN:DAYLIGHT
TZOFFSETFROM:-0500
TZOFFSETTO:-0400
TZNAME:EDT
DTSTART:20300310T070000
END:DAYLIGHT
BEGIN:STANDARD
TZOFFSETFROM:-0400
TZOFFSETTO:-0500
TZNAME:EST
DTSTART:20301103T060000
END:STANDARD
BEGIN:DAYLIGHT
TZOFFSETFROM:-0500
TZOFFSETTO:-0400
TZNAME:EDT
DTSTART:20310309T070000
END:DAYLIGHT
BEGIN:STANDARD
TZOFFSETFROM:-0400
TZOFFSETTO:-0500
TZNAME:EST
DTSTART:20311102T060000
END:STANDARD
END:VTIMEZONE
BEGIN:VEVENT
DTSTART;TZID=America/New_York:20300120T094000
DTEND;TZID=America/New_York:20300120T120000
DTSTAMP:20260422T184705
CREATED:20260408T215334Z
LAST-MODIFIED:20260408T215336Z
UID:10004028-1895132400-1895140800@rochesterfbc.org
SUMMARY:Nursery Open
DESCRIPTION:Each week between 9:40 AM and ~12:00 PM\, our nursery will be open for children birth to Pre-K.
URL:https://rochesterfbc.org/event/nursery-opens-2/2030-01-20/
END:VEVENT
BEGIN:VEVENT
DTSTART;TZID=America/New_York:20300120T100000
DTEND;TZID=America/New_York:20300120T110000
DTSTAMP:20260422T184705
CREATED:20240830T202337Z
LAST-MODIFIED:20240830T202337Z
UID:10003124-1895133600-1895137200@rochesterfbc.org
SUMMARY:Worship
DESCRIPTION:
URL:https://rochesterfbc.org/event/worship/2030-01-20/
END:VEVENT
BEGIN:VEVENT
DTSTART;TZID=America/New_York:20300120T113000
DTEND;TZID=America/New_York:20300120T121000
DTSTAMP:20260422T184705
CREATED:20260418T150335Z
LAST-MODIFIED:20260418T150516Z
UID:10004450-1895139000-1895141400@rochesterfbc.org
SUMMARY:Mission Meeting
DESCRIPTION:Join our Mission Team in the library after a brief time of Fellowship in the Garden Room.  They will discuss and plan various local mission intiatives for First Rochester to engage with the community.  They also determine support for strategic Associations as well as our International Ministries focus\, Lance and Christiana Muteyo.
URL:https://rochesterfbc.org/event/mission-meeting-3/2030-01-20/
END:VEVENT
BEGIN:VEVENT
DTSTART;TZID=America/New_York:20300121T180000
DTEND;TZID=America/New_York:20300121T190000
DTSTAMP:20260422T184705
CREATED:20230825T233604Z
LAST-MODIFIED:20240106T135849Z
UID:10003464-1895248800-1895252400@rochesterfbc.org
SUMMARY:Trustees Mtg.
DESCRIPTION:The Board of Trustee which oversee the campus and financies of the church meet monthly on the Third Monday.
URL:https://rochesterfbc.org/event/trustees-mtg/2030-01-21/
ATTACH;FMTTYPE=image/jpeg:https://rochesterfbc.org/wp-content/uploads/2023/08/calculator.jpg
END:VEVENT
BEGIN:VEVENT
DTSTART;TZID=America/New_York:20300122T113000
DTEND;TZID=America/New_York:20300122T133000
DTSTAMP:20260422T184705
CREATED:20260110T160103Z
LAST-MODIFIED:20260110T160103Z
UID:10003752-1895311800-1895319000@rochesterfbc.org
SUMMARY:FBCR Book Club
DESCRIPTION:The Book Club meets\, generally on the 4th Tuesday of the month\, at 11:30 AM for a BYOB lunch (beverages provided) and fellowship with a discussion of each month’s book at noon.  It concludes at 1:30 PM. \nThe book of the month is choosen at that meeting for the next month\, or shortly thereafter if availablility at local librarys need to take place. \nOccasional date changes do happen by concensus of participants.
URL:https://rochesterfbc.org/event/fbcr-book-club-6/2030-01-22/
END:VEVENT
BEGIN:VEVENT
DTSTART;TZID=America/New_York:20300124T113000
DTEND;TZID=America/New_York:20300124T133000
DTSTAMP:20260422T184705
CREATED:20260418T145256Z
LAST-MODIFIED:20260418T145321Z
UID:10004335-1895484600-1895491800@rochesterfbc.org
SUMMARY:OWLS - Older Wiser Learning Seniors
DESCRIPTION:Programs details to come \n  \n 
URL:https://rochesterfbc.org/event/owls-older-wiser-learning-seniors-may-2-2/2030-01-24/
END:VEVENT
BEGIN:VEVENT
DTSTART;TZID=America/New_York:20300127T094000
DTEND;TZID=America/New_York:20300127T120000
DTSTAMP:20260422T184705
CREATED:20260408T215334Z
LAST-MODIFIED:20260408T215336Z
UID:10004029-1895737200-1895745600@rochesterfbc.org
SUMMARY:Nursery Open
DESCRIPTION:Each week between 9:40 AM and ~12:00 PM\, our nursery will be open for children birth to Pre-K.
URL:https://rochesterfbc.org/event/nursery-opens-2/2030-01-27/
END:VEVENT
BEGIN:VEVENT
DTSTART;TZID=America/New_York:20300127T100000
DTEND;TZID=America/New_York:20300127T110000
DTSTAMP:20260422T184705
CREATED:20240830T202337Z
LAST-MODIFIED:20240830T202337Z
UID:10003125-1895738400-1895742000@rochesterfbc.org
SUMMARY:Worship
DESCRIPTION:
URL:https://rochesterfbc.org/event/worship/2030-01-27/
END:VEVENT
BEGIN:VEVENT
DTSTART;TZID=America/New_York:20300131T113000
DTEND;TZID=America/New_York:20300131T133000
DTSTAMP:20260422T184705
CREATED:20260418T145256Z
LAST-MODIFIED:20260418T145321Z
UID:10004336-1896089400-1896096600@rochesterfbc.org
SUMMARY:OWLS - Older Wiser Learning Seniors
DESCRIPTION:Programs details to come \n  \n 
URL:https://rochesterfbc.org/event/owls-older-wiser-learning-seniors-may-2-2/2030-01-31/
END:VEVENT
BEGIN:VEVENT
DTSTART;VALUE=DATE:20300203
DTEND;VALUE=DATE:20300205
DTSTAMP:20260422T184705
CREATED:20260418T152350Z
LAST-MODIFIED:20260418T152544Z
UID:10004590-1896310800-1896397199@rochesterfbc.org
SUMMARY:Communion Sunday
DESCRIPTION:
URL:https://rochesterfbc.org/event/communion-sunday/2030-02-03/
END:VEVENT
BEGIN:VEVENT
DTSTART;TZID=America/New_York:20300203T094000
DTEND;TZID=America/New_York:20300203T120000
DTSTAMP:20260422T184705
CREATED:20260408T215334Z
LAST-MODIFIED:20260408T215336Z
UID:10004030-1896342000-1896350400@rochesterfbc.org
SUMMARY:Nursery Open
DESCRIPTION:Each week between 9:40 AM and ~12:00 PM\, our nursery will be open for children birth to Pre-K.
URL:https://rochesterfbc.org/event/nursery-opens-2/2030-02-03/
END:VEVENT
BEGIN:VEVENT
DTSTART;TZID=America/New_York:20300203T100000
DTEND;TZID=America/New_York:20300203T110000
DTSTAMP:20260422T184705
CREATED:20240830T202337Z
LAST-MODIFIED:20240830T202337Z
UID:10003126-1896343200-1896346800@rochesterfbc.org
SUMMARY:Worship
DESCRIPTION:
URL:https://rochesterfbc.org/event/worship/2030-02-03/
END:VEVENT
BEGIN:VEVENT
DTSTART;TZID=America/New_York:20300207T113000
DTEND;TZID=America/New_York:20300207T133000
DTSTAMP:20260422T184705
CREATED:20260418T145256Z
LAST-MODIFIED:20260418T145321Z
UID:10004337-1896694200-1896701400@rochesterfbc.org
SUMMARY:OWLS - Older Wiser Learning Seniors
DESCRIPTION:Programs details to come \n  \n 
URL:https://rochesterfbc.org/event/owls-older-wiser-learning-seniors-may-2-2/2030-02-07/
END:VEVENT
BEGIN:VEVENT
DTSTART;TZID=America/New_York:20300210T094000
DTEND;TZID=America/New_York:20300210T120000
DTSTAMP:20260422T184705
CREATED:20260408T215334Z
LAST-MODIFIED:20260408T215336Z
UID:10004031-1896946800-1896955200@rochesterfbc.org
SUMMARY:Nursery Open
DESCRIPTION:Each week between 9:40 AM and ~12:00 PM\, our nursery will be open for children birth to Pre-K.
URL:https://rochesterfbc.org/event/nursery-opens-2/2030-02-10/
END:VEVENT
BEGIN:VEVENT
DTSTART;TZID=America/New_York:20300210T100000
DTEND;TZID=America/New_York:20300210T110000
DTSTAMP:20260422T184705
CREATED:20240830T202337Z
LAST-MODIFIED:20240830T202337Z
UID:10003127-1896948000-1896951600@rochesterfbc.org
SUMMARY:Worship
DESCRIPTION:
URL:https://rochesterfbc.org/event/worship/2030-02-10/
END:VEVENT
BEGIN:VEVENT
DTSTART;TZID=America/New_York:20300214T113000
DTEND;TZID=America/New_York:20300214T133000
DTSTAMP:20260422T184705
CREATED:20260418T145256Z
LAST-MODIFIED:20260418T145321Z
UID:10004338-1897299000-1897306200@rochesterfbc.org
SUMMARY:OWLS - Older Wiser Learning Seniors
DESCRIPTION:Programs details to come \n  \n 
URL:https://rochesterfbc.org/event/owls-older-wiser-learning-seniors-may-2-2/2030-02-14/
END:VEVENT
BEGIN:VEVENT
DTSTART;TZID=America/New_York:20300217T094000
DTEND;TZID=America/New_York:20300217T120000
DTSTAMP:20260422T184705
CREATED:20260408T215334Z
LAST-MODIFIED:20260408T215336Z
UID:10004032-1897551600-1897560000@rochesterfbc.org
SUMMARY:Nursery Open
DESCRIPTION:Each week between 9:40 AM and ~12:00 PM\, our nursery will be open for children birth to Pre-K.
URL:https://rochesterfbc.org/event/nursery-opens-2/2030-02-17/
END:VEVENT
BEGIN:VEVENT
DTSTART;TZID=America/New_York:20300217T100000
DTEND;TZID=America/New_York:20300217T110000
DTSTAMP:20260422T184705
CREATED:20240830T202337Z
LAST-MODIFIED:20240830T202337Z
UID:10003128-1897552800-1897556400@rochesterfbc.org
SUMMARY:Worship
DESCRIPTION:
URL:https://rochesterfbc.org/event/worship/2030-02-17/
END:VEVENT
BEGIN:VEVENT
DTSTART;TZID=America/New_York:20300217T113000
DTEND;TZID=America/New_York:20300217T121000
DTSTAMP:20260422T184705
CREATED:20260418T150335Z
LAST-MODIFIED:20260418T150516Z
UID:10004451-1897558200-1897560600@rochesterfbc.org
SUMMARY:Mission Meeting
DESCRIPTION:Join our Mission Team in the library after a brief time of Fellowship in the Garden Room.  They will discuss and plan various local mission intiatives for First Rochester to engage with the community.  They also determine support for strategic Associations as well as our International Ministries focus\, Lance and Christiana Muteyo.
URL:https://rochesterfbc.org/event/mission-meeting-3/2030-02-17/
END:VEVENT
BEGIN:VEVENT
DTSTART;TZID=America/New_York:20300218T180000
DTEND;TZID=America/New_York:20300218T190000
DTSTAMP:20260422T184705
CREATED:20230825T233604Z
LAST-MODIFIED:20240106T135849Z
UID:10003465-1897668000-1897671600@rochesterfbc.org
SUMMARY:Trustees Mtg.
DESCRIPTION:The Board of Trustee which oversee the campus and financies of the church meet monthly on the Third Monday.
URL:https://rochesterfbc.org/event/trustees-mtg/2030-02-18/
ATTACH;FMTTYPE=image/jpeg:https://rochesterfbc.org/wp-content/uploads/2023/08/calculator.jpg
END:VEVENT
BEGIN:VEVENT
DTSTART;TZID=America/New_York:20300219T180000
DTEND;TZID=America/New_York:20300219T193000
DTSTAMP:20260422T184705
CREATED:20250622T172005Z
LAST-MODIFIED:20250622T172120Z
UID:10003056-1897754400-1897759800@rochesterfbc.org
SUMMARY:Church Council
DESCRIPTION:The leadership of the church meet on the third Tuesday of the month to share the work of their groups\, special iniatives\, and to vote on various happenings of the church. The council meetings are open to all. If you have a topic you would like to discuss\, please reach out to the church office so that you can be placed on the agenda.
URL:https://rochesterfbc.org/event/church-council-2-3-2/2030-02-19/
ATTACH;FMTTYPE=image/jpeg:https://rochesterfbc.org/wp-content/uploads/2023/08/Church-Council.jpg
END:VEVENT
BEGIN:VEVENT
DTSTART;TZID=America/New_York:20300221T113000
DTEND;TZID=America/New_York:20300221T133000
DTSTAMP:20260422T184705
CREATED:20260418T145256Z
LAST-MODIFIED:20260418T145321Z
UID:10004339-1897903800-1897911000@rochesterfbc.org
SUMMARY:OWLS - Older Wiser Learning Seniors
DESCRIPTION:Programs details to come \n  \n 
URL:https://rochesterfbc.org/event/owls-older-wiser-learning-seniors-may-2-2/2030-02-21/
END:VEVENT
BEGIN:VEVENT
DTSTART;TZID=America/New_York:20300224T094000
DTEND;TZID=America/New_York:20300224T120000
DTSTAMP:20260422T184705
CREATED:20260408T215334Z
LAST-MODIFIED:20260408T215336Z
UID:10004033-1898156400-1898164800@rochesterfbc.org
SUMMARY:Nursery Open
DESCRIPTION:Each week between 9:40 AM and ~12:00 PM\, our nursery will be open for children birth to Pre-K.
URL:https://rochesterfbc.org/event/nursery-opens-2/2030-02-24/
END:VEVENT
BEGIN:VEVENT
DTSTART;TZID=America/New_York:20300224T100000
DTEND;TZID=America/New_York:20300224T110000
DTSTAMP:20260422T184705
CREATED:20240830T202337Z
LAST-MODIFIED:20240830T202337Z
UID:10003129-1898157600-1898161200@rochesterfbc.org
SUMMARY:Worship
DESCRIPTION:
URL:https://rochesterfbc.org/event/worship/2030-02-24/
END:VEVENT
BEGIN:VEVENT
DTSTART;TZID=America/New_York:20300226T113000
DTEND;TZID=America/New_York:20300226T133000
DTSTAMP:20260422T184705
CREATED:20260110T160103Z
LAST-MODIFIED:20260110T160103Z
UID:10003753-1898335800-1898343000@rochesterfbc.org
SUMMARY:FBCR Book Club
DESCRIPTION:The Book Club meets\, generally on the 4th Tuesday of the month\, at 11:30 AM for a BYOB lunch (beverages provided) and fellowship with a discussion of each month’s book at noon.  It concludes at 1:30 PM. \nThe book of the month is choosen at that meeting for the next month\, or shortly thereafter if availablility at local librarys need to take place. \nOccasional date changes do happen by concensus of participants.
URL:https://rochesterfbc.org/event/fbcr-book-club-6/2030-02-26/
END:VEVENT
BEGIN:VEVENT
DTSTART;TZID=America/New_York:20300228T113000
DTEND;TZID=America/New_York:20300228T133000
DTSTAMP:20260422T184705
CREATED:20260418T145256Z
LAST-MODIFIED:20260418T145321Z
UID:10004340-1898508600-1898515800@rochesterfbc.org
SUMMARY:OWLS - Older Wiser Learning Seniors
DESCRIPTION:Programs details to come \n  \n 
URL:https://rochesterfbc.org/event/owls-older-wiser-learning-seniors-may-2-2/2030-02-28/
END:VEVENT
BEGIN:VEVENT
DTSTART;VALUE=DATE:20300303
DTEND;VALUE=DATE:20300305
DTSTAMP:20260422T184705
CREATED:20260418T152350Z
LAST-MODIFIED:20260418T152544Z
UID:10004591-1898730000-1898816399@rochesterfbc.org
SUMMARY:Communion Sunday
DESCRIPTION:
URL:https://rochesterfbc.org/event/communion-sunday/2030-03-03/
END:VEVENT
BEGIN:VEVENT
DTSTART;TZID=America/New_York:20300303T094000
DTEND;TZID=America/New_York:20300303T120000
DTSTAMP:20260422T184705
CREATED:20260408T215334Z
LAST-MODIFIED:20260408T215336Z
UID:10004034-1898761200-1898769600@rochesterfbc.org
SUMMARY:Nursery Open
DESCRIPTION:Each week between 9:40 AM and ~12:00 PM\, our nursery will be open for children birth to Pre-K.
URL:https://rochesterfbc.org/event/nursery-opens-2/2030-03-03/
END:VEVENT
BEGIN:VEVENT
DTSTART;TZID=America/New_York:20300303T100000
DTEND;TZID=America/New_York:20300303T110000
DTSTAMP:20260422T184705
CREATED:20240830T202337Z
LAST-MODIFIED:20240830T202337Z
UID:10003130-1898762400-1898766000@rochesterfbc.org
SUMMARY:Worship
DESCRIPTION:
URL:https://rochesterfbc.org/event/worship/2030-03-03/
END:VEVENT
BEGIN:VEVENT
DTSTART;TZID=America/New_York:20300307T113000
DTEND;TZID=America/New_York:20300307T133000
DTSTAMP:20260422T184705
CREATED:20260418T145256Z
LAST-MODIFIED:20260418T145321Z
UID:10004341-1899113400-1899120600@rochesterfbc.org
SUMMARY:OWLS - Older Wiser Learning Seniors
DESCRIPTION:Programs details to come \n  \n 
URL:https://rochesterfbc.org/event/owls-older-wiser-learning-seniors-may-2-2/2030-03-07/
END:VEVENT
END:VCALENDAR