BEGIN:VCALENDAR
VERSION:2.0
PRODID:-//First Rochester - ECPv6.15.20//NONSGML v1.0//EN
CALSCALE:GREGORIAN
METHOD:PUBLISH
X-WR-CALNAME:First Rochester
X-ORIGINAL-URL:https://rochesterfbc.org
X-WR-CALDESC:Events for First Rochester
REFRESH-INTERVAL;VALUE=DURATION:PT1H
X-Robots-Tag:noindex
X-PUBLISHED-TTL:PT1H
BEGIN:VTIMEZONE
TZID:America/New_York
BEGIN:DAYLIGHT
TZOFFSETFROM:-0500
TZOFFSETTO:-0400
TZNAME:EDT
DTSTART:20280312T070000
END:DAYLIGHT
BEGIN:STANDARD
TZOFFSETFROM:-0400
TZOFFSETTO:-0500
TZNAME:EST
DTSTART:20281105T060000
END:STANDARD
BEGIN:DAYLIGHT
TZOFFSETFROM:-0500
TZOFFSETTO:-0400
TZNAME:EDT
DTSTART:20290311T070000
END:DAYLIGHT
BEGIN:STANDARD
TZOFFSETFROM:-0400
TZOFFSETTO:-0500
TZNAME:EST
DTSTART:20291104T060000
END:STANDARD
BEGIN:DAYLIGHT
TZOFFSETFROM:-0500
TZOFFSETTO:-0400
TZNAME:EDT
DTSTART:20300310T070000
END:DAYLIGHT
BEGIN:STANDARD
TZOFFSETFROM:-0400
TZOFFSETTO:-0500
TZNAME:EST
DTSTART:20301103T060000
END:STANDARD
END:VTIMEZONE
BEGIN:VEVENT
DTSTART;TZID=America/New_York:20290715T113000
DTEND;TZID=America/New_York:20290715T121000
DTSTAMP:20260422T184155
CREATED:20260418T150335Z
LAST-MODIFIED:20260418T150516Z
UID:10004444-1878809400-1878811800@rochesterfbc.org
SUMMARY:Mission Meeting
DESCRIPTION:Join our Mission Team in the library after a brief time of Fellowship in the Garden Room.  They will discuss and plan various local mission intiatives for First Rochester to engage with the community.  They also determine support for strategic Associations as well as our International Ministries focus\, Lance and Christiana Muteyo.
URL:https://rochesterfbc.org/event/mission-meeting-3/2029-07-15/
END:VEVENT
BEGIN:VEVENT
DTSTART;TZID=America/New_York:20290716T180000
DTEND;TZID=America/New_York:20290716T190000
DTSTAMP:20260422T184155
CREATED:20230825T233604Z
LAST-MODIFIED:20240106T135849Z
UID:10002196-1878919200-1878922800@rochesterfbc.org
SUMMARY:Trustees Mtg.
DESCRIPTION:The Board of Trustee which oversee the campus and financies of the church meet monthly on the Third Monday.
URL:https://rochesterfbc.org/event/trustees-mtg/2029-07-16/
ATTACH;FMTTYPE=image/jpeg:https://rochesterfbc.org/wp-content/uploads/2023/08/calculator.jpg
END:VEVENT
BEGIN:VEVENT
DTSTART;TZID=America/New_York:20290717T180000
DTEND;TZID=America/New_York:20290717T193000
DTSTAMP:20260422T184155
CREATED:20250622T172005Z
LAST-MODIFIED:20250622T172120Z
UID:10002199-1879005600-1879011000@rochesterfbc.org
SUMMARY:Church Council
DESCRIPTION:The leadership of the church meet on the third Tuesday of the month to share the work of their groups\, special iniatives\, and to vote on various happenings of the church. The council meetings are open to all. If you have a topic you would like to discuss\, please reach out to the church office so that you can be placed on the agenda.
URL:https://rochesterfbc.org/event/church-council-2-3-2/2029-07-17/
ATTACH;FMTTYPE=image/jpeg:https://rochesterfbc.org/wp-content/uploads/2023/08/Church-Council.jpg
END:VEVENT
BEGIN:VEVENT
DTSTART;TZID=America/New_York:20290719T113000
DTEND;TZID=America/New_York:20290719T133000
DTSTAMP:20260422T184155
CREATED:20260418T145256Z
LAST-MODIFIED:20260418T145321Z
UID:10004308-1879155000-1879162200@rochesterfbc.org
SUMMARY:OWLS - Older Wiser Learning Seniors
DESCRIPTION:Programs details to come \n  \n 
URL:https://rochesterfbc.org/event/owls-older-wiser-learning-seniors-may-2-2/2029-07-19/
END:VEVENT
BEGIN:VEVENT
DTSTART;TZID=America/New_York:20290722T094000
DTEND;TZID=America/New_York:20290722T120000
DTSTAMP:20260422T184155
CREATED:20260408T215334Z
LAST-MODIFIED:20260408T215336Z
UID:10004002-1879407600-1879416000@rochesterfbc.org
SUMMARY:Nursery Open
DESCRIPTION:Each week between 9:40 AM and ~12:00 PM\, our nursery will be open for children birth to Pre-K.
URL:https://rochesterfbc.org/event/nursery-opens-2/2029-07-22/
END:VEVENT
BEGIN:VEVENT
DTSTART;TZID=America/New_York:20290722T100000
DTEND;TZID=America/New_York:20290722T110000
DTSTAMP:20260422T184155
CREATED:20240830T202337Z
LAST-MODIFIED:20240830T202337Z
UID:10001884-1879408800-1879412400@rochesterfbc.org
SUMMARY:Worship
DESCRIPTION:
URL:https://rochesterfbc.org/event/worship/2029-07-22/
END:VEVENT
BEGIN:VEVENT
DTSTART;TZID=America/New_York:20290724T113000
DTEND;TZID=America/New_York:20290724T133000
DTSTAMP:20260422T184155
CREATED:20260110T160103Z
LAST-MODIFIED:20260110T160103Z
UID:10003746-1879587000-1879594200@rochesterfbc.org
SUMMARY:FBCR Book Club
DESCRIPTION:The Book Club meets\, generally on the 4th Tuesday of the month\, at 11:30 AM for a BYOB lunch (beverages provided) and fellowship with a discussion of each month’s book at noon.  It concludes at 1:30 PM. \nThe book of the month is choosen at that meeting for the next month\, or shortly thereafter if availablility at local librarys need to take place. \nOccasional date changes do happen by concensus of participants.
URL:https://rochesterfbc.org/event/fbcr-book-club-6/2029-07-24/
END:VEVENT
BEGIN:VEVENT
DTSTART;TZID=America/New_York:20290726T113000
DTEND;TZID=America/New_York:20290726T133000
DTSTAMP:20260422T184155
CREATED:20260418T145256Z
LAST-MODIFIED:20260418T145321Z
UID:10004309-1879759800-1879767000@rochesterfbc.org
SUMMARY:OWLS - Older Wiser Learning Seniors
DESCRIPTION:Programs details to come \n  \n 
URL:https://rochesterfbc.org/event/owls-older-wiser-learning-seniors-may-2-2/2029-07-26/
END:VEVENT
BEGIN:VEVENT
DTSTART;TZID=America/New_York:20290729T094000
DTEND;TZID=America/New_York:20290729T120000
DTSTAMP:20260422T184155
CREATED:20260408T215334Z
LAST-MODIFIED:20260408T215336Z
UID:10004003-1880012400-1880020800@rochesterfbc.org
SUMMARY:Nursery Open
DESCRIPTION:Each week between 9:40 AM and ~12:00 PM\, our nursery will be open for children birth to Pre-K.
URL:https://rochesterfbc.org/event/nursery-opens-2/2029-07-29/
END:VEVENT
BEGIN:VEVENT
DTSTART;TZID=America/New_York:20290729T100000
DTEND;TZID=America/New_York:20290729T110000
DTSTAMP:20260422T184155
CREATED:20240830T202337Z
LAST-MODIFIED:20240830T202337Z
UID:10001885-1880013600-1880017200@rochesterfbc.org
SUMMARY:Worship
DESCRIPTION:
URL:https://rochesterfbc.org/event/worship/2029-07-29/
END:VEVENT
BEGIN:VEVENT
DTSTART;TZID=America/New_York:20290729T103500
DTEND;TZID=America/New_York:20290729T113000
DTSTAMP:20260422T184155
CREATED:20260418T151533Z
LAST-MODIFIED:20260418T151644Z
UID:10004536-1880015700-1880019000@rochesterfbc.org
SUMMARY:Fifth Sunday Mission Project
DESCRIPTION:On Fifth Sundays\, First Rochester works together at the end of a shortened worship service in some way to benefit a local non-profit organization.  I the past we have packed kits for Church World Service\, assembled both snack kits and hygiene kits for Cameron Community Ministries and we have packed Street Ministry hygiene kits for House of Mercy.
URL:https://rochesterfbc.org/event/fifth-sunday-mission-project/2029-07-29/
END:VEVENT
BEGIN:VEVENT
DTSTART;TZID=America/New_York:20290802T113000
DTEND;TZID=America/New_York:20290802T133000
DTSTAMP:20260422T184155
CREATED:20260418T145256Z
LAST-MODIFIED:20260418T145321Z
UID:10004310-1880364600-1880371800@rochesterfbc.org
SUMMARY:OWLS - Older Wiser Learning Seniors
DESCRIPTION:Programs details to come \n  \n 
URL:https://rochesterfbc.org/event/owls-older-wiser-learning-seniors-may-2-2/2029-08-02/
END:VEVENT
BEGIN:VEVENT
DTSTART;VALUE=DATE:20290805
DTEND;VALUE=DATE:20290807
DTSTAMP:20260422T184155
CREATED:20260418T152350Z
LAST-MODIFIED:20260418T152544Z
UID:10004584-1880586000-1880672399@rochesterfbc.org
SUMMARY:Communion Sunday
DESCRIPTION:
URL:https://rochesterfbc.org/event/communion-sunday/2029-08-05/
END:VEVENT
BEGIN:VEVENT
DTSTART;TZID=America/New_York:20290805T094000
DTEND;TZID=America/New_York:20290805T120000
DTSTAMP:20260422T184155
CREATED:20260408T215334Z
LAST-MODIFIED:20260408T215336Z
UID:10004004-1880617200-1880625600@rochesterfbc.org
SUMMARY:Nursery Open
DESCRIPTION:Each week between 9:40 AM and ~12:00 PM\, our nursery will be open for children birth to Pre-K.
URL:https://rochesterfbc.org/event/nursery-opens-2/2029-08-05/
END:VEVENT
BEGIN:VEVENT
DTSTART;TZID=America/New_York:20290805T100000
DTEND;TZID=America/New_York:20290805T110000
DTSTAMP:20260422T184155
CREATED:20240830T202337Z
LAST-MODIFIED:20240830T202337Z
UID:10001886-1880618400-1880622000@rochesterfbc.org
SUMMARY:Worship
DESCRIPTION:
URL:https://rochesterfbc.org/event/worship/2029-08-05/
END:VEVENT
BEGIN:VEVENT
DTSTART;TZID=America/New_York:20290809T113000
DTEND;TZID=America/New_York:20290809T133000
DTSTAMP:20260422T184155
CREATED:20260418T145256Z
LAST-MODIFIED:20260418T145321Z
UID:10004311-1880969400-1880976600@rochesterfbc.org
SUMMARY:OWLS - Older Wiser Learning Seniors
DESCRIPTION:Programs details to come \n  \n 
URL:https://rochesterfbc.org/event/owls-older-wiser-learning-seniors-may-2-2/2029-08-09/
END:VEVENT
BEGIN:VEVENT
DTSTART;TZID=America/New_York:20290812T094000
DTEND;TZID=America/New_York:20290812T120000
DTSTAMP:20260422T184155
CREATED:20260408T215334Z
LAST-MODIFIED:20260408T215336Z
UID:10004005-1881222000-1881230400@rochesterfbc.org
SUMMARY:Nursery Open
DESCRIPTION:Each week between 9:40 AM and ~12:00 PM\, our nursery will be open for children birth to Pre-K.
URL:https://rochesterfbc.org/event/nursery-opens-2/2029-08-12/
END:VEVENT
BEGIN:VEVENT
DTSTART;TZID=America/New_York:20290812T100000
DTEND;TZID=America/New_York:20290812T110000
DTSTAMP:20260422T184155
CREATED:20240830T202337Z
LAST-MODIFIED:20240830T202337Z
UID:10001887-1881223200-1881226800@rochesterfbc.org
SUMMARY:Worship
DESCRIPTION:
URL:https://rochesterfbc.org/event/worship/2029-08-12/
END:VEVENT
BEGIN:VEVENT
DTSTART;TZID=America/New_York:20290816T113000
DTEND;TZID=America/New_York:20290816T133000
DTSTAMP:20260422T184155
CREATED:20260418T145256Z
LAST-MODIFIED:20260418T145321Z
UID:10004312-1881574200-1881581400@rochesterfbc.org
SUMMARY:OWLS - Older Wiser Learning Seniors
DESCRIPTION:Programs details to come \n  \n 
URL:https://rochesterfbc.org/event/owls-older-wiser-learning-seniors-may-2-2/2029-08-16/
END:VEVENT
BEGIN:VEVENT
DTSTART;TZID=America/New_York:20290819T094000
DTEND;TZID=America/New_York:20290819T120000
DTSTAMP:20260422T184155
CREATED:20260408T215334Z
LAST-MODIFIED:20260408T215336Z
UID:10004006-1881826800-1881835200@rochesterfbc.org
SUMMARY:Nursery Open
DESCRIPTION:Each week between 9:40 AM and ~12:00 PM\, our nursery will be open for children birth to Pre-K.
URL:https://rochesterfbc.org/event/nursery-opens-2/2029-08-19/
END:VEVENT
BEGIN:VEVENT
DTSTART;TZID=America/New_York:20290819T100000
DTEND;TZID=America/New_York:20290819T110000
DTSTAMP:20260422T184155
CREATED:20240830T202337Z
LAST-MODIFIED:20240830T202337Z
UID:10001888-1881828000-1881831600@rochesterfbc.org
SUMMARY:Worship
DESCRIPTION:
URL:https://rochesterfbc.org/event/worship/2029-08-19/
END:VEVENT
BEGIN:VEVENT
DTSTART;TZID=America/New_York:20290819T113000
DTEND;TZID=America/New_York:20290819T121000
DTSTAMP:20260422T184155
CREATED:20260418T150335Z
LAST-MODIFIED:20260418T150516Z
UID:10004445-1881833400-1881835800@rochesterfbc.org
SUMMARY:Mission Meeting
DESCRIPTION:Join our Mission Team in the library after a brief time of Fellowship in the Garden Room.  They will discuss and plan various local mission intiatives for First Rochester to engage with the community.  They also determine support for strategic Associations as well as our International Ministries focus\, Lance and Christiana Muteyo.
URL:https://rochesterfbc.org/event/mission-meeting-3/2029-08-19/
END:VEVENT
BEGIN:VEVENT
DTSTART;TZID=America/New_York:20290820T180000
DTEND;TZID=America/New_York:20290820T190000
DTSTAMP:20260422T184155
CREATED:20230825T233604Z
LAST-MODIFIED:20240106T135849Z
UID:10002197-1881943200-1881946800@rochesterfbc.org
SUMMARY:Trustees Mtg.
DESCRIPTION:The Board of Trustee which oversee the campus and financies of the church meet monthly on the Third Monday.
URL:https://rochesterfbc.org/event/trustees-mtg/2029-08-20/
ATTACH;FMTTYPE=image/jpeg:https://rochesterfbc.org/wp-content/uploads/2023/08/calculator.jpg
END:VEVENT
BEGIN:VEVENT
DTSTART;TZID=America/New_York:20290821T180000
DTEND;TZID=America/New_York:20290821T193000
DTSTAMP:20260422T184155
CREATED:20250622T172005Z
LAST-MODIFIED:20250622T172120Z
UID:10002200-1882029600-1882035000@rochesterfbc.org
SUMMARY:Church Council
DESCRIPTION:The leadership of the church meet on the third Tuesday of the month to share the work of their groups\, special iniatives\, and to vote on various happenings of the church. The council meetings are open to all. If you have a topic you would like to discuss\, please reach out to the church office so that you can be placed on the agenda.
URL:https://rochesterfbc.org/event/church-council-2-3-2/2029-08-21/
ATTACH;FMTTYPE=image/jpeg:https://rochesterfbc.org/wp-content/uploads/2023/08/Church-Council.jpg
END:VEVENT
BEGIN:VEVENT
DTSTART;TZID=America/New_York:20290823T113000
DTEND;TZID=America/New_York:20290823T133000
DTSTAMP:20260422T184155
CREATED:20260418T145256Z
LAST-MODIFIED:20260418T145321Z
UID:10004313-1882179000-1882186200@rochesterfbc.org
SUMMARY:OWLS - Older Wiser Learning Seniors
DESCRIPTION:Programs details to come \n  \n 
URL:https://rochesterfbc.org/event/owls-older-wiser-learning-seniors-may-2-2/2029-08-23/
END:VEVENT
BEGIN:VEVENT
DTSTART;TZID=America/New_York:20290826T094000
DTEND;TZID=America/New_York:20290826T120000
DTSTAMP:20260422T184155
CREATED:20260408T215334Z
LAST-MODIFIED:20260408T215336Z
UID:10004007-1882431600-1882440000@rochesterfbc.org
SUMMARY:Nursery Open
DESCRIPTION:Each week between 9:40 AM and ~12:00 PM\, our nursery will be open for children birth to Pre-K.
URL:https://rochesterfbc.org/event/nursery-opens-2/2029-08-26/
END:VEVENT
BEGIN:VEVENT
DTSTART;TZID=America/New_York:20290826T100000
DTEND;TZID=America/New_York:20290826T110000
DTSTAMP:20260422T184155
CREATED:20240830T202337Z
LAST-MODIFIED:20240830T202337Z
UID:10001889-1882432800-1882436400@rochesterfbc.org
SUMMARY:Worship
DESCRIPTION:
URL:https://rochesterfbc.org/event/worship/2029-08-26/
END:VEVENT
BEGIN:VEVENT
DTSTART;TZID=America/New_York:20290828T113000
DTEND;TZID=America/New_York:20290828T133000
DTSTAMP:20260422T184155
CREATED:20260110T160103Z
LAST-MODIFIED:20260110T160103Z
UID:10003747-1882611000-1882618200@rochesterfbc.org
SUMMARY:FBCR Book Club
DESCRIPTION:The Book Club meets\, generally on the 4th Tuesday of the month\, at 11:30 AM for a BYOB lunch (beverages provided) and fellowship with a discussion of each month’s book at noon.  It concludes at 1:30 PM. \nThe book of the month is choosen at that meeting for the next month\, or shortly thereafter if availablility at local librarys need to take place. \nOccasional date changes do happen by concensus of participants.
URL:https://rochesterfbc.org/event/fbcr-book-club-6/2029-08-28/
END:VEVENT
BEGIN:VEVENT
DTSTART;TZID=America/New_York:20290830T113000
DTEND;TZID=America/New_York:20290830T133000
DTSTAMP:20260422T184155
CREATED:20260418T145256Z
LAST-MODIFIED:20260418T145321Z
UID:10004314-1882783800-1882791000@rochesterfbc.org
SUMMARY:OWLS - Older Wiser Learning Seniors
DESCRIPTION:Programs details to come \n  \n 
URL:https://rochesterfbc.org/event/owls-older-wiser-learning-seniors-may-2-2/2029-08-30/
END:VEVENT
BEGIN:VEVENT
DTSTART;VALUE=DATE:20290902
DTEND;VALUE=DATE:20290904
DTSTAMP:20260422T184155
CREATED:20260418T152350Z
LAST-MODIFIED:20260418T152544Z
UID:10004585-1883005200-1883091599@rochesterfbc.org
SUMMARY:Communion Sunday
DESCRIPTION:
URL:https://rochesterfbc.org/event/communion-sunday/2029-09-02/
END:VEVENT
END:VCALENDAR