BEGIN:VCALENDAR
VERSION:2.0
PRODID:-//First Rochester - ECPv6.15.20//NONSGML v1.0//EN
CALSCALE:GREGORIAN
METHOD:PUBLISH
X-ORIGINAL-URL:https://rochesterfbc.org
X-WR-CALDESC:Events for First Rochester
REFRESH-INTERVAL;VALUE=DURATION:PT1H
X-Robots-Tag:noindex
X-PUBLISHED-TTL:PT1H
BEGIN:VTIMEZONE
TZID:America/New_York
BEGIN:DAYLIGHT
TZOFFSETFROM:-0500
TZOFFSETTO:-0400
TZNAME:EDT
DTSTART:20280312T070000
END:DAYLIGHT
BEGIN:STANDARD
TZOFFSETFROM:-0400
TZOFFSETTO:-0500
TZNAME:EST
DTSTART:20281105T060000
END:STANDARD
BEGIN:DAYLIGHT
TZOFFSETFROM:-0500
TZOFFSETTO:-0400
TZNAME:EDT
DTSTART:20290311T070000
END:DAYLIGHT
BEGIN:STANDARD
TZOFFSETFROM:-0400
TZOFFSETTO:-0500
TZNAME:EST
DTSTART:20291104T060000
END:STANDARD
BEGIN:DAYLIGHT
TZOFFSETFROM:-0500
TZOFFSETTO:-0400
TZNAME:EDT
DTSTART:20300310T070000
END:DAYLIGHT
BEGIN:STANDARD
TZOFFSETFROM:-0400
TZOFFSETTO:-0500
TZNAME:EST
DTSTART:20301103T060000
END:STANDARD
END:VTIMEZONE
BEGIN:VEVENT
DTSTART;TZID=America/New_York:20290828T113000
DTEND;TZID=America/New_York:20290828T133000
DTSTAMP:20260422T174910
CREATED:20260110T160103Z
LAST-MODIFIED:20260110T160103Z
UID:10003747-1882611000-1882618200@rochesterfbc.org
SUMMARY:FBCR Book Club
DESCRIPTION:The Book Club meets\, generally on the 4th Tuesday of the month\, at 11:30 AM for a BYOB lunch (beverages provided) and fellowship with a discussion of each month’s book at noon.  It concludes at 1:30 PM. \nThe book of the month is choosen at that meeting for the next month\, or shortly thereafter if availablility at local librarys need to take place. \nOccasional date changes do happen by concensus of participants.
URL:https://rochesterfbc.org/event/fbcr-book-club-6/2029-08-28/
END:VEVENT
BEGIN:VEVENT
DTSTART;TZID=America/New_York:20290830T113000
DTEND;TZID=America/New_York:20290830T133000
DTSTAMP:20260422T174910
CREATED:20260418T145256Z
LAST-MODIFIED:20260418T145321Z
UID:10004314-1882783800-1882791000@rochesterfbc.org
SUMMARY:OWLS - Older Wiser Learning Seniors
DESCRIPTION:Programs details to come \n  \n 
URL:https://rochesterfbc.org/event/owls-older-wiser-learning-seniors-may-2-2/2029-08-30/
END:VEVENT
BEGIN:VEVENT
DTSTART;VALUE=DATE:20290902
DTEND;VALUE=DATE:20290904
DTSTAMP:20260422T174910
CREATED:20260418T152350Z
LAST-MODIFIED:20260418T152544Z
UID:10004585-1883005200-1883091599@rochesterfbc.org
SUMMARY:Communion Sunday
DESCRIPTION:
URL:https://rochesterfbc.org/event/communion-sunday/2029-09-02/
END:VEVENT
BEGIN:VEVENT
DTSTART;TZID=America/New_York:20290902T094000
DTEND;TZID=America/New_York:20290902T120000
DTSTAMP:20260422T174910
CREATED:20260408T215334Z
LAST-MODIFIED:20260408T215336Z
UID:10004008-1883036400-1883044800@rochesterfbc.org
SUMMARY:Nursery Open
DESCRIPTION:Each week between 9:40 AM and ~12:00 PM\, our nursery will be open for children birth to Pre-K.
URL:https://rochesterfbc.org/event/nursery-opens-2/2029-09-02/
END:VEVENT
BEGIN:VEVENT
DTSTART;TZID=America/New_York:20290902T100000
DTEND;TZID=America/New_York:20290902T110000
DTSTAMP:20260422T174910
CREATED:20240830T202337Z
LAST-MODIFIED:20240830T202337Z
UID:10003104-1883037600-1883041200@rochesterfbc.org
SUMMARY:Worship
DESCRIPTION:
URL:https://rochesterfbc.org/event/worship/2029-09-02/
END:VEVENT
BEGIN:VEVENT
DTSTART;TZID=America/New_York:20290906T113000
DTEND;TZID=America/New_York:20290906T133000
DTSTAMP:20260422T174910
CREATED:20260418T145256Z
LAST-MODIFIED:20260418T145321Z
UID:10004315-1883388600-1883395800@rochesterfbc.org
SUMMARY:OWLS - Older Wiser Learning Seniors
DESCRIPTION:Programs details to come \n  \n 
URL:https://rochesterfbc.org/event/owls-older-wiser-learning-seniors-may-2-2/2029-09-06/
END:VEVENT
BEGIN:VEVENT
DTSTART;TZID=America/New_York:20290909T094000
DTEND;TZID=America/New_York:20290909T120000
DTSTAMP:20260422T174910
CREATED:20260408T215334Z
LAST-MODIFIED:20260408T215336Z
UID:10004009-1883641200-1883649600@rochesterfbc.org
SUMMARY:Nursery Open
DESCRIPTION:Each week between 9:40 AM and ~12:00 PM\, our nursery will be open for children birth to Pre-K.
URL:https://rochesterfbc.org/event/nursery-opens-2/2029-09-09/
END:VEVENT
BEGIN:VEVENT
DTSTART;TZID=America/New_York:20290909T100000
DTEND;TZID=America/New_York:20290909T110000
DTSTAMP:20260422T174910
CREATED:20240830T202337Z
LAST-MODIFIED:20240830T202337Z
UID:10003105-1883642400-1883646000@rochesterfbc.org
SUMMARY:Worship
DESCRIPTION:
URL:https://rochesterfbc.org/event/worship/2029-09-09/
END:VEVENT
BEGIN:VEVENT
DTSTART;TZID=America/New_York:20290913T113000
DTEND;TZID=America/New_York:20290913T133000
DTSTAMP:20260422T174910
CREATED:20260418T145256Z
LAST-MODIFIED:20260418T145321Z
UID:10004316-1883993400-1884000600@rochesterfbc.org
SUMMARY:OWLS - Older Wiser Learning Seniors
DESCRIPTION:Programs details to come \n  \n 
URL:https://rochesterfbc.org/event/owls-older-wiser-learning-seniors-may-2-2/2029-09-13/
END:VEVENT
BEGIN:VEVENT
DTSTART;TZID=America/New_York:20290916T094000
DTEND;TZID=America/New_York:20290916T120000
DTSTAMP:20260422T174910
CREATED:20260408T215334Z
LAST-MODIFIED:20260408T215336Z
UID:10004010-1884246000-1884254400@rochesterfbc.org
SUMMARY:Nursery Open
DESCRIPTION:Each week between 9:40 AM and ~12:00 PM\, our nursery will be open for children birth to Pre-K.
URL:https://rochesterfbc.org/event/nursery-opens-2/2029-09-16/
END:VEVENT
BEGIN:VEVENT
DTSTART;TZID=America/New_York:20290916T100000
DTEND;TZID=America/New_York:20290916T110000
DTSTAMP:20260422T174910
CREATED:20240830T202337Z
LAST-MODIFIED:20240830T202337Z
UID:10003106-1884247200-1884250800@rochesterfbc.org
SUMMARY:Worship
DESCRIPTION:
URL:https://rochesterfbc.org/event/worship/2029-09-16/
END:VEVENT
BEGIN:VEVENT
DTSTART;TZID=America/New_York:20290916T113000
DTEND;TZID=America/New_York:20290916T121000
DTSTAMP:20260422T174910
CREATED:20260418T150335Z
LAST-MODIFIED:20260418T150516Z
UID:10004446-1884252600-1884255000@rochesterfbc.org
SUMMARY:Mission Meeting
DESCRIPTION:Join our Mission Team in the library after a brief time of Fellowship in the Garden Room.  They will discuss and plan various local mission intiatives for First Rochester to engage with the community.  They also determine support for strategic Associations as well as our International Ministries focus\, Lance and Christiana Muteyo.
URL:https://rochesterfbc.org/event/mission-meeting-3/2029-09-16/
END:VEVENT
BEGIN:VEVENT
DTSTART;TZID=America/New_York:20290917T180000
DTEND;TZID=America/New_York:20290917T190000
DTSTAMP:20260422T174910
CREATED:20230825T233604Z
LAST-MODIFIED:20240106T135849Z
UID:10003000-1884362400-1884366000@rochesterfbc.org
SUMMARY:Trustees Mtg.
DESCRIPTION:The Board of Trustee which oversee the campus and financies of the church meet monthly on the Third Monday.
URL:https://rochesterfbc.org/event/trustees-mtg/2029-09-17/
ATTACH;FMTTYPE=image/jpeg:https://rochesterfbc.org/wp-content/uploads/2023/08/calculator.jpg
END:VEVENT
BEGIN:VEVENT
DTSTART;TZID=America/New_York:20290918T180000
DTEND;TZID=America/New_York:20290918T193000
DTSTAMP:20260422T174910
CREATED:20250622T172005Z
LAST-MODIFIED:20250622T172120Z
UID:10003023-1884448800-1884454200@rochesterfbc.org
SUMMARY:Church Council
DESCRIPTION:The leadership of the church meet on the third Tuesday of the month to share the work of their groups\, special iniatives\, and to vote on various happenings of the church. The council meetings are open to all. If you have a topic you would like to discuss\, please reach out to the church office so that you can be placed on the agenda.
URL:https://rochesterfbc.org/event/church-council-2-3-2/2029-09-18/
ATTACH;FMTTYPE=image/jpeg:https://rochesterfbc.org/wp-content/uploads/2023/08/Church-Council.jpg
END:VEVENT
BEGIN:VEVENT
DTSTART;TZID=America/New_York:20290920T113000
DTEND;TZID=America/New_York:20290920T133000
DTSTAMP:20260422T174910
CREATED:20260418T145256Z
LAST-MODIFIED:20260418T145321Z
UID:10004317-1884598200-1884605400@rochesterfbc.org
SUMMARY:OWLS - Older Wiser Learning Seniors
DESCRIPTION:Programs details to come \n  \n 
URL:https://rochesterfbc.org/event/owls-older-wiser-learning-seniors-may-2-2/2029-09-20/
END:VEVENT
BEGIN:VEVENT
DTSTART;TZID=America/New_York:20290923T094000
DTEND;TZID=America/New_York:20290923T120000
DTSTAMP:20260422T174910
CREATED:20260408T215334Z
LAST-MODIFIED:20260408T215336Z
UID:10004011-1884850800-1884859200@rochesterfbc.org
SUMMARY:Nursery Open
DESCRIPTION:Each week between 9:40 AM and ~12:00 PM\, our nursery will be open for children birth to Pre-K.
URL:https://rochesterfbc.org/event/nursery-opens-2/2029-09-23/
END:VEVENT
BEGIN:VEVENT
DTSTART;TZID=America/New_York:20290923T100000
DTEND;TZID=America/New_York:20290923T110000
DTSTAMP:20260422T174910
CREATED:20240830T202337Z
LAST-MODIFIED:20240830T202337Z
UID:10003107-1884852000-1884855600@rochesterfbc.org
SUMMARY:Worship
DESCRIPTION:
URL:https://rochesterfbc.org/event/worship/2029-09-23/
END:VEVENT
BEGIN:VEVENT
DTSTART;TZID=America/New_York:20290925T113000
DTEND;TZID=America/New_York:20290925T133000
DTSTAMP:20260422T174910
CREATED:20260110T160103Z
LAST-MODIFIED:20260110T160103Z
UID:10003748-1885030200-1885037400@rochesterfbc.org
SUMMARY:FBCR Book Club
DESCRIPTION:The Book Club meets\, generally on the 4th Tuesday of the month\, at 11:30 AM for a BYOB lunch (beverages provided) and fellowship with a discussion of each month’s book at noon.  It concludes at 1:30 PM. \nThe book of the month is choosen at that meeting for the next month\, or shortly thereafter if availablility at local librarys need to take place. \nOccasional date changes do happen by concensus of participants.
URL:https://rochesterfbc.org/event/fbcr-book-club-6/2029-09-25/
END:VEVENT
BEGIN:VEVENT
DTSTART;TZID=America/New_York:20290927T113000
DTEND;TZID=America/New_York:20290927T133000
DTSTAMP:20260422T174910
CREATED:20260418T145256Z
LAST-MODIFIED:20260418T145321Z
UID:10004318-1885203000-1885210200@rochesterfbc.org
SUMMARY:OWLS - Older Wiser Learning Seniors
DESCRIPTION:Programs details to come \n  \n 
URL:https://rochesterfbc.org/event/owls-older-wiser-learning-seniors-may-2-2/2029-09-27/
END:VEVENT
BEGIN:VEVENT
DTSTART;TZID=America/New_York:20290930T094000
DTEND;TZID=America/New_York:20290930T120000
DTSTAMP:20260422T174910
CREATED:20260408T215334Z
LAST-MODIFIED:20260408T215336Z
UID:10004012-1885455600-1885464000@rochesterfbc.org
SUMMARY:Nursery Open
DESCRIPTION:Each week between 9:40 AM and ~12:00 PM\, our nursery will be open for children birth to Pre-K.
URL:https://rochesterfbc.org/event/nursery-opens-2/2029-09-30/
END:VEVENT
BEGIN:VEVENT
DTSTART;TZID=America/New_York:20290930T100000
DTEND;TZID=America/New_York:20290930T110000
DTSTAMP:20260422T174910
CREATED:20240830T202337Z
LAST-MODIFIED:20240830T202337Z
UID:10003108-1885456800-1885460400@rochesterfbc.org
SUMMARY:Worship
DESCRIPTION:
URL:https://rochesterfbc.org/event/worship/2029-09-30/
END:VEVENT
BEGIN:VEVENT
DTSTART;TZID=America/New_York:20290930T103500
DTEND;TZID=America/New_York:20290930T113000
DTSTAMP:20260422T174910
CREATED:20260418T151533Z
LAST-MODIFIED:20260418T151644Z
UID:10004537-1885458900-1885462200@rochesterfbc.org
SUMMARY:Fifth Sunday Mission Project
DESCRIPTION:On Fifth Sundays\, First Rochester works together at the end of a shortened worship service in some way to benefit a local non-profit organization.  I the past we have packed kits for Church World Service\, assembled both snack kits and hygiene kits for Cameron Community Ministries and we have packed Street Ministry hygiene kits for House of Mercy.
URL:https://rochesterfbc.org/event/fifth-sunday-mission-project/2029-09-30/
END:VEVENT
BEGIN:VEVENT
DTSTART;TZID=America/New_York:20291004T113000
DTEND;TZID=America/New_York:20291004T133000
DTSTAMP:20260422T174910
CREATED:20260418T145256Z
LAST-MODIFIED:20260418T145321Z
UID:10004319-1885807800-1885815000@rochesterfbc.org
SUMMARY:OWLS - Older Wiser Learning Seniors
DESCRIPTION:Programs details to come \n  \n 
URL:https://rochesterfbc.org/event/owls-older-wiser-learning-seniors-may-2-2/2029-10-04/
END:VEVENT
BEGIN:VEVENT
DTSTART;VALUE=DATE:20291007
DTEND;VALUE=DATE:20291009
DTSTAMP:20260422T174910
CREATED:20260418T152350Z
LAST-MODIFIED:20260418T152544Z
UID:10004586-1886029200-1886115599@rochesterfbc.org
SUMMARY:Communion Sunday
DESCRIPTION:
URL:https://rochesterfbc.org/event/communion-sunday/2029-10-07/
END:VEVENT
BEGIN:VEVENT
DTSTART;TZID=America/New_York:20291007T094000
DTEND;TZID=America/New_York:20291007T120000
DTSTAMP:20260422T174910
CREATED:20260408T215334Z
LAST-MODIFIED:20260408T215336Z
UID:10004013-1886060400-1886068800@rochesterfbc.org
SUMMARY:Nursery Open
DESCRIPTION:Each week between 9:40 AM and ~12:00 PM\, our nursery will be open for children birth to Pre-K.
URL:https://rochesterfbc.org/event/nursery-opens-2/2029-10-07/
END:VEVENT
BEGIN:VEVENT
DTSTART;TZID=America/New_York:20291007T100000
DTEND;TZID=America/New_York:20291007T110000
DTSTAMP:20260422T174910
CREATED:20240830T202337Z
LAST-MODIFIED:20240830T202337Z
UID:10003109-1886061600-1886065200@rochesterfbc.org
SUMMARY:Worship
DESCRIPTION:
URL:https://rochesterfbc.org/event/worship/2029-10-07/
END:VEVENT
BEGIN:VEVENT
DTSTART;TZID=America/New_York:20291011T113000
DTEND;TZID=America/New_York:20291011T133000
DTSTAMP:20260422T174910
CREATED:20260418T145256Z
LAST-MODIFIED:20260418T145321Z
UID:10004320-1886412600-1886419800@rochesterfbc.org
SUMMARY:OWLS - Older Wiser Learning Seniors
DESCRIPTION:Programs details to come \n  \n 
URL:https://rochesterfbc.org/event/owls-older-wiser-learning-seniors-may-2-2/2029-10-11/
END:VEVENT
BEGIN:VEVENT
DTSTART;TZID=America/New_York:20291014T094000
DTEND;TZID=America/New_York:20291014T120000
DTSTAMP:20260422T174910
CREATED:20260408T215334Z
LAST-MODIFIED:20260408T215336Z
UID:10004014-1886665200-1886673600@rochesterfbc.org
SUMMARY:Nursery Open
DESCRIPTION:Each week between 9:40 AM and ~12:00 PM\, our nursery will be open for children birth to Pre-K.
URL:https://rochesterfbc.org/event/nursery-opens-2/2029-10-14/
END:VEVENT
BEGIN:VEVENT
DTSTART;TZID=America/New_York:20291014T100000
DTEND;TZID=America/New_York:20291014T110000
DTSTAMP:20260422T174910
CREATED:20240830T202337Z
LAST-MODIFIED:20240830T202337Z
UID:10003110-1886666400-1886670000@rochesterfbc.org
SUMMARY:Worship
DESCRIPTION:
URL:https://rochesterfbc.org/event/worship/2029-10-14/
END:VEVENT
BEGIN:VEVENT
DTSTART;TZID=America/New_York:20291015T180000
DTEND;TZID=America/New_York:20291015T190000
DTSTAMP:20260422T174910
CREATED:20230825T233604Z
LAST-MODIFIED:20240106T135849Z
UID:10003001-1886781600-1886785200@rochesterfbc.org
SUMMARY:Trustees Mtg.
DESCRIPTION:The Board of Trustee which oversee the campus and financies of the church meet monthly on the Third Monday.
URL:https://rochesterfbc.org/event/trustees-mtg/2029-10-15/
ATTACH;FMTTYPE=image/jpeg:https://rochesterfbc.org/wp-content/uploads/2023/08/calculator.jpg
END:VEVENT
END:VCALENDAR