BEGIN:VCALENDAR
VERSION:2.0
PRODID:-//First Rochester - ECPv6.15.20//NONSGML v1.0//EN
CALSCALE:GREGORIAN
METHOD:PUBLISH
X-WR-CALNAME:First Rochester
X-ORIGINAL-URL:https://rochesterfbc.org
X-WR-CALDESC:Events for First Rochester
REFRESH-INTERVAL;VALUE=DURATION:PT1H
X-Robots-Tag:noindex
X-PUBLISHED-TTL:PT1H
BEGIN:VTIMEZONE
TZID:America/New_York
BEGIN:DAYLIGHT
TZOFFSETFROM:-0500
TZOFFSETTO:-0400
TZNAME:EDT
DTSTART:20290311T070000
END:DAYLIGHT
BEGIN:STANDARD
TZOFFSETFROM:-0400
TZOFFSETTO:-0500
TZNAME:EST
DTSTART:20291104T060000
END:STANDARD
BEGIN:DAYLIGHT
TZOFFSETFROM:-0500
TZOFFSETTO:-0400
TZNAME:EDT
DTSTART:20300310T070000
END:DAYLIGHT
BEGIN:STANDARD
TZOFFSETFROM:-0400
TZOFFSETTO:-0500
TZNAME:EST
DTSTART:20301103T060000
END:STANDARD
BEGIN:DAYLIGHT
TZOFFSETFROM:-0500
TZOFFSETTO:-0400
TZNAME:EDT
DTSTART:20310309T070000
END:DAYLIGHT
BEGIN:STANDARD
TZOFFSETFROM:-0400
TZOFFSETTO:-0500
TZNAME:EST
DTSTART:20311102T060000
END:STANDARD
END:VTIMEZONE
BEGIN:VEVENT
DTSTART;TZID=America/New_York:20300526T100000
DTEND;TZID=America/New_York:20300526T110000
DTSTAMP:20260423T050807
CREATED:20240830T202337Z
LAST-MODIFIED:20240830T202337Z
UID:10003142-1906020000-1906023600@rochesterfbc.org
SUMMARY:Worship
DESCRIPTION:
URL:https://rochesterfbc.org/event/worship/2030-05-26/
END:VEVENT
BEGIN:VEVENT
DTSTART;TZID=America/New_York:20300528T113000
DTEND;TZID=America/New_York:20300528T133000
DTSTAMP:20260423T050807
CREATED:20260110T160103Z
LAST-MODIFIED:20260110T160103Z
UID:10003756-1906198200-1906205400@rochesterfbc.org
SUMMARY:FBCR Book Club
DESCRIPTION:The Book Club meets\, generally on the 4th Tuesday of the month\, at 11:30 AM for a BYOB lunch (beverages provided) and fellowship with a discussion of each month’s book at noon.  It concludes at 1:30 PM. \nThe book of the month is choosen at that meeting for the next month\, or shortly thereafter if availablility at local librarys need to take place. \nOccasional date changes do happen by concensus of participants.
URL:https://rochesterfbc.org/event/fbcr-book-club-6/2030-05-28/
END:VEVENT
BEGIN:VEVENT
DTSTART;TZID=America/New_York:20300530T113000
DTEND;TZID=America/New_York:20300530T133000
DTSTAMP:20260423T050807
CREATED:20260418T145256Z
LAST-MODIFIED:20260418T145321Z
UID:10004353-1906371000-1906378200@rochesterfbc.org
SUMMARY:OWLS - Older Wiser Learning Seniors
DESCRIPTION:Programs details to come \n  \n 
URL:https://rochesterfbc.org/event/owls-older-wiser-learning-seniors-may-2-2/2030-05-30/
END:VEVENT
BEGIN:VEVENT
DTSTART;VALUE=DATE:20300602
DTEND;VALUE=DATE:20300604
DTSTAMP:20260423T050807
CREATED:20260418T152350Z
LAST-MODIFIED:20260418T152544Z
UID:10004594-1906592400-1906678799@rochesterfbc.org
SUMMARY:Communion Sunday
DESCRIPTION:
URL:https://rochesterfbc.org/event/communion-sunday/2030-06-02/
END:VEVENT
BEGIN:VEVENT
DTSTART;TZID=America/New_York:20300602T094000
DTEND;TZID=America/New_York:20300602T120000
DTSTAMP:20260423T050807
CREATED:20260408T215334Z
LAST-MODIFIED:20260408T215336Z
UID:10004047-1906623600-1906632000@rochesterfbc.org
SUMMARY:Nursery Open
DESCRIPTION:Each week between 9:40 AM and ~12:00 PM\, our nursery will be open for children birth to Pre-K.
URL:https://rochesterfbc.org/event/nursery-opens-2/2030-06-02/
END:VEVENT
BEGIN:VEVENT
DTSTART;TZID=America/New_York:20300602T100000
DTEND;TZID=America/New_York:20300602T110000
DTSTAMP:20260423T050807
CREATED:20240830T202337Z
LAST-MODIFIED:20240830T202337Z
UID:10003143-1906624800-1906628400@rochesterfbc.org
SUMMARY:Worship
DESCRIPTION:
URL:https://rochesterfbc.org/event/worship/2030-06-02/
END:VEVENT
BEGIN:VEVENT
DTSTART;TZID=America/New_York:20300606T113000
DTEND;TZID=America/New_York:20300606T133000
DTSTAMP:20260423T050807
CREATED:20260418T145256Z
LAST-MODIFIED:20260418T145321Z
UID:10004354-1906975800-1906983000@rochesterfbc.org
SUMMARY:OWLS - Older Wiser Learning Seniors
DESCRIPTION:Programs details to come \n  \n 
URL:https://rochesterfbc.org/event/owls-older-wiser-learning-seniors-may-2-2/2030-06-06/
END:VEVENT
BEGIN:VEVENT
DTSTART;TZID=America/New_York:20300609T094000
DTEND;TZID=America/New_York:20300609T120000
DTSTAMP:20260423T050807
CREATED:20260408T215334Z
LAST-MODIFIED:20260408T215336Z
UID:10004048-1907228400-1907236800@rochesterfbc.org
SUMMARY:Nursery Open
DESCRIPTION:Each week between 9:40 AM and ~12:00 PM\, our nursery will be open for children birth to Pre-K.
URL:https://rochesterfbc.org/event/nursery-opens-2/2030-06-09/
END:VEVENT
BEGIN:VEVENT
DTSTART;TZID=America/New_York:20300609T100000
DTEND;TZID=America/New_York:20300609T110000
DTSTAMP:20260423T050807
CREATED:20240830T202337Z
LAST-MODIFIED:20240830T202337Z
UID:10003144-1907229600-1907233200@rochesterfbc.org
SUMMARY:Worship
DESCRIPTION:
URL:https://rochesterfbc.org/event/worship/2030-06-09/
END:VEVENT
BEGIN:VEVENT
DTSTART;TZID=America/New_York:20300613T113000
DTEND;TZID=America/New_York:20300613T133000
DTSTAMP:20260423T050807
CREATED:20260418T145256Z
LAST-MODIFIED:20260418T145321Z
UID:10004355-1907580600-1907587800@rochesterfbc.org
SUMMARY:OWLS - Older Wiser Learning Seniors
DESCRIPTION:Programs details to come \n  \n 
URL:https://rochesterfbc.org/event/owls-older-wiser-learning-seniors-may-2-2/2030-06-13/
END:VEVENT
BEGIN:VEVENT
DTSTART;TZID=America/New_York:20300616T094000
DTEND;TZID=America/New_York:20300616T120000
DTSTAMP:20260423T050807
CREATED:20260408T215334Z
LAST-MODIFIED:20260408T215336Z
UID:10004049-1907833200-1907841600@rochesterfbc.org
SUMMARY:Nursery Open
DESCRIPTION:Each week between 9:40 AM and ~12:00 PM\, our nursery will be open for children birth to Pre-K.
URL:https://rochesterfbc.org/event/nursery-opens-2/2030-06-16/
END:VEVENT
BEGIN:VEVENT
DTSTART;TZID=America/New_York:20300616T100000
DTEND;TZID=America/New_York:20300616T110000
DTSTAMP:20260423T050807
CREATED:20240830T202337Z
LAST-MODIFIED:20240830T202337Z
UID:10003145-1907834400-1907838000@rochesterfbc.org
SUMMARY:Worship
DESCRIPTION:
URL:https://rochesterfbc.org/event/worship/2030-06-16/
END:VEVENT
BEGIN:VEVENT
DTSTART;TZID=America/New_York:20300616T113000
DTEND;TZID=America/New_York:20300616T121000
DTSTAMP:20260423T050807
CREATED:20260418T150335Z
LAST-MODIFIED:20260418T150516Z
UID:10004455-1907839800-1907842200@rochesterfbc.org
SUMMARY:Mission Meeting
DESCRIPTION:Join our Mission Team in the library after a brief time of Fellowship in the Garden Room.  They will discuss and plan various local mission intiatives for First Rochester to engage with the community.  They also determine support for strategic Associations as well as our International Ministries focus\, Lance and Christiana Muteyo.
URL:https://rochesterfbc.org/event/mission-meeting-3/2030-06-16/
END:VEVENT
BEGIN:VEVENT
DTSTART;TZID=America/New_York:20300617T180000
DTEND;TZID=America/New_York:20300617T190000
DTSTAMP:20260423T050807
CREATED:20230825T233604Z
LAST-MODIFIED:20240106T135849Z
UID:10003469-1907949600-1907953200@rochesterfbc.org
SUMMARY:Trustees Mtg.
DESCRIPTION:The Board of Trustee which oversee the campus and financies of the church meet monthly on the Third Monday.
URL:https://rochesterfbc.org/event/trustees-mtg/2030-06-17/
ATTACH;FMTTYPE=image/jpeg:https://rochesterfbc.org/wp-content/uploads/2023/08/calculator.jpg
END:VEVENT
BEGIN:VEVENT
DTSTART;TZID=America/New_York:20300618T180000
DTEND;TZID=America/New_York:20300618T193000
DTSTAMP:20260423T050807
CREATED:20250622T172005Z
LAST-MODIFIED:20250622T172120Z
UID:10003263-1908036000-1908041400@rochesterfbc.org
SUMMARY:Church Council
DESCRIPTION:The leadership of the church meet on the third Tuesday of the month to share the work of their groups\, special iniatives\, and to vote on various happenings of the church. The council meetings are open to all. If you have a topic you would like to discuss\, please reach out to the church office so that you can be placed on the agenda.
URL:https://rochesterfbc.org/event/church-council-2-3-2/2030-06-18/
ATTACH;FMTTYPE=image/jpeg:https://rochesterfbc.org/wp-content/uploads/2023/08/Church-Council.jpg
END:VEVENT
BEGIN:VEVENT
DTSTART;TZID=America/New_York:20300620T113000
DTEND;TZID=America/New_York:20300620T133000
DTSTAMP:20260423T050807
CREATED:20260418T145256Z
LAST-MODIFIED:20260418T145321Z
UID:10004356-1908185400-1908192600@rochesterfbc.org
SUMMARY:OWLS - Older Wiser Learning Seniors
DESCRIPTION:Programs details to come \n  \n 
URL:https://rochesterfbc.org/event/owls-older-wiser-learning-seniors-may-2-2/2030-06-20/
END:VEVENT
BEGIN:VEVENT
DTSTART;TZID=America/New_York:20300623T094000
DTEND;TZID=America/New_York:20300623T120000
DTSTAMP:20260423T050807
CREATED:20260408T215334Z
LAST-MODIFIED:20260408T215336Z
UID:10004050-1908438000-1908446400@rochesterfbc.org
SUMMARY:Nursery Open
DESCRIPTION:Each week between 9:40 AM and ~12:00 PM\, our nursery will be open for children birth to Pre-K.
URL:https://rochesterfbc.org/event/nursery-opens-2/2030-06-23/
END:VEVENT
BEGIN:VEVENT
DTSTART;TZID=America/New_York:20300625T113000
DTEND;TZID=America/New_York:20300625T133000
DTSTAMP:20260423T050807
CREATED:20260110T160103Z
LAST-MODIFIED:20260110T160103Z
UID:10003757-1908617400-1908624600@rochesterfbc.org
SUMMARY:FBCR Book Club
DESCRIPTION:The Book Club meets\, generally on the 4th Tuesday of the month\, at 11:30 AM for a BYOB lunch (beverages provided) and fellowship with a discussion of each month’s book at noon.  It concludes at 1:30 PM. \nThe book of the month is choosen at that meeting for the next month\, or shortly thereafter if availablility at local librarys need to take place. \nOccasional date changes do happen by concensus of participants.
URL:https://rochesterfbc.org/event/fbcr-book-club-6/2030-06-25/
END:VEVENT
BEGIN:VEVENT
DTSTART;TZID=America/New_York:20300627T113000
DTEND;TZID=America/New_York:20300627T133000
DTSTAMP:20260423T050807
CREATED:20260418T145256Z
LAST-MODIFIED:20260418T145321Z
UID:10004357-1908790200-1908797400@rochesterfbc.org
SUMMARY:OWLS - Older Wiser Learning Seniors
DESCRIPTION:Programs details to come \n  \n 
URL:https://rochesterfbc.org/event/owls-older-wiser-learning-seniors-may-2-2/2030-06-27/
END:VEVENT
BEGIN:VEVENT
DTSTART;TZID=America/New_York:20300630T094000
DTEND;TZID=America/New_York:20300630T120000
DTSTAMP:20260423T050807
CREATED:20260408T215334Z
LAST-MODIFIED:20260408T215336Z
UID:10004051-1909042800-1909051200@rochesterfbc.org
SUMMARY:Nursery Open
DESCRIPTION:Each week between 9:40 AM and ~12:00 PM\, our nursery will be open for children birth to Pre-K.
URL:https://rochesterfbc.org/event/nursery-opens-2/2030-06-30/
END:VEVENT
BEGIN:VEVENT
DTSTART;TZID=America/New_York:20300630T103500
DTEND;TZID=America/New_York:20300630T113000
DTSTAMP:20260423T050807
CREATED:20260418T151533Z
LAST-MODIFIED:20260418T151644Z
UID:10004540-1909046100-1909049400@rochesterfbc.org
SUMMARY:Fifth Sunday Mission Project
DESCRIPTION:On Fifth Sundays\, First Rochester works together at the end of a shortened worship service in some way to benefit a local non-profit organization.  I the past we have packed kits for Church World Service\, assembled both snack kits and hygiene kits for Cameron Community Ministries and we have packed Street Ministry hygiene kits for House of Mercy.
URL:https://rochesterfbc.org/event/fifth-sunday-mission-project/2030-06-30/
END:VEVENT
BEGIN:VEVENT
DTSTART;TZID=America/New_York:20300704T113000
DTEND;TZID=America/New_York:20300704T133000
DTSTAMP:20260423T050807
CREATED:20260418T145256Z
LAST-MODIFIED:20260418T145321Z
UID:10004358-1909395000-1909402200@rochesterfbc.org
SUMMARY:OWLS - Older Wiser Learning Seniors
DESCRIPTION:Programs details to come \n  \n 
URL:https://rochesterfbc.org/event/owls-older-wiser-learning-seniors-may-2-2/2030-07-04/
END:VEVENT
BEGIN:VEVENT
DTSTART;VALUE=DATE:20300707
DTEND;VALUE=DATE:20300709
DTSTAMP:20260423T050807
CREATED:20260418T152350Z
LAST-MODIFIED:20260418T152544Z
UID:10004595-1909616400-1909702799@rochesterfbc.org
SUMMARY:Communion Sunday
DESCRIPTION:
URL:https://rochesterfbc.org/event/communion-sunday/2030-07-07/
END:VEVENT
BEGIN:VEVENT
DTSTART;TZID=America/New_York:20300707T094000
DTEND;TZID=America/New_York:20300707T120000
DTSTAMP:20260423T050807
CREATED:20260408T215334Z
LAST-MODIFIED:20260408T215336Z
UID:10004052-1909647600-1909656000@rochesterfbc.org
SUMMARY:Nursery Open
DESCRIPTION:Each week between 9:40 AM and ~12:00 PM\, our nursery will be open for children birth to Pre-K.
URL:https://rochesterfbc.org/event/nursery-opens-2/2030-07-07/
END:VEVENT
BEGIN:VEVENT
DTSTART;TZID=America/New_York:20300711T113000
DTEND;TZID=America/New_York:20300711T133000
DTSTAMP:20260423T050807
CREATED:20260418T145256Z
LAST-MODIFIED:20260418T145321Z
UID:10004359-1909999800-1910007000@rochesterfbc.org
SUMMARY:OWLS - Older Wiser Learning Seniors
DESCRIPTION:Programs details to come \n  \n 
URL:https://rochesterfbc.org/event/owls-older-wiser-learning-seniors-may-2-2/2030-07-11/
END:VEVENT
BEGIN:VEVENT
DTSTART;TZID=America/New_York:20300714T094000
DTEND;TZID=America/New_York:20300714T120000
DTSTAMP:20260423T050807
CREATED:20260408T215334Z
LAST-MODIFIED:20260408T215336Z
UID:10004053-1910252400-1910260800@rochesterfbc.org
SUMMARY:Nursery Open
DESCRIPTION:Each week between 9:40 AM and ~12:00 PM\, our nursery will be open for children birth to Pre-K.
URL:https://rochesterfbc.org/event/nursery-opens-2/2030-07-14/
END:VEVENT
BEGIN:VEVENT
DTSTART;TZID=America/New_York:20300715T180000
DTEND;TZID=America/New_York:20300715T190000
DTSTAMP:20260423T050807
CREATED:20230825T233604Z
LAST-MODIFIED:20240106T135849Z
UID:10003470-1910368800-1910372400@rochesterfbc.org
SUMMARY:Trustees Mtg.
DESCRIPTION:The Board of Trustee which oversee the campus and financies of the church meet monthly on the Third Monday.
URL:https://rochesterfbc.org/event/trustees-mtg/2030-07-15/
ATTACH;FMTTYPE=image/jpeg:https://rochesterfbc.org/wp-content/uploads/2023/08/calculator.jpg
END:VEVENT
BEGIN:VEVENT
DTSTART;TZID=America/New_York:20300716T180000
DTEND;TZID=America/New_York:20300716T193000
DTSTAMP:20260423T050807
CREATED:20250622T172005Z
LAST-MODIFIED:20250622T172120Z
UID:10003311-1910455200-1910460600@rochesterfbc.org
SUMMARY:Church Council
DESCRIPTION:The leadership of the church meet on the third Tuesday of the month to share the work of their groups\, special iniatives\, and to vote on various happenings of the church. The council meetings are open to all. If you have a topic you would like to discuss\, please reach out to the church office so that you can be placed on the agenda.
URL:https://rochesterfbc.org/event/church-council-2-3-2/2030-07-16/
ATTACH;FMTTYPE=image/jpeg:https://rochesterfbc.org/wp-content/uploads/2023/08/Church-Council.jpg
END:VEVENT
BEGIN:VEVENT
DTSTART;TZID=America/New_York:20300718T113000
DTEND;TZID=America/New_York:20300718T133000
DTSTAMP:20260423T050807
CREATED:20260418T145256Z
LAST-MODIFIED:20260418T145321Z
UID:10004360-1910604600-1910611800@rochesterfbc.org
SUMMARY:OWLS - Older Wiser Learning Seniors
DESCRIPTION:Programs details to come \n  \n 
URL:https://rochesterfbc.org/event/owls-older-wiser-learning-seniors-may-2-2/2030-07-18/
END:VEVENT
BEGIN:VEVENT
DTSTART;TZID=America/New_York:20300721T094000
DTEND;TZID=America/New_York:20300721T120000
DTSTAMP:20260423T050807
CREATED:20260408T215334Z
LAST-MODIFIED:20260408T215336Z
UID:10004054-1910857200-1910865600@rochesterfbc.org
SUMMARY:Nursery Open
DESCRIPTION:Each week between 9:40 AM and ~12:00 PM\, our nursery will be open for children birth to Pre-K.
URL:https://rochesterfbc.org/event/nursery-opens-2/2030-07-21/
END:VEVENT
END:VCALENDAR