BEGIN:VCALENDAR
VERSION:2.0
PRODID:-//First Rochester - ECPv6.15.20//NONSGML v1.0//EN
CALSCALE:GREGORIAN
METHOD:PUBLISH
X-WR-CALNAME:First Rochester
X-ORIGINAL-URL:https://rochesterfbc.org
X-WR-CALDESC:Events for First Rochester
REFRESH-INTERVAL;VALUE=DURATION:PT1H
X-Robots-Tag:noindex
X-PUBLISHED-TTL:PT1H
BEGIN:VTIMEZONE
TZID:America/New_York
BEGIN:DAYLIGHT
TZOFFSETFROM:-0500
TZOFFSETTO:-0400
TZNAME:EDT
DTSTART:20290311T070000
END:DAYLIGHT
BEGIN:STANDARD
TZOFFSETFROM:-0400
TZOFFSETTO:-0500
TZNAME:EST
DTSTART:20291104T060000
END:STANDARD
BEGIN:DAYLIGHT
TZOFFSETFROM:-0500
TZOFFSETTO:-0400
TZNAME:EDT
DTSTART:20300310T070000
END:DAYLIGHT
BEGIN:STANDARD
TZOFFSETFROM:-0400
TZOFFSETTO:-0500
TZNAME:EST
DTSTART:20301103T060000
END:STANDARD
BEGIN:DAYLIGHT
TZOFFSETFROM:-0500
TZOFFSETTO:-0400
TZNAME:EDT
DTSTART:20310309T070000
END:DAYLIGHT
BEGIN:STANDARD
TZOFFSETFROM:-0400
TZOFFSETTO:-0500
TZNAME:EST
DTSTART:20311102T060000
END:STANDARD
BEGIN:DAYLIGHT
TZOFFSETFROM:-0500
TZOFFSETTO:-0400
TZNAME:EDT
DTSTART:20320314T070000
END:DAYLIGHT
BEGIN:STANDARD
TZOFFSETFROM:-0400
TZOFFSETTO:-0500
TZNAME:EST
DTSTART:20321107T060000
END:STANDARD
END:VTIMEZONE
BEGIN:VEVENT
DTSTART;TZID=America/New_York:20301222T094000
DTEND;TZID=America/New_York:20301222T120000
DTSTAMP:20260423T203622
CREATED:20260408T215334Z
LAST-MODIFIED:20260408T215336Z
UID:10004076-1924162800-1924171200@rochesterfbc.org
SUMMARY:Nursery Open
DESCRIPTION:Each week between 9:40 AM and ~12:00 PM\, our nursery will be open for children birth to Pre-K.
URL:https://rochesterfbc.org/event/nursery-opens-2/2030-12-22/
END:VEVENT
BEGIN:VEVENT
DTSTART;TZID=America/New_York:20301224T113000
DTEND;TZID=America/New_York:20301224T133000
DTSTAMP:20260423T203622
CREATED:20260110T160103Z
LAST-MODIFIED:20260110T160103Z
UID:10003763-1924342200-1924349400@rochesterfbc.org
SUMMARY:FBCR Book Club
DESCRIPTION:The Book Club meets\, generally on the 4th Tuesday of the month\, at 11:30 AM for a BYOB lunch (beverages provided) and fellowship with a discussion of each month’s book at noon.  It concludes at 1:30 PM. \nThe book of the month is choosen at that meeting for the next month\, or shortly thereafter if availablility at local librarys need to take place. \nOccasional date changes do happen by concensus of participants.
URL:https://rochesterfbc.org/event/fbcr-book-club-6/2030-12-24/
END:VEVENT
BEGIN:VEVENT
DTSTART;TZID=America/New_York:20301226T113000
DTEND;TZID=America/New_York:20301226T133000
DTSTAMP:20260423T203622
CREATED:20260418T145256Z
LAST-MODIFIED:20260418T145321Z
UID:10004383-1924515000-1924522200@rochesterfbc.org
SUMMARY:OWLS - Older Wiser Learning Seniors
DESCRIPTION:Programs details to come \n  \n 
URL:https://rochesterfbc.org/event/owls-older-wiser-learning-seniors-may-2-2/2030-12-26/
END:VEVENT
BEGIN:VEVENT
DTSTART;TZID=America/New_York:20301229T094000
DTEND;TZID=America/New_York:20301229T120000
DTSTAMP:20260423T203622
CREATED:20260408T215334Z
LAST-MODIFIED:20260408T215336Z
UID:10004077-1924767600-1924776000@rochesterfbc.org
SUMMARY:Nursery Open
DESCRIPTION:Each week between 9:40 AM and ~12:00 PM\, our nursery will be open for children birth to Pre-K.
URL:https://rochesterfbc.org/event/nursery-opens-2/2030-12-29/
END:VEVENT
BEGIN:VEVENT
DTSTART;TZID=America/New_York:20301229T103500
DTEND;TZID=America/New_York:20301229T113000
DTSTAMP:20260423T203622
CREATED:20260418T151533Z
LAST-MODIFIED:20260418T151644Z
UID:10004542-1924770900-1924774200@rochesterfbc.org
SUMMARY:Fifth Sunday Mission Project
DESCRIPTION:On Fifth Sundays\, First Rochester works together at the end of a shortened worship service in some way to benefit a local non-profit organization.  I the past we have packed kits for Church World Service\, assembled both snack kits and hygiene kits for Cameron Community Ministries and we have packed Street Ministry hygiene kits for House of Mercy.
URL:https://rochesterfbc.org/event/fifth-sunday-mission-project/2030-12-29/
END:VEVENT
BEGIN:VEVENT
DTSTART;TZID=America/New_York:20310102T113000
DTEND;TZID=America/New_York:20310102T133000
DTSTAMP:20260423T203622
CREATED:20260418T145256Z
LAST-MODIFIED:20260418T145321Z
UID:10004384-1925119800-1925127000@rochesterfbc.org
SUMMARY:OWLS - Older Wiser Learning Seniors
DESCRIPTION:Programs details to come \n  \n 
URL:https://rochesterfbc.org/event/owls-older-wiser-learning-seniors-may-2-2/2031-01-02/
END:VEVENT
BEGIN:VEVENT
DTSTART;VALUE=DATE:20310105
DTEND;VALUE=DATE:20310107
DTSTAMP:20260423T203622
CREATED:20260418T152350Z
LAST-MODIFIED:20260418T152544Z
UID:10004601-1925341200-1925427599@rochesterfbc.org
SUMMARY:Communion Sunday
DESCRIPTION:
URL:https://rochesterfbc.org/event/communion-sunday/2031-01-05/
END:VEVENT
BEGIN:VEVENT
DTSTART;TZID=America/New_York:20310105T094000
DTEND;TZID=America/New_York:20310105T120000
DTSTAMP:20260423T203622
CREATED:20260408T215334Z
LAST-MODIFIED:20260408T215336Z
UID:10004078-1925372400-1925380800@rochesterfbc.org
SUMMARY:Nursery Open
DESCRIPTION:Each week between 9:40 AM and ~12:00 PM\, our nursery will be open for children birth to Pre-K.
URL:https://rochesterfbc.org/event/nursery-opens-2/2031-01-05/
END:VEVENT
BEGIN:VEVENT
DTSTART;TZID=America/New_York:20310109T113000
DTEND;TZID=America/New_York:20310109T133000
DTSTAMP:20260423T203622
CREATED:20260418T145256Z
LAST-MODIFIED:20260418T145321Z
UID:10004385-1925724600-1925731800@rochesterfbc.org
SUMMARY:OWLS - Older Wiser Learning Seniors
DESCRIPTION:Programs details to come \n  \n 
URL:https://rochesterfbc.org/event/owls-older-wiser-learning-seniors-may-2-2/2031-01-09/
END:VEVENT
BEGIN:VEVENT
DTSTART;TZID=America/New_York:20310112T094000
DTEND;TZID=America/New_York:20310112T120000
DTSTAMP:20260423T203622
CREATED:20260408T215334Z
LAST-MODIFIED:20260408T215336Z
UID:10004079-1925977200-1925985600@rochesterfbc.org
SUMMARY:Nursery Open
DESCRIPTION:Each week between 9:40 AM and ~12:00 PM\, our nursery will be open for children birth to Pre-K.
URL:https://rochesterfbc.org/event/nursery-opens-2/2031-01-12/
END:VEVENT
BEGIN:VEVENT
DTSTART;TZID=America/New_York:20310116T113000
DTEND;TZID=America/New_York:20310116T133000
DTSTAMP:20260423T203622
CREATED:20260418T145256Z
LAST-MODIFIED:20260418T145321Z
UID:10004386-1926329400-1926336600@rochesterfbc.org
SUMMARY:OWLS - Older Wiser Learning Seniors
DESCRIPTION:Programs details to come \n  \n 
URL:https://rochesterfbc.org/event/owls-older-wiser-learning-seniors-may-2-2/2031-01-16/
END:VEVENT
BEGIN:VEVENT
DTSTART;TZID=America/New_York:20310119T094000
DTEND;TZID=America/New_York:20310119T120000
DTSTAMP:20260423T203622
CREATED:20260408T215334Z
LAST-MODIFIED:20260408T215336Z
UID:10004080-1926582000-1926590400@rochesterfbc.org
SUMMARY:Nursery Open
DESCRIPTION:Each week between 9:40 AM and ~12:00 PM\, our nursery will be open for children birth to Pre-K.
URL:https://rochesterfbc.org/event/nursery-opens-2/2031-01-19/
END:VEVENT
BEGIN:VEVENT
DTSTART;TZID=America/New_York:20310119T113000
DTEND;TZID=America/New_York:20310119T121000
DTSTAMP:20260423T203622
CREATED:20260418T150335Z
LAST-MODIFIED:20260418T150516Z
UID:10004462-1926588600-1926591000@rochesterfbc.org
SUMMARY:Mission Meeting
DESCRIPTION:Join our Mission Team in the library after a brief time of Fellowship in the Garden Room.  They will discuss and plan various local mission intiatives for First Rochester to engage with the community.  They also determine support for strategic Associations as well as our International Ministries focus\, Lance and Christiana Muteyo.
URL:https://rochesterfbc.org/event/mission-meeting-3/2031-01-19/
END:VEVENT
BEGIN:VEVENT
DTSTART;TZID=America/New_York:20310123T113000
DTEND;TZID=America/New_York:20310123T133000
DTSTAMP:20260423T203622
CREATED:20260418T145256Z
LAST-MODIFIED:20260418T145321Z
UID:10004387-1926934200-1926941400@rochesterfbc.org
SUMMARY:OWLS - Older Wiser Learning Seniors
DESCRIPTION:Programs details to come \n  \n 
URL:https://rochesterfbc.org/event/owls-older-wiser-learning-seniors-may-2-2/2031-01-23/
END:VEVENT
BEGIN:VEVENT
DTSTART;TZID=America/New_York:20310126T094000
DTEND;TZID=America/New_York:20310126T120000
DTSTAMP:20260423T203622
CREATED:20260408T215334Z
LAST-MODIFIED:20260408T215336Z
UID:10004081-1927186800-1927195200@rochesterfbc.org
SUMMARY:Nursery Open
DESCRIPTION:Each week between 9:40 AM and ~12:00 PM\, our nursery will be open for children birth to Pre-K.
URL:https://rochesterfbc.org/event/nursery-opens-2/2031-01-26/
END:VEVENT
BEGIN:VEVENT
DTSTART;TZID=America/New_York:20310130T113000
DTEND;TZID=America/New_York:20310130T133000
DTSTAMP:20260423T203622
CREATED:20260418T145256Z
LAST-MODIFIED:20260418T145321Z
UID:10004388-1927539000-1927546200@rochesterfbc.org
SUMMARY:OWLS - Older Wiser Learning Seniors
DESCRIPTION:Programs details to come \n  \n 
URL:https://rochesterfbc.org/event/owls-older-wiser-learning-seniors-may-2-2/2031-01-30/
END:VEVENT
BEGIN:VEVENT
DTSTART;VALUE=DATE:20310202
DTEND;VALUE=DATE:20310204
DTSTAMP:20260423T203622
CREATED:20260418T152350Z
LAST-MODIFIED:20260418T152544Z
UID:10004602-1927760400-1927846799@rochesterfbc.org
SUMMARY:Communion Sunday
DESCRIPTION:
URL:https://rochesterfbc.org/event/communion-sunday/2031-02-02/
END:VEVENT
BEGIN:VEVENT
DTSTART;TZID=America/New_York:20310202T094000
DTEND;TZID=America/New_York:20310202T120000
DTSTAMP:20260423T203622
CREATED:20260408T215334Z
LAST-MODIFIED:20260408T215336Z
UID:10004082-1927791600-1927800000@rochesterfbc.org
SUMMARY:Nursery Open
DESCRIPTION:Each week between 9:40 AM and ~12:00 PM\, our nursery will be open for children birth to Pre-K.
URL:https://rochesterfbc.org/event/nursery-opens-2/2031-02-02/
END:VEVENT
BEGIN:VEVENT
DTSTART;TZID=America/New_York:20310206T113000
DTEND;TZID=America/New_York:20310206T133000
DTSTAMP:20260423T203622
CREATED:20260418T145256Z
LAST-MODIFIED:20260418T145321Z
UID:10004389-1928143800-1928151000@rochesterfbc.org
SUMMARY:OWLS - Older Wiser Learning Seniors
DESCRIPTION:Programs details to come \n  \n 
URL:https://rochesterfbc.org/event/owls-older-wiser-learning-seniors-may-2-2/2031-02-06/
END:VEVENT
BEGIN:VEVENT
DTSTART;TZID=America/New_York:20310209T094000
DTEND;TZID=America/New_York:20310209T120000
DTSTAMP:20260423T203622
CREATED:20260408T215334Z
LAST-MODIFIED:20260408T215336Z
UID:10004083-1928396400-1928404800@rochesterfbc.org
SUMMARY:Nursery Open
DESCRIPTION:Each week between 9:40 AM and ~12:00 PM\, our nursery will be open for children birth to Pre-K.
URL:https://rochesterfbc.org/event/nursery-opens-2/2031-02-09/
END:VEVENT
BEGIN:VEVENT
DTSTART;TZID=America/New_York:20310213T113000
DTEND;TZID=America/New_York:20310213T133000
DTSTAMP:20260423T203622
CREATED:20260418T145256Z
LAST-MODIFIED:20260418T145321Z
UID:10004390-1928748600-1928755800@rochesterfbc.org
SUMMARY:OWLS - Older Wiser Learning Seniors
DESCRIPTION:Programs details to come \n  \n 
URL:https://rochesterfbc.org/event/owls-older-wiser-learning-seniors-may-2-2/2031-02-13/
END:VEVENT
BEGIN:VEVENT
DTSTART;TZID=America/New_York:20310216T094000
DTEND;TZID=America/New_York:20310216T120000
DTSTAMP:20260423T203622
CREATED:20260408T215334Z
LAST-MODIFIED:20260408T215336Z
UID:10004084-1929001200-1929009600@rochesterfbc.org
SUMMARY:Nursery Open
DESCRIPTION:Each week between 9:40 AM and ~12:00 PM\, our nursery will be open for children birth to Pre-K.
URL:https://rochesterfbc.org/event/nursery-opens-2/2031-02-16/
END:VEVENT
BEGIN:VEVENT
DTSTART;TZID=America/New_York:20310216T113000
DTEND;TZID=America/New_York:20310216T121000
DTSTAMP:20260423T203622
CREATED:20260418T150335Z
LAST-MODIFIED:20260418T150516Z
UID:10004463-1929007800-1929010200@rochesterfbc.org
SUMMARY:Mission Meeting
DESCRIPTION:Join our Mission Team in the library after a brief time of Fellowship in the Garden Room.  They will discuss and plan various local mission intiatives for First Rochester to engage with the community.  They also determine support for strategic Associations as well as our International Ministries focus\, Lance and Christiana Muteyo.
URL:https://rochesterfbc.org/event/mission-meeting-3/2031-02-16/
END:VEVENT
BEGIN:VEVENT
DTSTART;TZID=America/New_York:20310220T113000
DTEND;TZID=America/New_York:20310220T133000
DTSTAMP:20260423T203622
CREATED:20260418T145256Z
LAST-MODIFIED:20260418T145321Z
UID:10004391-1929353400-1929360600@rochesterfbc.org
SUMMARY:OWLS - Older Wiser Learning Seniors
DESCRIPTION:Programs details to come \n  \n 
URL:https://rochesterfbc.org/event/owls-older-wiser-learning-seniors-may-2-2/2031-02-20/
END:VEVENT
BEGIN:VEVENT
DTSTART;TZID=America/New_York:20310223T094000
DTEND;TZID=America/New_York:20310223T120000
DTSTAMP:20260423T203622
CREATED:20260408T215334Z
LAST-MODIFIED:20260408T215336Z
UID:10004085-1929606000-1929614400@rochesterfbc.org
SUMMARY:Nursery Open
DESCRIPTION:Each week between 9:40 AM and ~12:00 PM\, our nursery will be open for children birth to Pre-K.
URL:https://rochesterfbc.org/event/nursery-opens-2/2031-02-23/
END:VEVENT
BEGIN:VEVENT
DTSTART;TZID=America/New_York:20310227T113000
DTEND;TZID=America/New_York:20310227T133000
DTSTAMP:20260423T203622
CREATED:20260418T145256Z
LAST-MODIFIED:20260418T145321Z
UID:10004392-1929958200-1929965400@rochesterfbc.org
SUMMARY:OWLS - Older Wiser Learning Seniors
DESCRIPTION:Programs details to come \n  \n 
URL:https://rochesterfbc.org/event/owls-older-wiser-learning-seniors-may-2-2/2031-02-27/
END:VEVENT
BEGIN:VEVENT
DTSTART;VALUE=DATE:20310302
DTEND;VALUE=DATE:20310304
DTSTAMP:20260423T203622
CREATED:20260418T152350Z
LAST-MODIFIED:20260418T152544Z
UID:10004603-1930179600-1930265999@rochesterfbc.org
SUMMARY:Communion Sunday
DESCRIPTION:
URL:https://rochesterfbc.org/event/communion-sunday/2031-03-02/
END:VEVENT
BEGIN:VEVENT
DTSTART;TZID=America/New_York:20310302T094000
DTEND;TZID=America/New_York:20310302T120000
DTSTAMP:20260423T203622
CREATED:20260408T215334Z
LAST-MODIFIED:20260408T215336Z
UID:10004086-1930210800-1930219200@rochesterfbc.org
SUMMARY:Nursery Open
DESCRIPTION:Each week between 9:40 AM and ~12:00 PM\, our nursery will be open for children birth to Pre-K.
URL:https://rochesterfbc.org/event/nursery-opens-2/2031-03-02/
END:VEVENT
BEGIN:VEVENT
DTSTART;TZID=America/New_York:20310306T113000
DTEND;TZID=America/New_York:20310306T133000
DTSTAMP:20260423T203622
CREATED:20260418T145256Z
LAST-MODIFIED:20260418T145321Z
UID:10004393-1930563000-1930570200@rochesterfbc.org
SUMMARY:OWLS - Older Wiser Learning Seniors
DESCRIPTION:Programs details to come \n  \n 
URL:https://rochesterfbc.org/event/owls-older-wiser-learning-seniors-may-2-2/2031-03-06/
END:VEVENT
BEGIN:VEVENT
DTSTART;TZID=America/New_York:20310309T094000
DTEND;TZID=America/New_York:20310309T120000
DTSTAMP:20260423T203622
CREATED:20260408T215334Z
LAST-MODIFIED:20260408T215336Z
UID:10004087-1930815600-1930824000@rochesterfbc.org
SUMMARY:Nursery Open
DESCRIPTION:Each week between 9:40 AM and ~12:00 PM\, our nursery will be open for children birth to Pre-K.
URL:https://rochesterfbc.org/event/nursery-opens-2/2031-03-09/
END:VEVENT
END:VCALENDAR