BEGIN:VCALENDAR
VERSION:2.0
PRODID:-//First Rochester - ECPv6.15.20//NONSGML v1.0//EN
CALSCALE:GREGORIAN
METHOD:PUBLISH
X-ORIGINAL-URL:https://rochesterfbc.org
X-WR-CALDESC:Events for First Rochester
REFRESH-INTERVAL;VALUE=DURATION:PT1H
X-Robots-Tag:noindex
X-PUBLISHED-TTL:PT1H
BEGIN:VTIMEZONE
TZID:America/New_York
BEGIN:DAYLIGHT
TZOFFSETFROM:-0500
TZOFFSETTO:-0400
TZNAME:EDT
DTSTART:20300310T070000
END:DAYLIGHT
BEGIN:STANDARD
TZOFFSETFROM:-0400
TZOFFSETTO:-0500
TZNAME:EST
DTSTART:20301103T060000
END:STANDARD
BEGIN:DAYLIGHT
TZOFFSETFROM:-0500
TZOFFSETTO:-0400
TZNAME:EDT
DTSTART:20310309T070000
END:DAYLIGHT
BEGIN:STANDARD
TZOFFSETFROM:-0400
TZOFFSETTO:-0500
TZNAME:EST
DTSTART:20311102T060000
END:STANDARD
BEGIN:DAYLIGHT
TZOFFSETFROM:-0500
TZOFFSETTO:-0400
TZNAME:EDT
DTSTART:20320314T070000
END:DAYLIGHT
BEGIN:STANDARD
TZOFFSETFROM:-0400
TZOFFSETTO:-0500
TZNAME:EST
DTSTART:20321107T060000
END:STANDARD
END:VTIMEZONE
BEGIN:VEVENT
DTSTART;TZID=America/New_York:20310403T113000
DTEND;TZID=America/New_York:20310403T133000
DTSTAMP:20260424T051534
CREATED:20260418T145256Z
LAST-MODIFIED:20260418T145321Z
UID:10004397-1932982200-1932989400@rochesterfbc.org
SUMMARY:OWLS - Older Wiser Learning Seniors
DESCRIPTION:Programs details to come \n  \n 
URL:https://rochesterfbc.org/event/owls-older-wiser-learning-seniors-may-2-2/2031-04-03/
END:VEVENT
BEGIN:VEVENT
DTSTART;VALUE=DATE:20310406
DTEND;VALUE=DATE:20310408
DTSTAMP:20260424T051534
CREATED:20260418T152350Z
LAST-MODIFIED:20260418T152544Z
UID:10004604-1933203600-1933289999@rochesterfbc.org
SUMMARY:Communion Sunday
DESCRIPTION:
URL:https://rochesterfbc.org/event/communion-sunday/2031-04-06/
END:VEVENT
BEGIN:VEVENT
DTSTART;TZID=America/New_York:20310406T094000
DTEND;TZID=America/New_York:20310406T120000
DTSTAMP:20260424T051534
CREATED:20260408T215334Z
LAST-MODIFIED:20260408T215336Z
UID:10004091-1933234800-1933243200@rochesterfbc.org
SUMMARY:Nursery Open
DESCRIPTION:Each week between 9:40 AM and ~12:00 PM\, our nursery will be open for children birth to Pre-K.
URL:https://rochesterfbc.org/event/nursery-opens-2/2031-04-06/
END:VEVENT
BEGIN:VEVENT
DTSTART;TZID=America/New_York:20310410T113000
DTEND;TZID=America/New_York:20310410T133000
DTSTAMP:20260424T051534
CREATED:20260418T145256Z
LAST-MODIFIED:20260418T145321Z
UID:10004398-1933587000-1933594200@rochesterfbc.org
SUMMARY:OWLS - Older Wiser Learning Seniors
DESCRIPTION:Programs details to come \n  \n 
URL:https://rochesterfbc.org/event/owls-older-wiser-learning-seniors-may-2-2/2031-04-10/
END:VEVENT
BEGIN:VEVENT
DTSTART;TZID=America/New_York:20310417T113000
DTEND;TZID=America/New_York:20310417T133000
DTSTAMP:20260424T051534
CREATED:20260418T145256Z
LAST-MODIFIED:20260418T145321Z
UID:10004399-1934191800-1934199000@rochesterfbc.org
SUMMARY:OWLS - Older Wiser Learning Seniors
DESCRIPTION:Programs details to come \n  \n 
URL:https://rochesterfbc.org/event/owls-older-wiser-learning-seniors-may-2-2/2031-04-17/
END:VEVENT
END:VCALENDAR