BEGIN:VCALENDAR
VERSION:2.0
PRODID:-//First Rochester - ECPv6.15.20//NONSGML v1.0//EN
CALSCALE:GREGORIAN
METHOD:PUBLISH
X-WR-CALNAME:First Rochester
X-ORIGINAL-URL:https://rochesterfbc.org
X-WR-CALDESC:Events for First Rochester
REFRESH-INTERVAL;VALUE=DURATION:PT1H
X-Robots-Tag:noindex
X-PUBLISHED-TTL:PT1H
BEGIN:VTIMEZONE
TZID:America/New_York
BEGIN:DAYLIGHT
TZOFFSETFROM:-0500
TZOFFSETTO:-0400
TZNAME:EDT
DTSTART:20220313T070000
END:DAYLIGHT
BEGIN:STANDARD
TZOFFSETFROM:-0400
TZOFFSETTO:-0500
TZNAME:EST
DTSTART:20221106T060000
END:STANDARD
BEGIN:DAYLIGHT
TZOFFSETFROM:-0500
TZOFFSETTO:-0400
TZNAME:EDT
DTSTART:20230312T070000
END:DAYLIGHT
BEGIN:STANDARD
TZOFFSETFROM:-0400
TZOFFSETTO:-0500
TZNAME:EST
DTSTART:20231105T060000
END:STANDARD
BEGIN:DAYLIGHT
TZOFFSETFROM:-0500
TZOFFSETTO:-0400
TZNAME:EDT
DTSTART:20240310T070000
END:DAYLIGHT
BEGIN:STANDARD
TZOFFSETFROM:-0400
TZOFFSETTO:-0500
TZNAME:EST
DTSTART:20241103T060000
END:STANDARD
END:VTIMEZONE
BEGIN:VEVENT
DTSTART;TZID=America/New_York:20231224T103000
DTEND;TZID=America/New_York:20231224T120000
DTSTAMP:20260419T135717
CREATED:20230825T231327Z
LAST-MODIFIED:20240406T175239Z
UID:10000242-1703413800-1703419200@rochesterfbc.org
SUMMARY:Children's Programs
DESCRIPTION:Our children will begin in worship and depart after Children’s Time for Sunday School from around 10:30 am to 11:15 am. The will then sing and play instruments during Children’s Choir from 11:15 am to 12:00 pm most Sundays. (Exceptions may be made for various children’s or all church events.)
URL:https://rochesterfbc.org/event/childrens-programs/2023-12-24/
END:VEVENT
BEGIN:VEVENT
DTSTART;TZID=America/New_York:20231224T100000
DTEND;TZID=America/New_York:20231224T110000
DTSTAMP:20260419T135717
CREATED:20231018T134836Z
LAST-MODIFIED:20231018T135045Z
UID:10000598-1703412000-1703415600@rochesterfbc.org
SUMMARY:No Morning Service
DESCRIPTION:We will be having a combined Advent IV and Christmas Eve Candlelight Service at 4 PM this afternoon. No morning service.
URL:https://rochesterfbc.org/event/advent-iv/
END:VEVENT
BEGIN:VEVENT
DTSTART;VALUE=DATE:20231224
DTEND;VALUE=DATE:20231226
DTSTAMP:20260419T135717
CREATED:20231018T135452Z
LAST-MODIFIED:20231018T140452Z
UID:10000599-1703379600-1703465999@rochesterfbc.org
SUMMARY:Christmas Eve
DESCRIPTION:We will hold a special Christmas Eve Candlelight Service at 4:00 PM on Christmas Eve.  This will be a combined service with Advent iV\, there will be no morning worship service.
URL:https://rochesterfbc.org/event/christmas-eve-candlelight/
END:VEVENT
BEGIN:VEVENT
DTSTART;TZID=America/New_York:20231220T173000
DTEND;TZID=America/New_York:20231220T180000
DTSTAMP:20260419T135717
CREATED:20230825T222256Z
LAST-MODIFIED:20240921T150436Z
UID:10000540-1703093400-1703095200@rochesterfbc.org
SUMMARY:Wednesday Check-in
DESCRIPTION:Anyone who wishes may join us for a time together as we check-in with others on zoom throughout the year.
URL:https://rochesterfbc.org/event/wednesday-zoom-check-in/2023-12-20/
ATTACH;FMTTYPE=image/jpeg:https://rochesterfbc.org/wp-content/uploads/2023/08/Zoom-Connect.jpg
END:VEVENT
BEGIN:VEVENT
DTSTART;TZID=America/New_York:20231219T180000
DTEND;TZID=America/New_York:20231219T193000
DTSTAMP:20260419T135717
CREATED:20230825T234450Z
LAST-MODIFIED:20240106T140118Z
UID:10000702-1703008800-1703014200@rochesterfbc.org
SUMMARY:Church Council
DESCRIPTION:The leadership of the church meet on the third Tuesday of the month to share the work of their groups\, special iniatives\, and to vote on various happenings of the church. The council meetings are open to all. If you have a topic you would like to discuss\, please reach out to the church office so that you can be placed on the agenda.
URL:https://rochesterfbc.org/event/church-council/2023-12-19/
ATTACH;FMTTYPE=image/jpeg:https://rochesterfbc.org/wp-content/uploads/2023/08/Church-Council.jpg
END:VEVENT
BEGIN:VEVENT
DTSTART;TZID=America/New_York:20231218T180000
DTEND;TZID=America/New_York:20231218T190000
DTSTAMP:20260419T135717
CREATED:20230825T233604Z
LAST-MODIFIED:20240106T135849Z
UID:10000638-1702922400-1702926000@rochesterfbc.org
SUMMARY:Trustees Mtg.
DESCRIPTION:The Board of Trustee which oversee the campus and financies of the church meet monthly on the Third Monday.
URL:https://rochesterfbc.org/event/trustees-mtg/2023-12-18/
ATTACH;FMTTYPE=image/jpeg:https://rochesterfbc.org/wp-content/uploads/2023/08/calculator.jpg
END:VEVENT
BEGIN:VEVENT
DTSTART;TZID=America/New_York:20231217T110000
DTEND;TZID=America/New_York:20231217T232000
DTSTAMP:20260419T135717
CREATED:20230825T232322Z
LAST-MODIFIED:20230825T232322Z
UID:10000294-1702810800-1702855200@rochesterfbc.org
SUMMARY:Community Time
DESCRIPTION:Following worship we gather in the Garden Room\, adjacent to the sanctuary for a time of coffee\, tea\, lemondae or other beverage and usually a treat. It is a time to get to know one another better\, catch up\, and share our lives with one another.
URL:https://rochesterfbc.org/event/community-time/2023-12-17/
END:VEVENT
BEGIN:VEVENT
DTSTART;TZID=America/New_York:20231217T103000
DTEND;TZID=America/New_York:20231217T120000
DTSTAMP:20260419T135717
CREATED:20230825T231327Z
LAST-MODIFIED:20240406T175239Z
UID:10000241-1702809000-1702814400@rochesterfbc.org
SUMMARY:Children's Programs
DESCRIPTION:Our children will begin in worship and depart after Children’s Time for Sunday School from around 10:30 am to 11:15 am. The will then sing and play instruments during Children’s Choir from 11:15 am to 12:00 pm most Sundays. (Exceptions may be made for various children’s or all church events.)
URL:https://rochesterfbc.org/event/childrens-programs/2023-12-17/
END:VEVENT
BEGIN:VEVENT
DTSTART;TZID=America/New_York:20231217T100000
DTEND;TZID=America/New_York:20231217T110000
DTSTAMP:20260419T135717
CREATED:20230825T214056Z
LAST-MODIFIED:20230825T224139Z
UID:10000027-1702807200-1702810800@rochesterfbc.org
SUMMARY:Sunday Worship
DESCRIPTION:Join us at 10 AM for worship.  Children’s Programs including instruction and music following the Children’s Time in worship.
URL:https://rochesterfbc.org/event/sunday-worship-3-2/2023-12-17/
ATTACH;FMTTYPE=image/jpeg:https://rochesterfbc.org/wp-content/uploads/2023/08/Cropped-Cross-wide-750x450-1.jpg
END:VEVENT
BEGIN:VEVENT
DTSTART;TZID=America/New_York:20231217T091500
DTEND;TZID=America/New_York:20231217T094500
DTSTAMP:20260419T135717
CREATED:20230825T230531Z
LAST-MODIFIED:20230825T230817Z
UID:10000155-1702804500-1702806300@rochesterfbc.org
SUMMARY:Volunteer Choir Rehearsal
DESCRIPTION:If you would like to join our Volunteer Choir that will sing in worship two Sundays a month\, please contact Henry Griffin\, our music director.  Rehearsal begins on September 10 and will be from 9:15 AM to 9:45 AM on Sunday before worship. Our Section Leaders will assist with the volunteers in their parts.
URL:https://rochesterfbc.org/event/volunteer-choir-rehearsal/2023-12-17/
END:VEVENT
BEGIN:VEVENT
DTSTART;VALUE=DATE:20231217
DTEND;VALUE=DATE:20231219
DTSTAMP:20260419T135717
CREATED:20231018T134750Z
LAST-MODIFIED:20231018T134750Z
UID:10000597-1702774800-1702861199@rochesterfbc.org
SUMMARY:Advent III
DESCRIPTION:
URL:https://rochesterfbc.org/event/advent-iii/
END:VEVENT
BEGIN:VEVENT
DTSTART;VALUE=DATE:20231217
DTEND;VALUE=DATE:20231219
DTSTAMP:20260419T135717
CREATED:20231018T144306Z
LAST-MODIFIED:20231018T140007Z
UID:10000593-1702774800-1702861199@rochesterfbc.org
SUMMARY:Cantata
DESCRIPTION:
URL:https://rochesterfbc.org/event/cantata/
END:VEVENT
BEGIN:VEVENT
DTSTART;TZID=America/New_York:20231213T191500
DTEND;TZID=America/New_York:20231213T203000
DTSTAMP:20260419T135717
CREATED:20231018T134217Z
LAST-MODIFIED:20231018T134217Z
UID:10000592-1702494900-1702499400@rochesterfbc.org
SUMMARY:Cantata Rehearsal
DESCRIPTION:Volunteer Singers\, Section Leaders
URL:https://rochesterfbc.org/event/cantata-rehearsal/
END:VEVENT
BEGIN:VEVENT
DTSTART;TZID=America/New_York:20231213T180000
DTEND;TZID=America/New_York:20231213T190000
DTSTAMP:20260419T135717
CREATED:20230826T002643Z
LAST-MODIFIED:20230826T002745Z
UID:10000374-1702490400-1702494000@rochesterfbc.org
SUMMARY:Wednesday Study
DESCRIPTION:Gathering for study each Wednesday during the program year\, September through mid-June\, we will delve into a variety of topics including scrpture\, a variety of books on various faith or justice topics\, and  other creative study topics.
URL:https://rochesterfbc.org/event/wednesday-study/2023-12-13/
END:VEVENT
BEGIN:VEVENT
DTSTART;TZID=America/New_York:20231213T173000
DTEND;TZID=America/New_York:20231213T180000
DTSTAMP:20260419T135717
CREATED:20230825T222256Z
LAST-MODIFIED:20240921T150436Z
UID:10000539-1702488600-1702490400@rochesterfbc.org
SUMMARY:Wednesday Check-in
DESCRIPTION:Anyone who wishes may join us for a time together as we check-in with others on zoom throughout the year.
URL:https://rochesterfbc.org/event/wednesday-zoom-check-in/2023-12-13/
ATTACH;FMTTYPE=image/jpeg:https://rochesterfbc.org/wp-content/uploads/2023/08/Zoom-Connect.jpg
END:VEVENT
BEGIN:VEVENT
DTSTART;TZID=America/New_York:20231210T110000
DTEND;TZID=America/New_York:20231210T232000
DTSTAMP:20260419T135717
CREATED:20230825T232322Z
LAST-MODIFIED:20230825T232322Z
UID:10000293-1702206000-1702250400@rochesterfbc.org
SUMMARY:Community Time
DESCRIPTION:Following worship we gather in the Garden Room\, adjacent to the sanctuary for a time of coffee\, tea\, lemondae or other beverage and usually a treat. It is a time to get to know one another better\, catch up\, and share our lives with one another.
URL:https://rochesterfbc.org/event/community-time/2023-12-10/
END:VEVENT
BEGIN:VEVENT
DTSTART;TZID=America/New_York:20231210T103000
DTEND;TZID=America/New_York:20231210T120000
DTSTAMP:20260419T135717
CREATED:20230825T231327Z
LAST-MODIFIED:20240406T175239Z
UID:10000240-1702204200-1702209600@rochesterfbc.org
SUMMARY:Children's Programs
DESCRIPTION:Our children will begin in worship and depart after Children’s Time for Sunday School from around 10:30 am to 11:15 am. The will then sing and play instruments during Children’s Choir from 11:15 am to 12:00 pm most Sundays. (Exceptions may be made for various children’s or all church events.)
URL:https://rochesterfbc.org/event/childrens-programs/2023-12-10/
END:VEVENT
BEGIN:VEVENT
DTSTART;TZID=America/New_York:20231210T100000
DTEND;TZID=America/New_York:20231210T110000
DTSTAMP:20260419T135717
CREATED:20230825T214056Z
LAST-MODIFIED:20230825T224139Z
UID:10000026-1702202400-1702206000@rochesterfbc.org
SUMMARY:Sunday Worship
DESCRIPTION:Join us at 10 AM for worship.  Children’s Programs including instruction and music following the Children’s Time in worship.
URL:https://rochesterfbc.org/event/sunday-worship-3-2/2023-12-10/
ATTACH;FMTTYPE=image/jpeg:https://rochesterfbc.org/wp-content/uploads/2023/08/Cropped-Cross-wide-750x450-1.jpg
END:VEVENT
BEGIN:VEVENT
DTSTART;TZID=America/New_York:20231210T091500
DTEND;TZID=America/New_York:20231210T094500
DTSTAMP:20260419T135717
CREATED:20230825T230531Z
LAST-MODIFIED:20230825T230817Z
UID:10000154-1702199700-1702201500@rochesterfbc.org
SUMMARY:Volunteer Choir Rehearsal
DESCRIPTION:If you would like to join our Volunteer Choir that will sing in worship two Sundays a month\, please contact Henry Griffin\, our music director.  Rehearsal begins on September 10 and will be from 9:15 AM to 9:45 AM on Sunday before worship. Our Section Leaders will assist with the volunteers in their parts.
URL:https://rochesterfbc.org/event/volunteer-choir-rehearsal/2023-12-10/
END:VEVENT
BEGIN:VEVENT
DTSTART;VALUE=DATE:20231210
DTEND;VALUE=DATE:20231212
DTSTAMP:20260419T135717
CREATED:20231018T134714Z
LAST-MODIFIED:20231018T140053Z
UID:10000596-1702170000-1702256399@rochesterfbc.org
SUMMARY:Advent II
DESCRIPTION:
URL:https://rochesterfbc.org/event/advent-ii/
END:VEVENT
BEGIN:VEVENT
DTSTART;VALUE=DATE:20231210
DTEND;VALUE=DATE:20231212
DTSTAMP:20260419T135717
CREATED:20231018T134449Z
LAST-MODIFIED:20231018T135129Z
UID:10000594-1702170000-1702256399@rochesterfbc.org
SUMMARY:Pageant
DESCRIPTION:
URL:https://rochesterfbc.org/event/pageant/
END:VEVENT
BEGIN:VEVENT
DTSTART;TZID=America/New_York:20231206T180000
DTEND;TZID=America/New_York:20231206T190000
DTSTAMP:20260419T135717
CREATED:20230826T002643Z
LAST-MODIFIED:20230826T002745Z
UID:10000373-1701885600-1701889200@rochesterfbc.org
SUMMARY:Wednesday Study
DESCRIPTION:Gathering for study each Wednesday during the program year\, September through mid-June\, we will delve into a variety of topics including scrpture\, a variety of books on various faith or justice topics\, and  other creative study topics.
URL:https://rochesterfbc.org/event/wednesday-study/2023-12-06/
END:VEVENT
BEGIN:VEVENT
DTSTART;TZID=America/New_York:20231206T173000
DTEND;TZID=America/New_York:20231206T180000
DTSTAMP:20260419T135717
CREATED:20230825T222256Z
LAST-MODIFIED:20240921T150436Z
UID:10000538-1701883800-1701885600@rochesterfbc.org
SUMMARY:Wednesday Check-in
DESCRIPTION:Anyone who wishes may join us for a time together as we check-in with others on zoom throughout the year.
URL:https://rochesterfbc.org/event/wednesday-zoom-check-in/2023-12-06/
ATTACH;FMTTYPE=image/jpeg:https://rochesterfbc.org/wp-content/uploads/2023/08/Zoom-Connect.jpg
END:VEVENT
BEGIN:VEVENT
DTSTART;TZID=America/New_York:20231203T110000
DTEND;TZID=America/New_York:20231203T232000
DTSTAMP:20260419T135717
CREATED:20230825T232322Z
LAST-MODIFIED:20230825T232322Z
UID:10000292-1701601200-1701645600@rochesterfbc.org
SUMMARY:Community Time
DESCRIPTION:Following worship we gather in the Garden Room\, adjacent to the sanctuary for a time of coffee\, tea\, lemondae or other beverage and usually a treat. It is a time to get to know one another better\, catch up\, and share our lives with one another.
URL:https://rochesterfbc.org/event/community-time/2023-12-03/
END:VEVENT
BEGIN:VEVENT
DTSTART;TZID=America/New_York:20231203T103000
DTEND;TZID=America/New_York:20231203T120000
DTSTAMP:20260419T135717
CREATED:20230825T231327Z
LAST-MODIFIED:20240406T175239Z
UID:10000239-1701599400-1701604800@rochesterfbc.org
SUMMARY:Children's Programs
DESCRIPTION:Our children will begin in worship and depart after Children’s Time for Sunday School from around 10:30 am to 11:15 am. The will then sing and play instruments during Children’s Choir from 11:15 am to 12:00 pm most Sundays. (Exceptions may be made for various children’s or all church events.)
URL:https://rochesterfbc.org/event/childrens-programs/2023-12-03/
END:VEVENT
BEGIN:VEVENT
DTSTART;TZID=America/New_York:20231203T100000
DTEND;TZID=America/New_York:20231203T110000
DTSTAMP:20260419T135717
CREATED:20230825T214056Z
LAST-MODIFIED:20230825T224139Z
UID:10000025-1701597600-1701601200@rochesterfbc.org
SUMMARY:Sunday Worship
DESCRIPTION:Join us at 10 AM for worship.  Children’s Programs including instruction and music following the Children’s Time in worship.
URL:https://rochesterfbc.org/event/sunday-worship-3-2/2023-12-03/
ATTACH;FMTTYPE=image/jpeg:https://rochesterfbc.org/wp-content/uploads/2023/08/Cropped-Cross-wide-750x450-1.jpg
END:VEVENT
BEGIN:VEVENT
DTSTART;TZID=America/New_York:20231203T091500
DTEND;TZID=America/New_York:20231203T094500
DTSTAMP:20260419T135717
CREATED:20230825T230531Z
LAST-MODIFIED:20230825T230817Z
UID:10000153-1701594900-1701596700@rochesterfbc.org
SUMMARY:Volunteer Choir Rehearsal
DESCRIPTION:If you would like to join our Volunteer Choir that will sing in worship two Sundays a month\, please contact Henry Griffin\, our music director.  Rehearsal begins on September 10 and will be from 9:15 AM to 9:45 AM on Sunday before worship. Our Section Leaders will assist with the volunteers in their parts.
URL:https://rochesterfbc.org/event/volunteer-choir-rehearsal/2023-12-03/
END:VEVENT
BEGIN:VEVENT
DTSTART;VALUE=DATE:20231203
DTEND;VALUE=DATE:20231205
DTSTAMP:20260419T135717
CREATED:20231017T132916Z
LAST-MODIFIED:20231018T140151Z
UID:10000589-1701565200-1701651599@rochesterfbc.org
SUMMARY:Handbells Play
DESCRIPTION:Our Handbell Choir will play during worship.
URL:https://rochesterfbc.org/event/handbells-play/
END:VEVENT
BEGIN:VEVENT
DTSTART;VALUE=DATE:20231203
DTEND;VALUE=DATE:20231205
DTSTAMP:20260419T135717
CREATED:20231018T134556Z
LAST-MODIFIED:20231018T134615Z
UID:10000595-1701565200-1701651599@rochesterfbc.org
SUMMARY:Advent I
DESCRIPTION:
URL:https://rochesterfbc.org/event/advent-i/
END:VEVENT
BEGIN:VEVENT
DTSTART;TZID=America/New_York:20231129T191500
DTEND;TZID=America/New_York:20231129T194500
DTSTAMP:20260419T135717
CREATED:20231018T132132Z
LAST-MODIFIED:20231018T132132Z
UID:10000587-1701285300-1701287100@rochesterfbc.org
SUMMARY:Handbell Choir Rehearsal
DESCRIPTION:
URL:https://rochesterfbc.org/event/handbell-choir-rehearsal/2023-11-29/
ATTACH;FMTTYPE=image/jpeg:https://rochesterfbc.org/wp-content/uploads/2023/10/Hanbell-sq.jpg
END:VEVENT
END:VCALENDAR